BEGIN:VCALENDAR
VERSION:2.0
PRODID:-//Living Snoqualmie - ECPv6.2.9//NONSGML v1.0//EN
CALSCALE:GREGORIAN
METHOD:PUBLISH
X-ORIGINAL-URL:https://livingsnoqualmie.com
X-WR-CALDESC:Events for Living Snoqualmie
REFRESH-INTERVAL;VALUE=DURATION:PT1H
X-Robots-Tag:noindex
X-PUBLISHED-TTL:PT1H
BEGIN:VTIMEZONE
TZID:America/Los_Angeles
BEGIN:DAYLIGHT
TZOFFSETFROM:-0800
TZOFFSETTO:-0700
TZNAME:PDT
DTSTART:20210314T100000
END:DAYLIGHT
BEGIN:STANDARD
TZOFFSETFROM:-0700
TZOFFSETTO:-0800
TZNAME:PST
DTSTART:20211107T090000
END:STANDARD
END:VTIMEZONE
BEGIN:VEVENT
DTSTART;VALUE=DATE:20210402
DTEND;VALUE=DATE:20210403
DTSTAMP:20240207T115837
CREATED:20210322T224207Z
LAST-MODIFIED:20210323T232733Z
UID:45411-1617321600-1617407999@livingsnoqualmie.com
SUMMARY:Wildcat Jr Cheer Registration
DESCRIPTION:Registration Announcement!!\nRegistration for Wildcat Jr. Cheerleading opens on  April 2nd at 9am and the teams fill up really fast. This Fall\, Sideline Cheer will be available through 8th grade\, in addition to the Stunts\, Dance and Sideline (SDS) team. If you have questions about Cheer life email cheerleading@wcjfa.org.  
URL:https://livingsnoqualmie.com/event/wildcat-jr-cheer-registration/
LOCATION:Virtual
END:VEVENT
END:VCALENDAR