BEGIN:VCALENDAR
VERSION:2.0
PRODID:-//Living Snoqualmie - ECPv6.2.9//NONSGML v1.0//EN
CALSCALE:GREGORIAN
METHOD:PUBLISH
X-WR-CALNAME:Living Snoqualmie
X-ORIGINAL-URL:https://livingsnoqualmie.com
X-WR-CALDESC:Events for Living Snoqualmie
REFRESH-INTERVAL;VALUE=DURATION:PT1H
X-Robots-Tag:noindex
X-PUBLISHED-TTL:PT1H
BEGIN:VTIMEZONE
TZID:America/Los_Angeles
BEGIN:DAYLIGHT
TZOFFSETFROM:-0800
TZOFFSETTO:-0700
TZNAME:PDT
DTSTART:20210314T100000
END:DAYLIGHT
BEGIN:STANDARD
TZOFFSETFROM:-0700
TZOFFSETTO:-0800
TZNAME:PST
DTSTART:20211107T090000
END:STANDARD
END:VTIMEZONE
BEGIN:VEVENT
DTSTART;TZID=America/Los_Angeles:20210329T180000
DTEND;TZID=America/Los_Angeles:20210329T193000
DTSTAMP:20240207T055123
CREATED:20210319T233341Z
LAST-MODIFIED:20210319T233341Z
UID:45384-1617040800-1617046200@livingsnoqualmie.com
SUMMARY:Habitat for Humanity Community Outreach Meeting
DESCRIPTION:The City of North Bend invites community members to an informational meeting about the new Habitat for Humanity Seattle-King County affordable housing project. The meeting will include information on applicant qualifications\, application requirements\, and the community application preference period for people residing or working in North Bend zip code 98045. That community application preference is anticipated to span the month of April 2021. \nJoin the March 29th\, 6 PM Habitat for Humanity Community Outreach Zoom Meeting: https://us02web.zoom.us/j/84969196933?pwd=NloyUWdzTjI4YklHZ3JCcDluaHU3UT09 \nMeeting ID: 849 6919 6933 Passcode: 972945 Dial by your location: +1 253 215 8782 US (Tacoma) +1 346 248 7799 US (Houston) +1 669 900 6833 US (San Jose) +1 929 205 6099 US (New York) +1 301 715 8592 US (Washington DC) +1 312 626 6799 US (Chicago) Find your local number: https://us02web.zoom.us/u/kUzuKiH4H \n 
URL:https://livingsnoqualmie.com/event/habitat-for-humanity-community-outreach-meeting/
LOCATION:Virtual
END:VEVENT
END:VCALENDAR