BEGIN:VCALENDAR
VERSION:2.0
PRODID:-//Living Snoqualmie - ECPv6.15.20//NONSGML v1.0//EN
CALSCALE:GREGORIAN
METHOD:PUBLISH
X-ORIGINAL-URL:https://livingsnoqualmie.com
X-WR-CALDESC:Events for Living Snoqualmie
REFRESH-INTERVAL;VALUE=DURATION:PT1H
X-Robots-Tag:noindex
X-PUBLISHED-TTL:PT1H
BEGIN:VTIMEZONE
TZID:America/Los_Angeles
BEGIN:DAYLIGHT
TZOFFSETFROM:-0800
TZOFFSETTO:-0700
TZNAME:PDT
DTSTART:20250309T100000
END:DAYLIGHT
BEGIN:STANDARD
TZOFFSETFROM:-0700
TZOFFSETTO:-0800
TZNAME:PST
DTSTART:20251102T090000
END:STANDARD
BEGIN:DAYLIGHT
TZOFFSETFROM:-0800
TZOFFSETTO:-0700
TZNAME:PDT
DTSTART:20260308T100000
END:DAYLIGHT
BEGIN:STANDARD
TZOFFSETFROM:-0700
TZOFFSETTO:-0800
TZNAME:PST
DTSTART:20261101T090000
END:STANDARD
BEGIN:DAYLIGHT
TZOFFSETFROM:-0800
TZOFFSETTO:-0700
TZNAME:PDT
DTSTART:20270314T100000
END:DAYLIGHT
BEGIN:STANDARD
TZOFFSETFROM:-0700
TZOFFSETTO:-0800
TZNAME:PST
DTSTART:20271107T090000
END:STANDARD
END:VTIMEZONE
BEGIN:VEVENT
DTSTART;TZID=America/Los_Angeles:20260425T120000
DTEND;TZID=America/Los_Angeles:20260425T170000
DTSTAMP:20260422T055802
CREATED:20260223T171733Z
LAST-MODIFIED:20260223T171733Z
UID:63941-1777118400-1777136400@livingsnoqualmie.com
SUMMARY:Treehouse Point Wedding Venue Vendor Fair
DESCRIPTION:Treehouse Point Wedding Venue Vendor Fair \n6922 Preston-Fall City Rd SE\nFall City\, WA 98027 \nSATURDAY\, APRIL 25\, 2026\n12:00 PM – 5:00 PM \nJoin them for a guided afternoon at Treehouse Point\, thoughtfully designed for couples beginning to imagine their wedding or elopement among the trees. \n$30 PER ONE TICKET | $50 PER TWO TICKETS \nVENDORS: TREEHOUSE KITCHEN • THE PETAL & THE STEM • DOWN TO EARTH • ANOTHER ONE TIES • THE KNOT • AISLE LESS TRAVELED • AIM TRUE PHOTOGRAPHY • FLINT AND STONE CO. • TORI OSTERAA • ASHLEY SCHEIDER • PERFECT STORM MOMENTS • FUNCTIONS & GATHERINGS • PLANNER • BOSS MAGNOLIA RHAPSODY • TIPSY SOCIETY INC. • WDNG PAINTER \n 
URL:https://livingsnoqualmie.com/event/treehouse-point-wedding-venue-vendor-fair/
LOCATION:Treehouse Point\, 6922 Preston-Fall City Rd SE \, Fall City\, WA\, 98027\, United States
ATTACH;FMTTYPE=image/jpeg:https://livingsnoqualmie.com/wp-content/uploads/2026/02/626355999_1207849601553458_7191101236771822088_n.jpg
ORGANIZER;CN="Treehouse Point":MAILTO:info@treehousepoint.com
END:VEVENT
BEGIN:VEVENT
DTSTART;TZID=America/Los_Angeles:20260425T120000
DTEND;TZID=America/Los_Angeles:20260425T170000
DTSTAMP:20260422T055802
CREATED:20260408T155526Z
LAST-MODIFIED:20260408T155526Z
UID:64356-1777118400-1777136400@livingsnoqualmie.com
SUMMARY:Treehouse Point Wedding Venue Open House
DESCRIPTION:Treehouse Point Wedding Venue Open House  \nJoin Treehouse Point for a guided afternoon and plan your wedding day in the trees! \nFor the first time ever\, experience Treehouse Point dressed up with florals\, food\, and magic for a glimpse of your big day. You’ll join a guided tour of the entire property\, including all the treehouses\, every wedding space\, and every booth that their recommended vendors will have. Their shuttle service partner\, Tabua Transit\, will drive you to the property\, where you will be greeted with a glass of champagne and food from none other than their own Treehouse Kitchen. You will get to speak with photographers\, coordinators\, florists\, and more. \nAs a special thank you for joining them\, couples who book their wedding on the day of the open house will receive 15% off their wedding package. \nBring your fiancé\, friend\, planner\, or anyone who would love to walk through the beautiful property. Also suitable for those interested in full-property buyout events\, parties\, company retreats\, etc. \nDate & Time\nSaturday\, April 25\, 2026\n12:00 PM-5:00 PM \nEach ticket includes: \n\nShuttle service to and from Treehouse Point (Preston Park & Ride)\, please arrive 15 mins early to your timeslot\nGuided tour of the treehouses\nFull access to the property and participating vendors\nWelcome glass of champagne upon arrival\nWelcome packet & goodie bag\nSmall bites and desserts from Treehouse Kitchen\n\nArrival Times\nTickets are sold with reserved entry times to keep the experience intimate.\nAvailable arrival slots: 12pm\, 1pm\, 2pm\, 3pm\, or 4pm\nMaximum 40 guests per one hour time slot \nShuttles run every 15 minutes throughout the event. \nParticipating Vendors Include:\nTreehouse Kitchen • The Petal & the Stem • Down to Earth\nAnother One Ties the Knot • Aisle Less Traveled\nAim True Photography • Flint and Stone Co. • Tori Osteraa • Ashley Scheider\nPerfect Storm Moments • Functions & Gatherings • Planner Boss\nMagnolia Rhapsody • Tipsy Society Inc. • WDNG Painter \nSpend an afternoon exploring Treehouse Point as a setting for meaningful gatherings\, tucked into the forest
URL:https://livingsnoqualmie.com/event/treehouse-point-wedding-venue-open-house/
LOCATION:Treehouse Point\, 6922 Preston-Fall City Rd SE \, Fall City\, WA\, 98027\, United States
ATTACH;FMTTYPE=image/png:https://livingsnoqualmie.com/wp-content/uploads/2026/04/mdG9qTzQ.png
ORGANIZER;CN="Treehouse Point":MAILTO:info@treehousepoint.com
END:VEVENT
BEGIN:VEVENT
DTSTART;VALUE=DATE:20260427
DTEND;VALUE=DATE:20260502
DTSTAMP:20260422T055802
CREATED:20260406T234006Z
LAST-MODIFIED:20260406T234006Z
UID:64353-1777248000-1777679999@livingsnoqualmie.com
SUMMARY:Treehouse Point Local's Week
DESCRIPTION:Local’s Week (April 27 – May 1\, 2026) \nTreehouse Point is excited to celebrate the local community with a special “Local’s Week” featuring a special deal! The Snoqualmie Valley is a huge part of Treehouse Point’s heart and soul\, and we’ve been wanting to offer something sweet to our community members for a while… and now\, it’s finally here!⁠ \n⁠They are thrilled to give our locals the opportunity to stay in the trees⁠ at a discounted rate. Experience your own “backyard” in a whole new light by sleeping high in the canopies\, wandering our private forest paths\, and soaking in the treehouse views.⁠⁠\n⁠\nCall or email their office to book your reservation during April 27 to May 1\, 2026\, and receive 20% off that booking. Must provide proof of residency to be eligible for the discount – think mail\, personal ID\, etc.⁠\n⁠\nLocals are people residing in Fall City\, Snoqualmie\, North Bend\, Carnation\, Duvall and Preston. ⁠\n⁠\nCall or email now to book your dreamy treehouse getaway and receive your discount! They  the Valley.⁠\nThink: sleeping among the trees\, wandering forest paths\, and soaking in the peaceful canopy views.
URL:https://livingsnoqualmie.com/event/treehouse-point-locals-week/
LOCATION:Treehouse Point\, 6922 Preston-Fall City Rd SE \, Fall City\, WA\, 98027\, United States
ATTACH;FMTTYPE=image/png:https://livingsnoqualmie.com/wp-content/uploads/2026/04/LOCALS-WEEK.-5.png
ORGANIZER;CN="Treehouse Point":MAILTO:info@treehousepoint.com
END:VEVENT
BEGIN:VEVENT
DTSTART;TZID=America/Los_Angeles:20260429T090000
DTEND;TZID=America/Los_Angeles:20260429T140000
DTSTAMP:20260422T055802
CREATED:20260404T160707Z
LAST-MODIFIED:20260404T160707Z
UID:64337-1777453200-1777471200@livingsnoqualmie.com
SUMMARY:Valley Animal Partners | Pet Place Market SLIDING SCALE VETERINARY CLINIC
DESCRIPTION:SLIDING SCALE VETERINARY CARE For people living unhoused or low income \nValley Animal Partners | Pet Place Market 213 Bendigo Blvd N #2\, North Bend WA 98045 \n\n\n\nClinic Date\nTime\nDescription\n\n\n\n\n04/29/2026\n9AM-2PM\nSick Pet and Vaccine Clinic\n\n\n05/27/2026\n9AM-2PM\nSick Pet and Vaccine Clinic\n\n\n09/02/2026\n9AM-2PM\nSick Pet and Vaccine Clinic\n\n\n09/30/2026\n9AM-2PM\nSick Pet and Vaccine Clinic\n\n\n\nSchedule is subject to change. Please check seattlevet.org/calendar for current schedule. \nSeattle Veterinary Outreach is a 501(c)3 nonprofit organization\, EIN #83-2653099 \nWe are a first come\, first-serve service. Spaces are limited and we cannot guarantee everyone will be seen. Two pets per family limit. \nCode of conduct applies. \nwww.seattlevet.org | info@seattlevet.org
URL:https://livingsnoqualmie.com/event/valley-animal-partners-pet-place-market-sliding-scale-veterinary-clinic/
LOCATION:Pet Place Market\, 213 Bendigo Blvd N. Ste 2\, North Bend\, WA\, 98045\, United States
ATTACH;FMTTYPE=image/jpeg:https://livingsnoqualmie.com/wp-content/uploads/2026/04/VAP_SVO_2026_english.jpg
END:VEVENT
END:VCALENDAR