BEGIN:VCALENDAR
VERSION:2.0
PRODID:-//Living Snoqualmie - ECPv6.15.20//NONSGML v1.0//EN
CALSCALE:GREGORIAN
METHOD:PUBLISH
X-ORIGINAL-URL:https://livingsnoqualmie.com
X-WR-CALDESC:Events for Living Snoqualmie
REFRESH-INTERVAL;VALUE=DURATION:PT1H
X-Robots-Tag:noindex
X-PUBLISHED-TTL:PT1H
BEGIN:VTIMEZONE
TZID:America/Los_Angeles
BEGIN:DAYLIGHT
TZOFFSETFROM:-0800
TZOFFSETTO:-0700
TZNAME:PDT
DTSTART:20240310T100000
END:DAYLIGHT
BEGIN:STANDARD
TZOFFSETFROM:-0700
TZOFFSETTO:-0800
TZNAME:PST
DTSTART:20241103T090000
END:STANDARD
BEGIN:DAYLIGHT
TZOFFSETFROM:-0800
TZOFFSETTO:-0700
TZNAME:PDT
DTSTART:20250309T100000
END:DAYLIGHT
BEGIN:STANDARD
TZOFFSETFROM:-0700
TZOFFSETTO:-0800
TZNAME:PST
DTSTART:20251102T090000
END:STANDARD
BEGIN:DAYLIGHT
TZOFFSETFROM:-0800
TZOFFSETTO:-0700
TZNAME:PDT
DTSTART:20260308T100000
END:DAYLIGHT
BEGIN:STANDARD
TZOFFSETFROM:-0700
TZOFFSETTO:-0800
TZNAME:PST
DTSTART:20261101T090000
END:STANDARD
BEGIN:DAYLIGHT
TZOFFSETFROM:-0800
TZOFFSETTO:-0700
TZNAME:PDT
DTSTART:20270314T100000
END:DAYLIGHT
BEGIN:STANDARD
TZOFFSETFROM:-0700
TZOFFSETTO:-0800
TZNAME:PST
DTSTART:20271107T090000
END:STANDARD
END:VTIMEZONE
BEGIN:VEVENT
DTSTART;TZID=America/Los_Angeles:20251231T210000
DTEND;TZID=America/Los_Angeles:20260101T003000
DTSTAMP:20260422T123453
CREATED:20251219T174915Z
LAST-MODIFIED:20251219T174915Z
UID:63391-1767214800-1767227400@livingsnoqualmie.com
SUMMARY:Pour House Pete's Happy New Year
DESCRIPTION:  \nHappy New Year \n21+ \nNYE Dec 31st 2025 (Wednesday) \nEDM and Classic Pop\nBig Sound\, Big Video\, Big Lasers \nINVASION \nPour House Pete’s\, 4640 Tolt Ave\,\nCarnation\, WA. (203 highway) \nNO COVER
URL:https://livingsnoqualmie.com/event/pour-house-petes-happy-new-year/
LOCATION:Pour House Pete’s\, 4640 Tolt Ave\, Carnation\, WA\, 98014\, United States
ATTACH;FMTTYPE=image/jpeg:https://livingsnoqualmie.com/wp-content/uploads/2025/12/Nye25DanceParty940.jpg
ORGANIZER;CN="Pour House Pete's":MAILTO:Pourhousecarnation@gmail.com
END:VEVENT
BEGIN:VEVENT
DTSTART;TZID=America/Los_Angeles:20251231T213000
DTEND;TZID=America/Los_Angeles:20260101T003000
DTSTAMP:20260422T123453
CREATED:20251104T003044Z
LAST-MODIFIED:20251104T003512Z
UID:62960-1767216600-1767227400@livingsnoqualmie.com
SUMMARY:New Year's Eve Party at Salish Lodge & Spa
DESCRIPTION:New Year’s Eve Party at Salish Lodge & Spa\n\n\n\n\n\n\n\n\n\n\nCome join us for an enchanted New Year’s Eve Party at Salish Lodge & Spa – Ring in the New Year in style!\n\n\n\nWelcome to the New Year’s Eve Party at Salish Lodge & Spa! \nJoin us for a magical night of celebration as we ring in the new year in style. Dance the night away to live music from Sweet Sweet Vick’s\, an energetic five-piece band that will keep the party going all night long. \nSip on delicious drinks featuring Moët & Chandon\, indulge in festive treats\, and get swept away by the evening’s Enchanted Forest theme — a whimsical backdrop for a night to remember. \nAs the clock counts down to midnight\, raise a glass with friends and loved ones and create unforgettable memories. \nLet’s welcome the new year together — only at Salish Lodge & Spa! \nCheck out the 2025 NYE Menu!
URL:https://livingsnoqualmie.com/event/new-years-eve-party-at-salish-lodge-spa/
LOCATION:Salish Lodge & Spa\, 6501 RAILROAD AVE SE\, Snoqualmie\, WA\, 98065\, United States
ATTACH;FMTTYPE=image/jpeg:https://livingsnoqualmie.com/wp-content/uploads/2025/11/https___cdn.evbuc_.com_images_1098840803_1975143947343_1_original.jpg
END:VEVENT
BEGIN:VEVENT
DTSTART;TZID=America/Los_Angeles:20260110T160000
DTEND;TZID=America/Los_Angeles:20260110T180000
DTSTAMP:20260422T123454
CREATED:20260105T235758Z
LAST-MODIFIED:20260105T235758Z
UID:63495-1768060800-1768068000@livingsnoqualmie.com
SUMMARY:CARNATION CHAMBER OF COMMERCE - Flood Relief Fundraiser
DESCRIPTION:CARNATIONCHAMBER OF COMMERCE \nFlood Relief FundraiserSpaghetti Dinner\, Raffle & Silent Auction \n100% of funds raised will benefitour local farms through the SVPA \nJanuary 10th\, 20264:00 – 6:00 PM \nRemlinger FarmsCarnation WA \nSuggested donation:$15 adults$10 kids & seniors \nRegistration & Donations Info:www.carnationchamber.org
URL:https://livingsnoqualmie.com/event/carnation-chamber-of-commerce-flood-relief-fundraiser/
LOCATION:Remlinger Farms\, 32610 NE 32nd St\, Carnation\, WA\, 98014\, United States
ATTACH;FMTTYPE=image/jpeg:https://livingsnoqualmie.com/wp-content/uploads/2026/01/608248314_10227125786964507_1597517053660206098_n.jpg
END:VEVENT
BEGIN:VEVENT
DTSTART;TZID=America/Los_Angeles:20260124T140000
DTEND;TZID=America/Los_Angeles:20260124T160000
DTSTAMP:20260422T123454
CREATED:20260115T001236Z
LAST-MODIFIED:20260115T001236Z
UID:63615-1769263200-1769270400@livingsnoqualmie.com
SUMMARY:Art Gallery of SnoValley Artists’ Reception and Open House
DESCRIPTION:Art Gallery of SnoValley Artists’ Reception and Open House \nView the Beautiful New Artworkin the Gallery! \n2–4 pm Saturday\, January 24\, 20268130 Railroad Ave SE\, Snoqualmie\, WA 98065 \n• Meet the artists •• Enjoy Wonderful Food and Drink •• Enter Raffle to Win a Unique Piece of Art •• Watch an In-Person Demo with Artist Charles Cherry \nThank you to 4Culture and the Public Free Access Grant for funding this event.
URL:https://livingsnoqualmie.com/event/art-gallery-of-snovalley-artists-reception-and-open-house-2/
LOCATION:Art Gallery Sno Valley\, 8130 Railroad Ave SE\, Snoqualmie\, WA\, 98065\, United States
ATTACH;FMTTYPE=image/jpeg:https://livingsnoqualmie.com/wp-content/uploads/2026/01/Artist-Reception-Jan-2026-Social-1.jpg
END:VEVENT
BEGIN:VEVENT
DTSTART;TZID=America/Los_Angeles:20260128T160000
DTEND;TZID=America/Los_Angeles:20260128T180000
DTSTAMP:20260422T123454
CREATED:20260108T233331Z
LAST-MODIFIED:20260111T234159Z
UID:63533-1769616000-1769623200@livingsnoqualmie.com
SUMMARY:Cops & Cones
DESCRIPTION:Come Meet Your SnoPo Team at Snoqualmie Ice Cream!\n\nCurious about the faces behind the badge? Join the Snoqualmie Police Department on January 28th from 4-6 pm at Snoqualmie Ice Cream for a fun\, laid-back opportunity to connect with the local police team who help keep our community safe!\n\nIt’s the perfect chance to enjoy some delicious ice cream\, ask questions\, and have a casual chat with your SnoPo team. They can’t wait to see you there!
URL:https://livingsnoqualmie.com/event/63533/
LOCATION:Snoqualmie Ice Cream\, 8102 Railroad Ave\, Snoqualmie\, WA\, 98065\, United States
ATTACH;FMTTYPE=image/jpeg:https://livingsnoqualmie.com/wp-content/uploads/2026/01/Document.jpg
END:VEVENT
BEGIN:VEVENT
DTSTART;TZID=America/Los_Angeles:20260128T170000
DTEND;TZID=America/Los_Angeles:20260128T190000
DTSTAMP:20260422T123454
CREATED:20260124T170742Z
LAST-MODIFIED:20260124T170742Z
UID:63702-1769619600-1769626800@livingsnoqualmie.com
SUMMARY:North Bend Downtown Foundation - Wiggin' Out Game Night
DESCRIPTION:Kick off the first NBDF After Hours of 2026 with a fun\, laid-back night at Iron Duck Public House! \nJoin us for board\, card\, & dice games—bring a favorite from home or jump into one that’s already going. It’s all about good games\, good laughs\, and connecting with the community. \nWednesday\, January 28th\, 5-7PM. \nYou’re encouraged to order food and drinks while you play and support Iron Duck. \nBonus fun if you show up in a WIG—the wilder\, the better\, but totally optional! \nCome hang out\, meet new faces\, and start the year off with some playful competition and great company.
URL:https://livingsnoqualmie.com/event/north-bend-downtown-foundation-wiggin-out-game-night/
LOCATION:Iron Duck\, 101 W North Bend Way\, North Bend\, WA\, 98045\, United States
ATTACH;FMTTYPE=image/jpeg:https://livingsnoqualmie.com/wp-content/uploads/2026/01/616621343_1324201946411500_5903416606259901009_n.jpg
ORGANIZER;CN="North Bend Downtown Foudation":MAILTO:info@northbenddowntown.org
END:VEVENT
BEGIN:VEVENT
DTSTART;TZID=America/Los_Angeles:20260128T180000
DTEND;TZID=America/Los_Angeles:20260128T210000
DTSTAMP:20260422T123454
CREATED:20260123T172623Z
LAST-MODIFIED:20260123T172623Z
UID:63693-1769623200-1769634000@livingsnoqualmie.com
SUMMARY:Chocolate Indulgence Dinner at the Salish Lodge & Sp
DESCRIPTION:Saturday\, Feb 28 from 6 pm to 9 pm PST \nDecadent chocolate & whiskey pairings across multiple courses! \nJoin us for an intimate evening of indulgent dining\, where each course showcases decadent chocolate thoughtfully paired with exceptional whiskeys. This chef-inspired\, multi-course experience celebrates rich flavors\, expert craftsmanship\, and the art of pairing. Set against the stunning backdrop of Salish Lodge and Snoqualmie Falls\, it’s an unforgettable night of chocolate\, whiskey\, and refined indulgence. \nView our Menu Here \nAbout Westland Whiskey: \nFounded in 2011\, Westland Whiskey set out to create American Single Malt whiskey that captures the true character of the Pacific Northwest. Distilled in Seattle’s SoDo neighborhood and mindfully aged in Washington’s Skagit Valley\, Westland continues to craft expressive single malts that reflect place\, time\, and tradition. \nHighlights \n\n3 hours\nages 21+\nIn person\n\nLocation \nSalish Lodge & Spa\, Railroad Avenue\, Snoqualmie \n6501 Railroad Avenue \nSnoqualmie\, WA 98065 \n  \n 
URL:https://livingsnoqualmie.com/event/chocolate-indulgence-dinner-at-the-salish-lodge-sp/
LOCATION:Salish Lodge & Spa\, 6501 RAILROAD AVE SE\, Snoqualmie\, WA\, 98065\, United States
ATTACH;FMTTYPE=image/jpeg:https://livingsnoqualmie.com/wp-content/uploads/2026/01/Screenshot-2026-01-23-092137.jpg
END:VEVENT
BEGIN:VEVENT
DTSTART;TZID=America/Los_Angeles:20260128T183000
DTEND;TZID=America/Los_Angeles:20260128T210000
DTSTAMP:20260422T123454
CREATED:20260122T000442Z
LAST-MODIFIED:20260122T000724Z
UID:63667-1769625000-1769634000@livingsnoqualmie.com
SUMMARY:Moonlight | Rainbow reels series presented by Sno Valley pride
DESCRIPTION:A young African-American man grapples with his identity and sexuality while experiencing the everyday struggles of childhood\, adolescence\, and burgeoning adulthood.\n\nPart of the Rainbow Reels Series presented by SnoValley Pride (https://snovalleypride.org/). SnoValley Pride generously offers free admission to this event.\n\n2016 [R] 1h 51m\nDoors 6:30pm\nShow 7:00pm\nSnovalley Pride is proud to host a free monthly movie night at the historic North Bend Theatre! We are so excited to partner with the North Bend Theatre on this wonderful offering. This beautiful theater is a space where stories\, art\, and community come together on the big screen.\n\n\n\n\nIn times like these\, queer art and representation matter more than ever. Film has the power to reflect our lives\, our love\, our struggles\, and our joy. When we see pieces of ourselves on screen\, we are reminded that we are not alone…and that our stories deserve to be seen\, celebrated\, and shared. \nThese movie nights are an invitation to gather\, sit side by side\, and experience the beauty of queer storytelling together. Whether a film makes us laugh\, cry\, or sit quietly in reflection\, watching as a community creates connection\, understanding\, and healing. It unites us. It reminds us that joy\, visibility\, and art are powerful acts of belonging. \nWhat to Expect\n•FREE movie nights open to all\n•Cultural films that highlight queer voices and lived experiences\n•A welcoming\, affirming space to connect with neighbors and chosen family\n•The magic of cinema in one of the Valley’s most beloved historic theaters \n\n\n\n\n\n\nBring a friend. Bring your family. Come as you are. These nights are about showing up for one another\, celebrating queer creativity\, and building a Valley where everyone feels seen and safe!
URL:https://livingsnoqualmie.com/event/moonlight-rainbow-reels-series-presented-by-sno-valley-pride/
LOCATION:North Bend Theatre\, 125 Bendigo Blvd N\, North Bend\, WA\, 98045\, United States
ATTACH;FMTTYPE=image/jpeg:https://livingsnoqualmie.com/wp-content/uploads/2026/01/617348096_1524516156348151_208179497660827358_n-1.jpg
END:VEVENT
BEGIN:VEVENT
DTSTART;TZID=America/Los_Angeles:20260130T180000
DTEND;TZID=America/Los_Angeles:20260130T203000
DTSTAMP:20260422T123454
CREATED:20260105T231721Z
LAST-MODIFIED:20260105T231721Z
UID:63492-1769796000-1769805000@livingsnoqualmie.com
SUMMARY:BONNIE KATZ SAILORS OIL OR ACRYLIC PAINTING WORKSHOP
DESCRIPTION:During this painting workshop\, students will work on individualized projects at their own pace with help from the instructor. Use this class as an opportunity to finish those “almost done” paintings or come up with some new inspiration and painting ideas. Bonnie will help you take your painting skills to the next level. Come once (or each week!) to work on paintings\, build community\, and receive helpful instruction. Students are invited to choose to paint with and get instruction on either acrylic or oil techniques. More details can be found in the class description on our website. \nClass Fridays:\nJanuary 30\nFebruary 6\nFebruary 13 \nClass Info:\n6 pm – 8:30 pm\n$25 Instruction Only\n$50 Instruction & Supplies \nLocation:\nCenter For Creativity\n1533 Bendigo Blvd N\nNorth Bend WA \nTo register for a class or for more info:\nwww.northbendartandindustry.org
URL:https://livingsnoqualmie.com/event/bonnie-katz-sailors-oil-or-acrylic-painting-workshop/
LOCATION:The Snoqualmie Valley Center for Creativity\, 1533 Bendigo Blvd North\, North Bend\, WA\, 98045\, United States
ATTACH;FMTTYPE=image/jpeg:https://livingsnoqualmie.com/wp-content/uploads/2026/01/Screenshot-2026-01-05-151040.jpg
END:VEVENT
END:VCALENDAR