BEGIN:VCALENDAR
VERSION:2.0
PRODID:-//Living Snoqualmie - ECPv6.15.20//NONSGML v1.0//EN
CALSCALE:GREGORIAN
METHOD:PUBLISH
X-ORIGINAL-URL:https://livingsnoqualmie.com
X-WR-CALDESC:Events for Living Snoqualmie
REFRESH-INTERVAL;VALUE=DURATION:PT1H
X-Robots-Tag:noindex
X-PUBLISHED-TTL:PT1H
BEGIN:VTIMEZONE
TZID:America/Los_Angeles
BEGIN:DAYLIGHT
TZOFFSETFROM:-0800
TZOFFSETTO:-0700
TZNAME:PDT
DTSTART:20240310T100000
END:DAYLIGHT
BEGIN:STANDARD
TZOFFSETFROM:-0700
TZOFFSETTO:-0800
TZNAME:PST
DTSTART:20241103T090000
END:STANDARD
BEGIN:DAYLIGHT
TZOFFSETFROM:-0800
TZOFFSETTO:-0700
TZNAME:PDT
DTSTART:20250309T100000
END:DAYLIGHT
BEGIN:STANDARD
TZOFFSETFROM:-0700
TZOFFSETTO:-0800
TZNAME:PST
DTSTART:20251102T090000
END:STANDARD
BEGIN:DAYLIGHT
TZOFFSETFROM:-0800
TZOFFSETTO:-0700
TZNAME:PDT
DTSTART:20260308T100000
END:DAYLIGHT
BEGIN:STANDARD
TZOFFSETFROM:-0700
TZOFFSETTO:-0800
TZNAME:PST
DTSTART:20261101T090000
END:STANDARD
END:VTIMEZONE
BEGIN:VEVENT
DTSTART;TZID=America/Los_Angeles:20251101T100000
DTEND;TZID=America/Los_Angeles:20251101T123000
DTSTAMP:20260422T154933
CREATED:20251015T204356Z
LAST-MODIFIED:20251015T204356Z
UID:62714-1761991200-1762000200@livingsnoqualmie.com
SUMMARY:Be Dam Ready Annual Siren Test & Community Drill
DESCRIPTION:Be Dam Ready Annual Siren Test & Community Drill \nBE DAM READY \nEVACUATION DRILL DETAILS \nSATURDAY\, NOVEMBER 1\, 2025 \nSEATTLE’S TOLT DAM EARLY WARNING SYSTEM \nThe City of Seattle owns and operates a dam on the Tolt River. At the request of the City of Carnation\, Seattle Public Utilities (SPU) has reconnected the Tolt Dam Early Warning (siren) System. SPU will run a full audible test of the system on November 1\, 2025 at noon. Expect to hear loud siren sounds and spoken messages from the speakers. \nANNUAL SIREN TEST AND COMMUNITY DRILL IN CARNATION \n10:00 AM: Informational session at Tolt Middle School (3740 Tolt Ave\, Carnation\, WA 98014). Enjoy coffee and donuts with neighbors while hearing about dam safety! \n12:00 PM: Alarm sounds and evacuation drill begins. Walk up the hill from the event\, your home\, or work. For Evacuation Maps\, visit carnationwa.gov/drill \nAudible testing of the sirens will occur once a year and be coordinated with the City of Carnation’s annual emergency preparedness drills. The weekly Wednesday noon tests that used to occur will no longer take place.
URL:https://livingsnoqualmie.com/event/be-dam-ready-annual-siren-test-community-drill/
LOCATION:Tolt Middle School\, 3740 Tolt Ave\, Carnation\, WA\, 98014\, United States
ATTACH;FMTTYPE=image/jpeg:https://livingsnoqualmie.com/wp-content/uploads/2025/10/Be_Dam_Ready_Annual_Siren_Test.jpg
END:VEVENT
BEGIN:VEVENT
DTSTART;TZID=America/Los_Angeles:20251101T180000
DTEND;TZID=America/Los_Angeles:20251101T203000
DTSTAMP:20260422T154933
CREATED:20251013T032506Z
LAST-MODIFIED:20251013T032506Z
UID:62690-1762020000-1762029000@livingsnoqualmie.com
SUMMARY:Valley Animal Partners Chili Showdown
DESCRIPTION:YOU BE THE JUDGE!12 DELICIOUS CHILIS TO CHOOSE FROM! \nValley Animal Partners’ 13th (Mostly) AnnualCHILI SHOWDOWN& Homemade Goodies Auction! \nSaturday\, November 1st • 6:00pm–8:30pm@ Snoqualmie Eagles • 8200 Railroad AveOpen to the public!(Eagles Members and Guests welcome) \nALL PROCEEDS BENEFIT SNOQUALMIE VALLEY PETS!VAP is a 501(c)3 non-profit organization. \nTickets available at the door:$10 Adults$7 Seniors$6 Kids 6–12Free for age 5 & under \nCheck us out on Facebook or @ www.ValleyAnimalPartners.org
URL:https://livingsnoqualmie.com/event/valley-animal-partners-chili-showdown/
LOCATION:Snoqualmie Eagles\, 8200 Railroad Ave\, Snoqualmie\, WA\, 98065\, United States
ATTACH;FMTTYPE=image/jpeg:https://livingsnoqualmie.com/wp-content/uploads/2025/10/chili_combined.jpg
END:VEVENT
BEGIN:VEVENT
DTSTART;VALUE=DATE:20251104
DTEND;VALUE=DATE:20251105
DTSTAMP:20260422T154933
CREATED:20251104T001123Z
LAST-MODIFIED:20251104T001208Z
UID:62950-1762214400-1762300799@livingsnoqualmie.com
SUMMARY:Sip and Shop at Salish
DESCRIPTION:Sip and Shop at Salish\nThursday\, December 4\, 2025\n\nJoin the Salish for a bit of shopping in The Shop\, while sampling delicious wines and homemade bites! Take advantage of local discounts and meet some of their favorite local vendors! No RSVP necessary.
URL:https://livingsnoqualmie.com/event/62950/
LOCATION:Salish Lodge & Spa\, 6501 RAILROAD AVE SE\, Snoqualmie\, WA\, 98065\, United States
ATTACH;FMTTYPE=image/jpeg:https://livingsnoqualmie.com/wp-content/uploads/2025/11/4aa54e09c7ac3111375467197746809a.jpg
END:VEVENT
BEGIN:VEVENT
DTSTART;TZID=America/Los_Angeles:20251105T160000
DTEND;TZID=America/Los_Angeles:20251107T200000
DTSTAMP:20260422T154933
CREATED:20251024T195128Z
LAST-MODIFIED:20251024T195128Z
UID:62828-1762358400-1762545600@livingsnoqualmie.com
SUMMARY:36 Years of Carousel
DESCRIPTION:Please join us for a private shopping night as we celebrate36 years of Carousel \nThe landline is open for reservations!425.391.9199Special Swag Bags for the first 50 callers! \nWednesday\, Thursday & Friday – Nov. 5–74 – 8 pm1 hr appointments20 shoppers per hour20% off 1 item*Complimentary wine tasting & lots of fun giveaways!*Some exclusions \nCarousel8002 Railroad Ave SESnoqualmie\, WA 98065(425) 391-9199 \nStore HoursOpen Daily11–6
URL:https://livingsnoqualmie.com/event/36-years-of-carousel/
LOCATION:Carousel\, 8002 Railroad Ave SE\, Snoqualmie\, WA\, 98065\, United States
ATTACH;FMTTYPE=image/png:https://livingsnoqualmie.com/wp-content/uploads/2025/10/3715504-scaled.png
END:VEVENT
BEGIN:VEVENT
DTSTART;TZID=America/Los_Angeles:20251108T100000
DTEND;TZID=America/Los_Angeles:20251108T163000
DTSTAMP:20260422T154933
CREATED:20251008T212935Z
LAST-MODIFIED:20251008T212935Z
UID:62648-1762596000-1762619400@livingsnoqualmie.com
SUMMARY:Carnation Farms RAGE Fest
DESCRIPTION:RAGE Fest\n\n\nNovember 8 @ 10:00 am – 4:30 pm \n\n\n\nWhy do women so rarely learn to be angry? This is the question posed by Soraya Chemaly in Rage Becomes Her: the Power of Women’s Anger\, and it’s the anchor of this daylong retreat for women 21+. Join poet and mindfulness teacher\, Anna Sullivan and dive into clinically-supported expressions of the emotions we’ve been taught to suppress: rage\, fear\, despair. Through creative and physical practice\, we alchemize these into power\, into knowing\, into resistant and beautiful rest. \nFor: women\, 21+ \nSample itinerary:\n10 am: arrival + introductions\n10:30: rage on the page (journaling\, art)\n11:30: scream\, thrash\, break\n12:30: lunch\n1:30: make from the break (mosaic workshop)\n3:30: collective rest\n4:30: closing \nWhat to bring:\nJournal\nYoga mat\nWater \nWhy now: In Anna’s words\, “Most of us have spent years neatly tucking our anger away. This retreat\, at a time when the world feels extra heavy and hectic\, offers space to express and move through rage (and fear! And despair!) in warm\, connected community. There are so many reasons to be angry – and so many beautiful things to be born from our anger. Join us for all of it.” \n$190 through 10/15\, then $210\nSliding scale and scholarship tickets available\, reach out to anna@pidgepost.com
URL:https://livingsnoqualmie.com/event/carnation-farms-rage-fest/
LOCATION:Carnation Farms\, 8901 NE Carnation Farm Road\, Carnation\, WA\, 98014\, United States
ATTACH;FMTTYPE=image/png:https://livingsnoqualmie.com/wp-content/uploads/2025/10/5-1.png
END:VEVENT
BEGIN:VEVENT
DTSTART;TZID=America/Los_Angeles:20251115T150000
DTEND;TZID=America/Los_Angeles:20251115T170000
DTSTAMP:20260422T154933
CREATED:20250914T010433Z
LAST-MODIFIED:20250914T010433Z
UID:62416-1763218800-1763226000@livingsnoqualmie.com
SUMMARY:Share our Table: Friendsgiving with Salish Lodge & Spa and Sparkman Cellars
DESCRIPTION:Come join the Salish Lodge & Spa for a cozy Friendsgiving celebration with delicious food from Salish and wine from Sparkman Cellars at our shared table! \nSaturday\, November 15 · 3 – 5pm \n6501 Railroad Avenue\, Snoqualmie\, WA 98065 \nWelcome to Share Our Table: Friendsgiving with Salish & Sparkman Cellars! Join the Salish Lodge & Spa for a delightful evening of hors d’oeuvres and wine. Let’s celebrate Friendsgiving together with a special menu crafted by our chefs paired with exquisite wines from Sparkman Cellars. \nCome share good food\, good wine\, and good company at this in-person event. Reserve your spot now for a memorable Friendsgiving experience! \nCheck out the Menu! \nFor Ticketed Guests: A 15% room discount will be available for Friday\, November 14th\, and Saturday\, November 15th\, for ticketed guests.
URL:https://livingsnoqualmie.com/event/share-our-table-friendsgiving-with-salish-lodge-spa-and-sparkman-cellars/
LOCATION:Salish Lodge & Spa\, 6501 RAILROAD AVE SE\, Snoqualmie\, WA\, 98065\, United States
ATTACH;FMTTYPE=image/jpeg:https://livingsnoqualmie.com/wp-content/uploads/2025/09/https___cdn.evbuc_.com_images_1093260403_1975143947343_1_original.jpg
END:VEVENT
BEGIN:VEVENT
DTSTART;TZID=America/Los_Angeles:20251115T180000
DTEND;TZID=America/Los_Angeles:20251115T210000
DTSTAMP:20260422T154933
CREATED:20251008T222415Z
LAST-MODIFIED:20251008T222415Z
UID:62651-1763229600-1763240400@livingsnoqualmie.com
SUMMARY:Carnation Farms barn Dance
DESCRIPTION:Barn Dance\n\n\nNovember 15 @ 6:00 pm – 9:00 pm \n\n\n\nKick up your heels and join us at Carnation Farms for another fun-filled night of dancing and community! \nLearn some new moves in our historic Hippodrome with Amanda Johnson\, owner of Snoqualmie Valley Line Dancing and a country dance instructor with over ten years of experience. Whether you’re a seasoned pro or a total beginner\, all skill levels are welcome! \nDoors open at 5:30 PM\nLine dance lesson starts at 6:00 PM\nOpen floor and guided dance until 9:00 PM \nWe’ll have delicious food coming hot off the BBQ from our in-house Culinary Team and drinks will be available for purchase from our friends at Alveare Winery and Big Block Brewing. Don’t miss this chance to dance the night away and connect with friends in this beautiful community!
URL:https://livingsnoqualmie.com/event/carnation-farms-barn-dance-3/
LOCATION:Carnation Farms\, 8901 NE Carnation Farm Road\, Carnation\, WA\, 98014\, United States
ATTACH;FMTTYPE=image/jpeg:https://livingsnoqualmie.com/wp-content/uploads/2025/10/Screenshot-2025-10-08-152145.jpg
ORGANIZER;CN="Carnation Farms":MAILTO:info@carnationfarms.org
END:VEVENT
BEGIN:VEVENT
DTSTART;TZID=America/Los_Angeles:20251118T190000
DTEND;TZID=America/Los_Angeles:20251118T210000
DTSTAMP:20260422T154933
CREATED:20251108T172624Z
LAST-MODIFIED:20251108T172624Z
UID:63000-1763492400-1763499600@livingsnoqualmie.com
SUMMARY:USVEMG Wolf Update
DESCRIPTION:Residents are invited to learn about Washington’s wolf population at the Upper Snoqualmie Elk Management Group’s November 18 meeting. The group will host Dr. Ben Maletzke\, the state’s leading wolf expert\, at 7 p.m. at the Meadowbrook Interpretive Center in North Bend. \nDr. Maletzke will provide an update on wolves in Washington and may share a slide presentation. A Q&A session will follow. The event also offers an opportunity for youth interested in zoology or biology to hear from a professional working in the field and learn more about related career paths. \nThe event is free and open to the public.
URL:https://livingsnoqualmie.com/event/usvemg-wolf-update/
LOCATION:Meadowbrook Interpretive Center\, 1711 Boalch Ave NW\, North Bend\, North Bend\, WA\, 98045\, United States
ATTACH;FMTTYPE=image/jpeg:https://livingsnoqualmie.com/wp-content/uploads/2019/09/wolf.jpg
END:VEVENT
BEGIN:VEVENT
DTSTART;TZID=America/Los_Angeles:20251120T170000
DTEND;TZID=America/Los_Angeles:20251120T170000
DTSTAMP:20260422T154933
CREATED:20251117T222911Z
LAST-MODIFIED:20251117T222911Z
UID:63085-1763658000-1763658000@livingsnoqualmie.com
SUMMARY:Snoqualmie Valley Food Bank Donation Drive at No Boat Brewing on November 20
DESCRIPTION:The Snoqualmie Valley Food Bank is experiencing an urgent increase in need and is asking the community for support. To help meet that need\, No Boat Brewing will host a donation drive and community gathering on Thursday\, November 20\, with activities running throughout the evening. \nThe Food Bank has requested several specific items\, including diapers\, formula\, Ensure protein shakes\, and non-perishable essentials. Cash donations will also be welcomed. For anyone who would like to help before the event\, No Boat can accept donations beginning immediately. \nDuring the event\, No Boat will release a new West Coast IPA brewed in collaboration with Lumberbeard Brewing. For every pint sold\, one dollar will be donated to the Snoqualmie Valley Food Bank. \nThis is a difficult season for local food banks\, and organizers hope the community will come out in strong support to help neighbors who are struggling.
URL:https://livingsnoqualmie.com/event/snoqualmie-valley-food-bank-donation-drive-at-no-boat-brewing-on-november-20/
LOCATION:No Boat Brewing\, 35214 SE Center Street\, Snoqualmie\, WA\, 98065\, United States
ATTACH;FMTTYPE=image/png:https://livingsnoqualmie.com/wp-content/uploads/2025/11/Thursday-20-November-2025.png
END:VEVENT
BEGIN:VEVENT
DTSTART;TZID=America/Los_Angeles:20251122T100000
DTEND;TZID=America/Los_Angeles:20251122T140000
DTSTAMP:20260422T154933
CREATED:20251008T223554Z
LAST-MODIFIED:20251008T223554Z
UID:62655-1763805600-1763820000@livingsnoqualmie.com
SUMMARY:Carnation Farms Knitted Colorwork Hat Workshop
DESCRIPTION:Knitted Colorwork Hat Workshop\n\n\nNovember 22 @ 10:00 am – 2:00 pm \n\n\n\nGet crafty with Keeley Richardson of The Puget Sound Woolpack \nIn this intermediate-level workshop\, create the Valley Mist Hat\, designed by Keeley Richardson of The Puget Sound Woolpack. An elegant toque that is inspired by the misty autumnal beauty of the Snoqualmie Valley! \nWhat to expect: \n\nLearn color work\, knitting basics\, and techniques.\nMake a simple colorwork hat that evokes the beauty of the valley.\nKnit with beautiful fiber direct from the farm.\nMeet Alex the Shepherd and learn all about her beautiful flock reared on the farm.\n\nExperience a unique fiber event in the heart of the Snoqualmie Valley! \nWhat to bring: \nYarn and pattern included\, attendees will need to bring their own 16-inch\, size 6 and size 7 circular needles\, stitch markers and darning needle. Light refreshments will be provided; please bring your own lunch from home or stop by our Farmstand. \nAgenda:\n\n\n10:00 AM – 10:30 AM: Refreshments and Q&A with Alex\, the Carnation Farms Livestock Manager \n10:30 AM – 12:00 PM: Color Work Theory and Knitting Techniques with Keeley \n12:00 PM – 12:45 PM: Lunch Break and Sheep Visit \n12:45 PM – 2:00 PM: Knitting and Skill Sharing ADA ADA-compliant bathroom too
URL:https://livingsnoqualmie.com/event/carnation-farms-knitted-colorwork-hat-workshop/
LOCATION:Carnation Farms\, 8901 NE Carnation Farm Road\, Carnation\, WA\, 98014\, United States
ATTACH;FMTTYPE=image/jpeg:https://livingsnoqualmie.com/wp-content/uploads/2025/10/Knitted-Colorwork-Hat.jpg
ORGANIZER;CN="Carnation Farms":MAILTO:info@carnationfarms.org
END:VEVENT
BEGIN:VEVENT
DTSTART;VALUE=DATE:20251129
DTEND;VALUE=DATE:20251208
DTSTAMP:20260422T154933
CREATED:20251110T175931Z
LAST-MODIFIED:20251110T175931Z
UID:63005-1764374400-1765151999@livingsnoqualmie.com
SUMMARY:The Nursery at Mt Si: Wreath making and decorating workshops
DESCRIPTION:The Nursery at Mt Si still has plenty of spots in their wreath-making and decorating workshops\, so if you need something fun to do for this holiday season\, go visit and have some fun making your very own holiday wreath \nIn the wreath-making workshops\, you’ll be building wreaths from scratch. They supply a wide range of greens\, berries\, pinecones\, flowers\, and materials\, so your wreath can be as traditional or unique as you like! \nAvailable wreath workshop dates: \n\nSaturday\, November 29th\, 1:30-3:30\nSaturday\, Dec 6th\, 10:00-12:00\, 1:30-3:30\n\n$85 per person. \nAll materials included. \nIn the wreath decorating workshops\, you’ll be supplied a plain premade 24” wreath that you can decorate with pine cones\, berries\, flowers\, bows\, bulbs and more\, as well as add additional greens. \nWreath Decorating workshop dates: \n\nSunday\, Nov 16th\, 10:00-11:00\, 2:00-3:00\nSunday\, Nov 23rd\, 10:00-11:00\nSunday\, Nov 30th\, 2:00-3:00\nSunday Dec 7th 10:00-11:00\, 2:00-3:00\n\n$65 per person. \nAll materials included. \nYou can sign up by phone at (425) 831-2274 or stop by to sign up in person. The workshop fee will be collected upon sign-up. If you are signing up for a group\, all members of the group have 72 hours to call/stop in to pay for their slot. \n*Cancellation/no-show policy: If you give at least 3 days’ notice prior to your workshop date that you are not able to attend\, they will issue a refund as a gift card. If they are given less than three days’ notice\, no refund will be granted. \nFacebook
URL:https://livingsnoqualmie.com/event/the-nursery-at-mt-si-wreath-making-and-decorating-workshops/
LOCATION:The Nursery at Mt Si\, 42328 SE 108th Street\, North Bend\, WA\, 98045\, United States
ATTACH;FMTTYPE=image/jpeg:https://livingsnoqualmie.com/wp-content/uploads/2025/11/469484578_18312536269164095_8600899749288528825_n.jpg
END:VEVENT
BEGIN:VEVENT
DTSTART;TZID=America/Los_Angeles:20251129T183000
DTEND;TZID=America/Los_Angeles:20251129T203000
DTSTAMP:20260422T154933
CREATED:20251119T173758Z
LAST-MODIFIED:20251119T173758Z
UID:63111-1764441000-1764448200@livingsnoqualmie.com
SUMMARY:Cello & Wine: An Intimate Evening with Gretchen Yanover
DESCRIPTION:Cello and Wine: An Intimate Evening with Gretchen YanoverCrunchy Red Fruit Winery\, 32720 SE 44th St\, Unit B\, Fall CityFriday\, November 29\, 6:30 to 8:30 pm \nAcclaimed cellist Gretchen Yanover performs an intimate concert for an audience of 25 guests at Crunchy Red Fruit Winery\, with wine pairings selected by Master Sommelier Jackson Rohrbaugh. Light snacks are served on arrival\, and the evening concludes with vanilla ice cream from MOOO! Ice Cream topped with sherry. Guests who bring a non-perishable food donation may shop for exclusive holiday gifts and wines at a discount.
URL:https://livingsnoqualmie.com/event/cello-wine-an-intimate-evening-with-gretchen-yanover/
LOCATION:Crunchy Red Fruit Winery\, 32720 SE 44th St\, Unit B\, Fall City\, WA\, 98024\, United States
ATTACH;FMTTYPE=image/jpeg:https://livingsnoqualmie.com/wp-content/uploads/2025/11/Screenshot-2025-11-19-093355.jpg
END:VEVENT
BEGIN:VEVENT
DTSTART;TZID=America/Los_Angeles:20251130T170000
DTEND;TZID=America/Los_Angeles:20251130T190000
DTSTAMP:20260422T154933
CREATED:20251104T002144Z
LAST-MODIFIED:20251104T002144Z
UID:62957-1764522000-1764529200@livingsnoqualmie.com
SUMMARY:Salish Lodge & Spa Annual Tree Lighting
DESCRIPTION:ANNUAL HOLIDAY TREE LIGHTING\nSunday\, November 30\, 2025\n\nJoin Salish Lodge & Spa\, Encompass NW and the Snoqualmie Community for the Annual Holiday Tree Lighting! Enjoy hot cocoa\, holiday treats\, children’s activities\, and of course\, meet Santa! \nSunday\, November 30th\n5pm – 7pm
URL:https://livingsnoqualmie.com/event/salish-lodge-spa-annual-tree-lighting/
LOCATION:Salish Lodge & Spa\, 6501 RAILROAD AVE SE\, Snoqualmie\, WA\, 98065\, United States
ATTACH;FMTTYPE=image/jpeg:https://livingsnoqualmie.com/wp-content/uploads/2025/11/322ab18b38cb4105cd565558ced5850a.jpg
END:VEVENT
END:VCALENDAR