BEGIN:VCALENDAR
VERSION:2.0
PRODID:-//Living Snoqualmie - ECPv6.15.20//NONSGML v1.0//EN
CALSCALE:GREGORIAN
METHOD:PUBLISH
X-ORIGINAL-URL:https://livingsnoqualmie.com
X-WR-CALDESC:Events for Living Snoqualmie
REFRESH-INTERVAL;VALUE=DURATION:PT1H
X-Robots-Tag:noindex
X-PUBLISHED-TTL:PT1H
BEGIN:VTIMEZONE
TZID:America/Los_Angeles
BEGIN:DAYLIGHT
TZOFFSETFROM:-0800
TZOFFSETTO:-0700
TZNAME:PDT
DTSTART:20240310T100000
END:DAYLIGHT
BEGIN:STANDARD
TZOFFSETFROM:-0700
TZOFFSETTO:-0800
TZNAME:PST
DTSTART:20241103T090000
END:STANDARD
BEGIN:DAYLIGHT
TZOFFSETFROM:-0800
TZOFFSETTO:-0700
TZNAME:PDT
DTSTART:20250309T100000
END:DAYLIGHT
BEGIN:STANDARD
TZOFFSETFROM:-0700
TZOFFSETTO:-0800
TZNAME:PST
DTSTART:20251102T090000
END:STANDARD
BEGIN:DAYLIGHT
TZOFFSETFROM:-0800
TZOFFSETTO:-0700
TZNAME:PDT
DTSTART:20260308T100000
END:DAYLIGHT
BEGIN:STANDARD
TZOFFSETFROM:-0700
TZOFFSETTO:-0800
TZNAME:PST
DTSTART:20261101T090000
END:STANDARD
END:VTIMEZONE
BEGIN:VEVENT
DTSTART;VALUE=DATE:20251001
DTEND;VALUE=DATE:20251101
DTSTAMP:20260422T173613
CREATED:20250929T164425Z
LAST-MODIFIED:20250929T164425Z
UID:62533-1759276800-1761955199@livingsnoqualmie.com
SUMMARY:Hosts Artwork by Diane Sarr at Sigillo Cellars
DESCRIPTION:Sigillo Cellars8086 Railroad Ave.Snoqualmie\, WA 98026 \nHosts Artwork by Diane Sarr“A Stitch in Time”Throughout October \nCellar Hours:Saturday 12–10pmSunday 12–6pmClosed MondayTues.\, Wed.\, Fri. 3–8pmFriday 3–10pm
URL:https://livingsnoqualmie.com/event/hosts-artwork-by-diane-sarr-at-sigillo-cellars/
LOCATION:Sigillo cellars\, 8086 Railroad Ave\, Snoqualmie\, WA\, 98065\, United States
ATTACH;FMTTYPE=image/jpeg:https://livingsnoqualmie.com/wp-content/uploads/2025/09/Advertising-Option-2.jpg
END:VEVENT
BEGIN:VEVENT
DTSTART;TZID=America/Los_Angeles:20251001T090000
DTEND;TZID=America/Los_Angeles:20251001T140000
DTSTAMP:20260422T173613
CREATED:20250907T183203Z
LAST-MODIFIED:20250907T183203Z
UID:62321-1759309200-1759327200@livingsnoqualmie.com
SUMMARY:Seattle Veterinary Outreach Vaccine Clinics
DESCRIPTION:2025 Clinic Flyers\nClinic Date | Time | Description \n\n\n10/01/2025 | 9AM–2PM — Sick Pet Clinic and Vaccine Clinic \n\n\n10/29/2025 | 9AM–2PM — Sick Pet Clinic and Vaccine Clinic \n\n\nSLIDING SCALE VETERINARY CAREFor people living unhoused or low income \nSchedule is subject to change.Please check seattlevet.org/calendar for current schedule. \nSeattle Veterinary Outreach is a 501(c)3 nonprofit organization\, EIN #83-2653099 \n📍 Valley Animal Partners | Pet Place Market213 Bendigo Blvd N #2\, North Bend WA 98045 \nThis is a first come\, first-serve service. Spaces are limited and we cannot guarantee everyone will be seen. Two pets per family limit. Code of conduct applies. \nContact:🌐 www.seattlevet.org✉️ info@seattlevet.org
URL:https://livingsnoqualmie.com/event/seattle-veterinary-outreach-vaccine-clinics/
LOCATION:Pet Place Market\, 213 Bendigo Blvd N. Ste 2\, North Bend\, WA\, 98045\, United States
ATTACH;FMTTYPE=image/jpeg:https://livingsnoqualmie.com/wp-content/uploads/2025/09/SVO-VAP_Clinic_Calendar_Page_1.jpg
END:VEVENT
BEGIN:VEVENT
DTSTART;TZID=America/Los_Angeles:20251004T090000
DTEND;TZID=America/Los_Angeles:20251004T120000
DTSTAMP:20260422T173613
CREATED:20250907T185345Z
LAST-MODIFIED:20250907T185345Z
UID:62326-1759568400-1759579200@livingsnoqualmie.com
SUMMARY:Love Snoqualmie Valley Volunteer Day
DESCRIPTION:Love Snoqualmie Valley Volunteer Day is on Saturday\, October 4th! Join the City of Carnation at Valley Memorial Park (31999 E Blanche Street) at 9:00 AM for its clean-up. \nThe City of Carnation needs your help! They have a small public works crew that works very hard to keep the parks mowed and clean. Valley Memorial Park is a 7-acre park with lots of amenities\, including a skate bowl\, playground\, tennis and basketball courts\, dog park and more. Their team could use your help to really make the park shine through washing park benches\, picking up branches\, painting over graffiti\, filling holes in the dog park and cleaning up around the tennis and basketball courts. Come for as long as you can; even an hour will have an enormous impact. \nProject Leader: Rhonda Ender \nDo volunteers need to bring anything? (gloves\, shovels\, water bottle?) \nYes! Dress for park clean-up and maybe painting. Bring gardening or work gloves. \nDo volunteers need to wear anything specific? (close-toed shoes\, a jacket\, etc.) \nYes! Wear closed-toed shoes and dress for park cleanup and possibly painting. Wear weather-appropriate clothes. \nClick HERE to sign up!
URL:https://livingsnoqualmie.com/event/love-snoqualmie-valley-volunteer-day/
LOCATION:Valley Memorial Park\, 31999 Blanche St\, Carnation\, WA\, 98014\, United States
ATTACH;FMTTYPE=image/png:https://livingsnoqualmie.com/wp-content/uploads/2025/09/unnamed-1.png
END:VEVENT
BEGIN:VEVENT
DTSTART;TZID=America/Los_Angeles:20251004T130000
DTEND;TZID=America/Los_Angeles:20251004T160000
DTSTAMP:20260422T173613
CREATED:20250920T164202Z
LAST-MODIFIED:20250920T164202Z
UID:62458-1759582800-1759593600@livingsnoqualmie.com
SUMMARY:Art Gallery of SnoValley: Mt. Si Artist Guild Small Works Show
DESCRIPTION:Art Gallery of SnoValley \nMt. Si Artist GuildSmall Works Show \nReception and Awards Ceremonywith our esteemed juror\,Kay Barnes\, CWA\, NWWS \nSaturday\, October 4\, 2025 | 1–4 PMSmall Works Awards Ceremony 1–2 PMGallery Open House 2–4 PM \nExhibition runs from October 1–31\, 2025 \n8130 Railroad Ave\, Snoqualmie\, WA 98065
URL:https://livingsnoqualmie.com/event/art-gallery-of-snovalley-mt-si-artist-guild-small-works-show/
LOCATION:Art Gallery Sno Valley\, 8130 Railroad Ave SE\, Snoqualmie\, WA\, 98065\, United States
ATTACH;FMTTYPE=image/jpeg:https://livingsnoqualmie.com/wp-content/uploads/2025/09/small-works-show-social-for-reception-2025_orig.jpg
END:VEVENT
BEGIN:VEVENT
DTSTART;TZID=America/Los_Angeles:20251004T160000
DTEND;TZID=America/Los_Angeles:20251004T173000
DTSTAMP:20260422T173613
CREATED:20250913T195351Z
LAST-MODIFIED:20250913T195351Z
UID:62409-1759593600-1759599000@livingsnoqualmie.com
SUMMARY:Toast to Fall: Garden-to-Glass Mixology Class
DESCRIPTION:Toast to Fall: Garden-to-Glass Mixology Class \nSaturday\, October 4\, 2025\, 4:00 to 5:30 p.m. PDT\nSalish Lodge & Spa\, 6501 Railroad Avenue\, Snoqualmie\, WA 98065 \nCelebrate autumn at Salish Lodge & Spa with a hands-on mixology class highlighting fresh garden ingredients. Guests will craft and enjoy three cocktails featuring housemade syrups from Simple Goodness Sisters and premium spirits from Monson Ranch Distillers by Goose Ridge. Non-alcoholic options are available. \nDetails: Ages 21 plus\, in person\, 90 minutes\, free venue parking. Refunds are available up to seven days before the event. Space is limited; advance tickets required.
URL:https://livingsnoqualmie.com/event/toast-to-fall-garden-to-glass-mixology-class/
LOCATION:Salish Lodge & Spa\, 6501 RAILROAD AVE SE\, Snoqualmie\, WA\, 98065\, United States
ATTACH;FMTTYPE=image/jpeg:https://livingsnoqualmie.com/wp-content/uploads/2025/09/https___cdn.evbuc_.com_images_1089062813_1975143947343_1_original.jpg
END:VEVENT
BEGIN:VEVENT
DTSTART;TZID=America/Los_Angeles:20251009T083000
DTEND;TZID=America/Los_Angeles:20251009T093000
DTSTAMP:20260422T173613
CREATED:20251003T163822Z
LAST-MODIFIED:20251003T163822Z
UID:62581-1759998600-1760002200@livingsnoqualmie.com
SUMMARY:Sno-Valley Senior Center Veterans Breakfast
DESCRIPTION:VETERANS\, ENJOY A FREEVETERANS BREAKFAST \nOctober 9th\, 8:30 AM\, and on every second Thursday\,AT SNO-VALLEY SENIOR CENTER \nNO SIGNUPS\, JUST SHOW UPCOFFEE\, PASTRIES & CONVERSATIONALL VETERANS WELCOME \nTHANKS TO KING COUNTY COUNCILMEMBER SARAH PERRY! \nSno-Valley Senior Center4610 Stephens Ave\, Carnation\, WA 98014www.snovalleysenior.org425-333-4152
URL:https://livingsnoqualmie.com/event/sno-valley-senior-center-veterans-breakfast-2/
LOCATION:Sno-Valley Senior Center\, 4610 Stephens Ave\, Carnation\, WA\, 98014\, United States
ATTACH;FMTTYPE=image/jpeg:https://livingsnoqualmie.com/wp-content/uploads/2025/10/SVSC_Oct_vets_breakfast.jpg
ORGANIZER;CN="Sno-Valley Senior Center":MAILTO:svsc@soundgenerations.org
END:VEVENT
BEGIN:VEVENT
DTSTART;TZID=America/Los_Angeles:20251011T090000
DTEND;TZID=America/Los_Angeles:20251011T160000
DTSTAMP:20260422T173613
CREATED:20250915T220820Z
LAST-MODIFIED:20250915T220820Z
UID:62426-1760173200-1760198400@livingsnoqualmie.com
SUMMARY:Carnation Farms Harvest Market
DESCRIPTION:Harvest Market\n\n\nOctober 11 @ 9:00 am – 4:00 pm\n\n\n\nJoin Carnation Farms to celebrate the bounty of Autumn! They will be hosting their annual Harvest Market up at their historic Hippodrome on October 11 from 9 am-4 pm. \nEnjoy hot food and drinks from their Culinary Team\, take a history tour around the main grounds with their Archivist\, snap a selfie in the fall-themed photobooth\, and pick up autumnal decor from local Artisan Vendors. You’ll find homemade soaps\, clothes\, art\, sweets\, gifts\, and more to bring in the season! \nPlenty of fun for the whole family! (but please leave your pets at home). \nGuest RSVP Here!\n 
URL:https://livingsnoqualmie.com/event/carnation-farms-harvest-market/
LOCATION:Carnation Farms\, 8901 NE Carnation Farm Road\, Carnation\, WA\, 98014\, United States
ATTACH;FMTTYPE=image/jpeg:https://livingsnoqualmie.com/wp-content/uploads/2025/09/Screenshot-2025-09-15-150623.jpg
ORGANIZER;CN="Carnation Farms":MAILTO:info@carnationfarms.org
END:VEVENT
BEGIN:VEVENT
DTSTART;TZID=America/Los_Angeles:20251011T100000
DTEND;TZID=America/Los_Angeles:20251011T110000
DTSTAMP:20260422T173613
CREATED:20251010T163908Z
LAST-MODIFIED:20251010T163908Z
UID:62664-1760176800-1760180400@livingsnoqualmie.com
SUMMARY:12th Legislative District Town Hall
DESCRIPTION:12th Legislative District Town Hall \nSen. Keith Goehner | Rep. Mike Steele | Rep. Brian Burnett \nSaturday\, October 11\, from 10:00 am – 11:00 am\nMiller’s\n4597 Tolt Ave.\, Carnation\, WA 98014 \nWHO: Sen. Keith Goehner\, Rep. Mike Steele\, and Rep. Brian Burnett\nWHAT: 12th Legislative District Town Hall\nWHEN: Saturday\, Oct. 11\, from 10:00 am – 11:00 am\nWHERE: Miller’s in historic downtown Carnation\n4597 Tolt Ave.\, Carnation\, WA 98014 \nCome hear an update on the 2025 legislative session\, what lawmakers expect for the upcoming 2026 session\, ask your local legislators questions\, and relay your concerns.  \nMake your voices heard! Carnation’s Washington State Legislators will be at Miller’s on Saturday for a Town Hall. Mayor Jim Ribail will be moderating the discussion. Bring your questions and concerns and stay for cookies!
URL:https://livingsnoqualmie.com/event/12th-legislative-district-town-hall/
LOCATION:Miller’s Carnation\, 4597 Tolt Ave\, Carnation\, WA\, 98104\, United States
ATTACH;FMTTYPE=image/jpeg:https://livingsnoqualmie.com/wp-content/uploads/2025/10/unnamed.jpg
END:VEVENT
BEGIN:VEVENT
DTSTART;TZID=America/Los_Angeles:20251012T160000
DTEND;TZID=America/Los_Angeles:20251012T173000
DTSTAMP:20260422T173613
CREATED:20250927T201912Z
LAST-MODIFIED:20250927T201912Z
UID:62523-1760284800-1760290200@livingsnoqualmie.com
SUMMARY:“Visual Transcendence” Gallery Exhibition by Stefanie Angelina Allison
DESCRIPTION:“Visual Transcendence”Gallery Exhibition by Snoqualmie Valley artist Stefanie Angelina Allison \nPublic Reception:Sunday\, Oct. 12 | 4–5:30 p.m.Blakely Hall \nViewing:Sept. 30 – Nov. 2 | Weekdays 9 a.m.–4 p.m.Blakely Hall Art Gallery \nEnjoy local art with friends and neighbors as you view “Visual Transcendence” and meet artist Stephanie Angelina Allison! Open house-style. Refreshments provided.
URL:https://livingsnoqualmie.com/event/visual-transcendence-gallery-exhibition-by-stefanie-angelina-allison/
LOCATION:Blakely Hall\, 2550 NE Park Drive\, Issaquah\, WA\, 98029\, United States
ATTACH;FMTTYPE=image/jpeg:https://livingsnoqualmie.com/wp-content/uploads/2025/09/3759846722454702423.jpg
END:VEVENT
BEGIN:VEVENT
DTSTART;TZID=America/Los_Angeles:20251023T170000
DTEND;TZID=America/Los_Angeles:20251023T190000
DTSTAMP:20260422T173613
CREATED:20251019T220410Z
LAST-MODIFIED:20251019T220410Z
UID:62763-1761238800-1761246000@livingsnoqualmie.com
SUMMARY:CARNATION CITY COUNCIL FALL OPEN HOUSE
DESCRIPTION:YOU’RE INVITED \nCARNATION CITY COUNCILFALL OPEN HOUSE \nDate: Thursday\, October 23\, 2025Time: 5:00 PM – 7:00 PMLocation: City Hall (4621 Tolt Avenue) \nBEFORE COUNCIL SETS THEIR 2026 PRIORITIES…THEY WANT TO HEAR FROM YOU! \nWhat is your top priority for Carnation? \nWhere would you show a visitor in their first hour in Carnation? \nWhat kind of jobs do you want to see created in Carnation? \nKiddos welcome! Come decorate fall cookies and help design a new park.
URL:https://livingsnoqualmie.com/event/carnation-city-council-fall-open-house/
LOCATION:Carnation City Hall\, 4621 Tolt Avenue\, Carnation\, WA\, 98014\, United States
ATTACH;FMTTYPE=image/png:https://livingsnoqualmie.com/wp-content/uploads/2025/10/unnamed.png
END:VEVENT
BEGIN:VEVENT
DTSTART;TZID=America/Los_Angeles:20251024T170000
DTEND;TZID=America/Los_Angeles:20251024T190000
DTSTAMP:20260422T173613
CREATED:20250913T220433Z
LAST-MODIFIED:20250913T221014Z
UID:62412-1761325200-1761332400@livingsnoqualmie.com
SUMMARY:Sip & Savor: A Spirit-Free Evening at Salish Lodge & Spa
DESCRIPTION:Join the beautiful Salish Lodge & Spa on Friday\, October 24th\, from 5-7 PM for a refreshing evening of non-alcoholic indulgence. \nEnjoy a curated tasting event featuring local vendors of spirit-free libations\, a delicious selection of appetizers\, and live music in an intimate\, scenic setting. \nWhether you’re sober curious or just looking for a unique night out\, this is a night you won’t want to miss!
URL:https://livingsnoqualmie.com/event/sip-savor-a-spirit-free-evening-at-salish-lodge-spa/
LOCATION:Salish Lodge & Spa\, 6501 RAILROAD AVE SE\, Snoqualmie\, WA\, 98065\, United States
ATTACH;FMTTYPE=image/jpeg:https://livingsnoqualmie.com/wp-content/uploads/2025/09/Screenshot-2025-09-13-125812.jpg
END:VEVENT
BEGIN:VEVENT
DTSTART;TZID=America/Los_Angeles:20251024T180000
DTEND;TZID=America/Los_Angeles:20251024T200000
DTSTAMP:20260422T173613
CREATED:20251008T210649Z
LAST-MODIFIED:20251008T210649Z
UID:62644-1761328800-1761336000@livingsnoqualmie.com
SUMMARY:Carnation Farms Letters to the Dead: connecting to our beloved lost
DESCRIPTION:Letters to the Dead: connecting to our beloved lost\n\n\nOctober 24 @ 6:00 pm – 8:00 pm \n\n\n\nAs we enter the season of Halloween – believed by ancient Celts to be the time the veil between our world and “the other side” thins – join poet and mindfulness teacher Anna Sullivan for a spacious exploration into death and loss. This two-hour workshop combines intentional community and handwritten letters to support deep connection: to ourselves\, each other\, and our beloved lost. \nWriting letters to those who have died is a powerful tool\, a way to meaningfully express gratitude\, grief\, or even outstanding grievances/questions. This event\, inspired by Postal Service for the Dead\, is for anyone looking to connect to lost loved ones (through death or some other kind of way) at any stage of life. \nMaterials will be provided\, with additional information emailed prior to the event. Participants aged 18+ please.
URL:https://livingsnoqualmie.com/event/carnation-farms-letters-to-the-dead-connecting-to-our-beloved-lost/
LOCATION:Carnation Farms\, 8901 NE Carnation Farm Road\, Carnation\, WA\, 98014\, United States
ATTACH;FMTTYPE=image/jpeg:https://livingsnoqualmie.com/wp-content/uploads/2025/10/unnamed-9-scaled-1.jpg
END:VEVENT
BEGIN:VEVENT
DTSTART;TZID=America/Los_Angeles:20251028T100000
DTEND;TZID=America/Los_Angeles:20251028T140000
DTSTAMP:20260422T173613
CREATED:20251010T175931Z
LAST-MODIFIED:20251010T175931Z
UID:62675-1761645600-1761660000@livingsnoqualmie.com
SUMMARY:FREE Care Point Clinic MOBILE CLINIC
DESCRIPTION:FREE Care Point ClinicMOBILE CLINIC \nTuesday\, October 28\, 2025Located at Tolt Triangle Park (4620 Tolt Avenue) in downtown Carnation10:00 am – 2:00 pm \nAlways FREE medical care from our amazing medical team \nAppointments are suggested and can be made by calling or emailing CarePoint Clinic. Walk-ins will be seen as time allows. \nFor more information or to make an appointment:425-478-6627 or info@carepointonline.orgwww.carepointonline.org \n\nBe seen by our medical staff for any concerns\, such as: \n\n\nCholesterol \n\n\nBlood pressure \n\n\nDiabetes \n\n\nWomen’s health \n\n\nIllness \n\n\nor if you just haven’t been to a doctor for a while
URL:https://livingsnoqualmie.com/event/free-care-point-clinic-mobile-clinic/
LOCATION:Tolt Triangle\, 4621 Tolt Avenue\, Carnation\, 98014\, United States
ATTACH;FMTTYPE=image/png:https://livingsnoqualmie.com/wp-content/uploads/2025/10/unnamed-1-1.png
END:VEVENT
BEGIN:VEVENT
DTSTART;TZID=America/Los_Angeles:20251029T090000
DTEND;TZID=America/Los_Angeles:20251029T140000
DTSTAMP:20260422T173613
CREATED:20251024T190134Z
LAST-MODIFIED:20251024T190134Z
UID:62820-1761728400-1761746400@livingsnoqualmie.com
SUMMARY:Valley Animal Partners Sick Pet and Vaccine Clinic
DESCRIPTION:Clinic Date Time Description10/29/2025 9 AM – 2 PM Sick Pet Clinic and Vaccine Clinic \nSLIDING SCALE VETERINARY CAREFor people living unhoused or low income \nSchedule is subject to change. Please check seattlevet.org/calendar for current schedule. \nSeattle Veterinary Outreach is a 501(c)(3) nonprofit organization\, EIN #83-2653099www.seattlevet.org info@seattlevet.org \nWe are a first-come\, first-serve service. Spaces are limited and we cannot guarantee everyone will be seen. Two pets per family limit. Code of conduct applies. \nValley Animal Partners | Pet Place Market213 Bendigo Blvd N #2\, North Bend WA 98045
URL:https://livingsnoqualmie.com/event/valley-animal-partners-sick-pet-and-vaccine-clinic/
LOCATION:Pet Place Market\, 213 Bendigo Blvd N. Ste 2\, North Bend\, WA\, 98045\, United States
ATTACH;FMTTYPE=image/jpeg:https://livingsnoqualmie.com/wp-content/uploads/2025/10/Screenshot-2025-10-24-115801.jpg
END:VEVENT
BEGIN:VEVENT
DTSTART;TZID=America/Los_Angeles:20251031T210000
DTEND;TZID=America/Los_Angeles:20251031T210000
DTSTAMP:20260422T173613
CREATED:20251028T165026Z
LAST-MODIFIED:20251028T165228Z
UID:62878-1761944400-1761944400@livingsnoqualmie.com
SUMMARY:Pour House Pete's Halloween Dance Party
DESCRIPTION:21+ \nINVASION(OF THE BODY SNATCHERS) \nHALLOWEEN DANCE PARTY \nEDM and Classic PopBig Sound\, Big Video\, Big Lasers \nPour House Pete’s\, 4640 Tolt Ave\, Carnation\, WA. (203 highway) \nFriday Oct 31st\, 9pm – 1am \nCostume ContestWinner announced at midnight with prizes \nNO COVER
URL:https://livingsnoqualmie.com/event/pour-house-petes-halloween-dance-party/
LOCATION:Pour House Pete’s\, 4640 Tolt Ave\, Carnation\, WA\, 98014\, United States
ATTACH;FMTTYPE=image/jpeg:https://livingsnoqualmie.com/wp-content/uploads/2025/10/Halloween2025.jpg
ORGANIZER;CN="Pour House Pete's":MAILTO:Pourhousecarnation@gmail.com
END:VEVENT
END:VCALENDAR