BEGIN:VCALENDAR
VERSION:2.0
PRODID:-//Living Snoqualmie - ECPv6.15.20//NONSGML v1.0//EN
CALSCALE:GREGORIAN
METHOD:PUBLISH
X-WR-CALNAME:Living Snoqualmie
X-ORIGINAL-URL:https://livingsnoqualmie.com
X-WR-CALDESC:Events for Living Snoqualmie
REFRESH-INTERVAL;VALUE=DURATION:PT1H
X-Robots-Tag:noindex
X-PUBLISHED-TTL:PT1H
BEGIN:VTIMEZONE
TZID:America/Los_Angeles
BEGIN:DAYLIGHT
TZOFFSETFROM:-0800
TZOFFSETTO:-0700
TZNAME:PDT
DTSTART:20240310T100000
END:DAYLIGHT
BEGIN:STANDARD
TZOFFSETFROM:-0700
TZOFFSETTO:-0800
TZNAME:PST
DTSTART:20241103T090000
END:STANDARD
BEGIN:DAYLIGHT
TZOFFSETFROM:-0800
TZOFFSETTO:-0700
TZNAME:PDT
DTSTART:20250309T100000
END:DAYLIGHT
BEGIN:STANDARD
TZOFFSETFROM:-0700
TZOFFSETTO:-0800
TZNAME:PST
DTSTART:20251102T090000
END:STANDARD
BEGIN:DAYLIGHT
TZOFFSETFROM:-0800
TZOFFSETTO:-0700
TZNAME:PDT
DTSTART:20260308T100000
END:DAYLIGHT
BEGIN:STANDARD
TZOFFSETFROM:-0700
TZOFFSETTO:-0800
TZNAME:PST
DTSTART:20261101T090000
END:STANDARD
END:VTIMEZONE
BEGIN:VEVENT
DTSTART;TZID=America/Los_Angeles:20250802T160000
DTEND;TZID=America/Los_Angeles:20250802T180000
DTSTAMP:20260422T204708
CREATED:20250728T185936Z
LAST-MODIFIED:20250728T185936Z
UID:61948-1754150400-1754157600@livingsnoqualmie.com
SUMMARY:Art Gallery of SnoValley Artists' Reception and Open House
DESCRIPTION:Art Gallery of SnoValley \nArtists’ Reception and Open House\nView the Beautiful New Artwork in the Gallery! \n4–6 pm Saturday\, August 2\, 2025\n8130 Railroad Ave SE\, Snoqualmie\, WA 98065 \n• Meet the Artists •\n• Enjoy Wonderful Food and Drink •\nWatch an In-Person Demo with Artist\nStefanie Angelina Allison \n 
URL:https://livingsnoqualmie.com/event/art-gallery-of-snovalley-artists-reception-and-open-house/
LOCATION:Art Gallery Sno Valley\, 8130 Railroad Ave SE\, Snoqualmie\, WA\, 98065\, United States
ATTACH;FMTTYPE=image/jpeg:https://livingsnoqualmie.com/wp-content/uploads/2025/07/Artist-Reception-Aug-Social.jpg
END:VEVENT
BEGIN:VEVENT
DTSTART;TZID=America/Los_Angeles:20250802T180000
DTEND;TZID=America/Los_Angeles:20250802T210000
DTSTAMP:20260422T204708
CREATED:20250708T225845Z
LAST-MODIFIED:20250708T225845Z
UID:61689-1754157600-1754168400@livingsnoqualmie.com
SUMMARY:Carnation Farms Barn Dance
DESCRIPTION:Barn Dance\n\nAugust 2 @ 6:00 pm – 9:00 pm\n$15.00\n\n\nKick up your heels and join Carnation Farms for another fun-filled night of dancing and community! \nLearn some new moves in their historic Hippodrome with Amanda Johnson\, owner of Snoqualmie Valley Line Dancing and a country dance instructor with over ten years of experience. Whether you’re a seasoned pro or a total beginner\, all skill levels are welcome! \nDoors open at 5:30 PM\nLine dance lesson starts at 6:00 PM\nOpen floor and guided dance until 9:00 PM \nThey’ll have delicious food coming hot off the BBQ from our in-house Culinary Team\, and drinks will be available for purchase from  Alveare Winery and Big Block Brewery. Don’t miss this chance to dance the night away and connect with friends in this beautiful community
URL:https://livingsnoqualmie.com/event/carnation-farms-barn-dance-2/
LOCATION:Carnation Farms\, 8901 NE Carnation Farm Road\, Carnation\, WA\, 98014\, United States
ATTACH;FMTTYPE=image/png:https://livingsnoqualmie.com/wp-content/uploads/2025/07/Screenshot-2025-07-08-155130.png
ORGANIZER;CN="Carnation Farms":MAILTO:info@carnationfarms.org
END:VEVENT
BEGIN:VEVENT
DTSTART;TZID=America/Los_Angeles:20250805T170000
DTEND;TZID=America/Los_Angeles:20250805T190000
DTSTAMP:20260422T204708
CREATED:20250529T012225Z
LAST-MODIFIED:20250529T012225Z
UID:61001-1754413200-1754420400@livingsnoqualmie.com
SUMMARY:City of Carnation National Night Out!
DESCRIPTION:City of Carnation\nNational Night Out!\nDate: Tuesday\, August 5\, 2025\nTime: 5:00 PM – 7:00 PM\nLocation: Tolt Commons (31999 E Bird Street) \nJoin us for a FREE fun-filled evening celebrating safety through community and our first responders! \nHot Dogs | Face Paint | Live Music | Bounce House | Obstacle Course | Scavenger Hunt | Fire Truck | School Bus | Police Cars | Games and Giveaways | Non-Profit Booths \nParticipating Agencies:\nKing County Sheriff’s Office | Empower Youth Network | Riverview School District | Carnation Duvall Citizen Corps | HopeLink | Eastside Fire & Rescue | Sno-Valley Pride | King County Office of Emergency Management | Sno-Valley Senior Center | Morgan Henley Presents | Carnation Chamber of Commerce | A Supportive Community for All | King County Flood Control District | Snoqualmie Valley Preservation Alliance | Carnation Farmer’s Market | Encompass \nThank you to our sponsor!\nPSE Puget Sound Energy
URL:https://livingsnoqualmie.com/event/city-of-carnation-national-night-out/
LOCATION:Tolt Commons\, 32150 E Commercial St\, Carnation\, WA\, 98014\, United States
ATTACH;FMTTYPE=image/png:https://livingsnoqualmie.com/wp-content/uploads/2025/05/unnamed-6.png
END:VEVENT
BEGIN:VEVENT
DTSTART;TZID=America/Los_Angeles:20250809T170000
DTEND;TZID=America/Los_Angeles:20250809T210000
DTSTAMP:20260422T204708
CREATED:20250801T020532Z
LAST-MODIFIED:20250801T020532Z
UID:61976-1754758800-1754773200@livingsnoqualmie.com
SUMMARY:Carnation Farms: Farm Dinner Series – Feast in the Field
DESCRIPTION:Farm Dinner Series – Feast in the Field\n\n\nAugust 9 @ 5:00 pm – 9:00 pm\n\n\n\nCome spend an unforgettable summer evening with us at Carnation Farms\, where the fields are bursting with flavor and every bite has a story. \nWe’re hosting a special farm-to-table dinner\, featuring pasture-raised lamb and beef from right here on the farm\, just-picked organic veggies\, and perfectly paired wines featuring guest On August 9 we will welcome guest Chef Ben Vaughn\, from Sow Project in Tennessee. \nYou’ll kick off the night with a guided walk through the fields alongside our Director of Agriculture\, Eric Popp—he’ll share how we grow and graze with care in the heart of the Snoqualmie Valley. Then\, settle in at the table for a multi-course dinner crafted by our chefs and inspired by the season. This is your chance to meet the folks behind your food—our farmers\, chefs\, and local partners—and soak up the beauty of a long summer evening on the farm. \nAll in a gorgeous setting\, great company\, and stories from the farm. Come hungry\, curious\, and ready to connect. \nDinner will feature a set menu highlighting peak-season ingredients. Our guest chefs will do their best to accommodate dietary restrictions when possible\, but minimal substitutions may be available. \n  \nBen Vaughn is an award-winning chef\, best-selling author\, restaurateur\, and featured television personality. In addition\, Ben is a husband\, and a father of four\, passionate about food and his community. Ben’s love for accessible and delicious “people” food is what inspired him to write his book\, “Southern Routes\,” a Wall Street Journal and Amazon Bestseller\, which chronicles his journey to find the best family-owned restaurants from North Carolina to Texas and share their recipes\, culture\, life\, and love for food. For Ben\, life is about sharing stories and amazing\, approachable food with the hungry masses. In addition to being a writer and author\, Ben is a television host and personality who has been featured on the Food Network\, Travel Channel\, and A+E Network. Ben is also the host and co-producer of the digital series “The Breakfast Show.” His culinary career started in South Florida and flourished as he became chef and partner of several trendsetting and critically acclaimed restaurants (River Oaks\, Grace\, Au Fond Farmtable\, White Oak Kitchen\, Root to Tail\, and Libertine’s Pizza) throughout the Southeast. Ben’s true passion lies in great food and the stories that can be told through food. He is the founder of The Center of Culinary Cultivation and serves as the Culinary Director for his restaurant group Be Nice.
URL:https://livingsnoqualmie.com/event/carnation-farms-farm-dinner-series-feast-in-the-field/
LOCATION:Carnation Farms\, 8901 NE Carnation Farm Road\, Carnation\, WA\, 98014\, United States
ATTACH;FMTTYPE=image/jpeg:https://livingsnoqualmie.com/wp-content/uploads/2025/07/Farm-Dinner-Series-–-Feast-in-the-Field-600x400-1.jpg
ORGANIZER;CN="Carnation Farms":MAILTO:info@carnationfarms.org
END:VEVENT
BEGIN:VEVENT
DTSTART;TZID=America/Los_Angeles:20250813T100000
DTEND;TZID=America/Los_Angeles:20250813T120000
DTSTAMP:20260422T204708
CREATED:20250804T163713Z
LAST-MODIFIED:20250804T163713Z
UID:61999-1755079200-1755086400@livingsnoqualmie.com
SUMMARY:Carnation Farms-Historic Farm Museum Tour
DESCRIPTION:Historic Farm Museum Tour\n\n\nAugust 13 @ 10:00 am – 12:00 pm\n\n\n\nStep back in time with us at Carnation Farms! \nOur farm has a rich history\, and we love sharing it with our community. Join our Community Engagement Manager for an engaging tour of our Farm Museum\, where you’ll uncover fascinating facts and hear unique stories about Carnation Farms. \nThe tour lasts approximately one hour and begins at our Farmstand. Whether you’re a history buff or just curious about our farm’s legacy\, this is a great way to learn and connect. We can’t wait to see you there! \nTours are FREE for all ages\, but require a reservation\, on a limited\, first-come\, first-served basis.
URL:https://livingsnoqualmie.com/event/carnation-farms-historic-farm-museum-tour/
LOCATION:Carnation Farms\, 8901 NE Carnation Farm Road\, Carnation\, WA\, 98014\, United States
ATTACH;FMTTYPE=image/png:https://livingsnoqualmie.com/wp-content/uploads/2025/08/History-Tour-3.png
ORGANIZER;CN="Carnation Farms":MAILTO:info@carnationfarms.org
END:VEVENT
BEGIN:VEVENT
DTSTART;TZID=America/Los_Angeles:20250816T100000
DTEND;TZID=America/Los_Angeles:20250816T160000
DTSTAMP:20260422T204708
CREATED:20250721T161953Z
LAST-MODIFIED:20250721T161953Z
UID:61889-1755338400-1755360000@livingsnoqualmie.com
SUMMARY:Art Gallery of SnoValley- Creating a Sketchbook
DESCRIPTION:Art Gallery of SnoValley \nCreating a Sketchbook\nFrom an Upcycled\nChildren’s Board Book With Artist Laurie Kathleen Clark \nSaturday\, August 16th\, 10 am–4 pm\nCost: $10 (all supplies included)\nOpen to Anyone 16+ Years Old\nand All Skill Levels \nRegister online at www.artgalleryofsnovalley.com \nThank you to 4Culture and the Public Free Access Grant for funding this class. \n 
URL:https://livingsnoqualmie.com/event/art-gallery-of-snovalley-creating-a-sketchbook/
LOCATION:Art Gallery Sno Valley\, 8130 Railroad Ave SE\, Snoqualmie\, WA\, 98065\, United States
ATTACH;FMTTYPE=image/jpeg:https://livingsnoqualmie.com/wp-content/uploads/2025/07/IMG_2275.jpg
END:VEVENT
BEGIN:VEVENT
DTSTART;TZID=America/Los_Angeles:20250817T100000
DTEND;TZID=America/Los_Angeles:20250817T200000
DTSTAMP:20260422T204708
CREATED:20250707T190934Z
LAST-MODIFIED:20250707T190934Z
UID:61658-1755424800-1755460800@livingsnoqualmie.com
SUMMARY:The Carnation Concert Crawl!
DESCRIPTION:The Carnation Concert Crawl!Brought to you by Morgan Henley Presents & the City of Carnation \nSunday\, August 17th \nLive Performances from the PNW’s Best!10 am to Noon – Carnation Cafe – Sheyenne LeonardNoon to 2 pm – Tolt Commons – Serious Goose2 pm to 4 pm – Big Block Brewery – Stomping Ground4 pm to 6 pm – Miller’s – Massy Ferguson6 pm to 8 pm – Pourhouse Pete’s – Eden \nAll Ages! FREE!Vendor Village @ Tolt Commons \nPick Up Your Concert Passport @ the Carnation Cafe to Enter Yourself to Win a Prize! \nFor more information\, please visit CARNATIONWA.GOVFueled by the Port of Seattle
URL:https://livingsnoqualmie.com/event/the-carnation-concert-crawl/
LOCATION:Tolt Commons\, 32150 E Commercial St\, Carnation\, WA\, 98014\, United States
ATTACH;FMTTYPE=image/jpeg:https://livingsnoqualmie.com/wp-content/uploads/2025/07/unnamed-3.jpg
END:VEVENT
BEGIN:VEVENT
DTSTART;TZID=America/Los_Angeles:20250829T120000
DTEND;TZID=America/Los_Angeles:20250829T130000
DTSTAMP:20260422T204708
CREATED:20250827T181747Z
LAST-MODIFIED:20250827T181747Z
UID:62257-1756468800-1756472400@livingsnoqualmie.com
SUMMARY:Carnation Cool Down
DESCRIPTION:Cool-down this Friday with a firetruck sprinkler and some shaved ice! \nWho: City of Carnation\, Eastside Fire & Rescue\, Two Bumz Shaved Ice \nWhat: ESFR will bring their firetruck to spray the Tolt Commons for about 15 minutes. A shave ice truck will be available for a refreshing treat afterward. \nWhere: Tolt Commons \nWhen: Friday\, August 29\, 2025\, at 12 pm \nWhy: Because it is hot… real hot!
URL:https://livingsnoqualmie.com/event/carnation-cool-down/
LOCATION:Tolt Commons\, 32150 E Commercial St\, Carnation\, WA\, 98014\, United States
ATTACH;FMTTYPE=image/png:https://livingsnoqualmie.com/wp-content/uploads/2025/08/unnamed-1-1.png
END:VEVENT
END:VCALENDAR