BEGIN:VCALENDAR
VERSION:2.0
PRODID:-//Living Snoqualmie - ECPv6.15.20//NONSGML v1.0//EN
CALSCALE:GREGORIAN
METHOD:PUBLISH
X-WR-CALNAME:Living Snoqualmie
X-ORIGINAL-URL:https://livingsnoqualmie.com
X-WR-CALDESC:Events for Living Snoqualmie
REFRESH-INTERVAL;VALUE=DURATION:PT1H
X-Robots-Tag:noindex
X-PUBLISHED-TTL:PT1H
BEGIN:VTIMEZONE
TZID:America/Los_Angeles
BEGIN:DAYLIGHT
TZOFFSETFROM:-0800
TZOFFSETTO:-0700
TZNAME:PDT
DTSTART:20230312T100000
END:DAYLIGHT
BEGIN:STANDARD
TZOFFSETFROM:-0700
TZOFFSETTO:-0800
TZNAME:PST
DTSTART:20231105T090000
END:STANDARD
BEGIN:DAYLIGHT
TZOFFSETFROM:-0800
TZOFFSETTO:-0700
TZNAME:PDT
DTSTART:20240310T100000
END:DAYLIGHT
BEGIN:STANDARD
TZOFFSETFROM:-0700
TZOFFSETTO:-0800
TZNAME:PST
DTSTART:20241103T090000
END:STANDARD
BEGIN:DAYLIGHT
TZOFFSETFROM:-0800
TZOFFSETTO:-0700
TZNAME:PDT
DTSTART:20250309T100000
END:DAYLIGHT
BEGIN:STANDARD
TZOFFSETFROM:-0700
TZOFFSETTO:-0800
TZNAME:PST
DTSTART:20251102T090000
END:STANDARD
END:VTIMEZONE
BEGIN:VEVENT
DTSTART;TZID=America/Los_Angeles:20240806T070000
DTEND;TZID=America/Los_Angeles:20240811T190000
DTSTAMP:20260423T160605
CREATED:20240709T192033Z
LAST-MODIFIED:20240709T194537Z
UID:55495-1722927600-1723402800@livingsnoqualmie.com
SUMMARY:Annual Boeing Classic 2024
DESCRIPTION:Annual Boeing Classic 2024 \n  \nBoeing\, Virginia Mason Franciscan Health (VMFH) and the Seattle Seahawks will hold the 19th annual\nBoeing Classic professional golf tournament on Monday\, Aug. 5 through Sunday\, Aug. 11. The event is\nan opportunity for Puget Sound residents to experience professional golf and other exciting events\,\nsuch as a Kids Clinic\, Boeing Jet flyovers and a new Seahawks Village. \nSpectators can enjoy the new interactive located above the 18th hole where former Seahawks players will sign autographs. Other\nactivities include a DJ booth\, silent disco\, family crafts\, and a Seahawks putting green and a lounge\narea overlooking the 18th hole. As the primary beneficiary of the Boeing Classic\, the Benaroya\nResearch Institute (BRI) at VMFH – a world leader in human immunology – uses the proceeds to\nadvance cutting-edge research to predict\, prevent\, reverse and cure diseases that involve the immune\nsystem. \nDate and time: August 6-11\, 2024\n● Tuesday\, August 6: 9:00 am – 5 pm (PGA TOUR Champions Practice Round ALL DAY)\n● Wednesday\, August 7: 7:00 am – 7:00 pm\n● Thursday\, August 8: 7:00 am – 12:20 pm\n● Friday\, August 9: 9:00 am – 6:30 pm\n● Saturday\, August 10: 8:00 am – 5:00 pm\n● Sunday\, August 11: 8:00 am – 5:00 pm
URL:https://livingsnoqualmie.com/event/annual-boeing-classic-2024/
LOCATION:The Club at Snoqualmie Ridge\, 36005 SE Ridge Street\, Snoqualmie\, WA\, 98065\, United States
END:VEVENT
BEGIN:VEVENT
DTSTART;TZID=America/Los_Angeles:20240810T170000
DTEND;TZID=America/Los_Angeles:20240810T200000
DTSTAMP:20260423T160605
CREATED:20240804T041133Z
LAST-MODIFIED:20240804T041133Z
UID:55949-1723309200-1723320000@livingsnoqualmie.com
SUMMARY:Carnation Farms-Feast in the Field: Winemakers Dinner with Alveare Winery
DESCRIPTION:Feast in the Field: Winemakers Dinner with Alveare Winery\n\n\nAugust 10 @ 5:00 pm – 8:00 pm\n\n\n\nWine and dine amongst the sunflower blossoms and fields at Carnation Farms. Watch the sun go down\, and the lights start to twinkle! \nJoin Carnation Farms and Alveare Winery of Fall City on August 10th\, 2024\, as we celebrate the launch of Alveare’s new Malbec! \nEnjoy a curated beverage with a tour of our abundant and lush fields and meet our livestock. Our five-course dinner will feature seasonal farm crops\, all locally sourced proteins and curated beverage pairings\, courtesy of Nowhere Craft Beverages and Alveare Winery. \nVegetarian and non-alcoholic options available. \n$175  – 5 Course Meal and Cocktail Hour Farm Tour
URL:https://livingsnoqualmie.com/event/carnation-farms-feast-in-the-field-winemakers-dinner-with-alveare-winery/
LOCATION:Carnation Farms\, 8901 NE Carnation Farm Road\, Carnation\, WA\, 98014\, United States
ORGANIZER;CN="Carnation Farms":MAILTO:info@carnationfarms.org
END:VEVENT
BEGIN:VEVENT
DTSTART;TZID=America/Los_Angeles:20240817T070000
DTEND;TZID=America/Los_Angeles:20240817T220000
DTSTAMP:20260423T160605
CREATED:20240813T160940Z
LAST-MODIFIED:20240813T160940Z
UID:56139-1723878000-1723932000@livingsnoqualmie.com
SUMMARY:City of Carnation-Music and Movie in the Park
DESCRIPTION:FREE MUSIC & MOVIE IN THE PARK \nSATURDAY\, AUGUST 17\, 2024\nTOLT COMMONS – 31999 E BIRD STREET \nBring your blanket or low chairs and enjoy a family-friendly concert\, movie\, FREE popcorn\, and fun! \nEnjoy a pre-movie concert with\nSamara Reign\, lead singer of Aurora Avenue\, and Kaira Soin trained in the Indian classical string instrument\, Sitar. \nBEGINS AT 7:00 PM \nNOW SHOWING\nTHE SANDLOT \nBEGINS AT 8:30 PM
URL:https://livingsnoqualmie.com/event/city-of-carnation-music-and-movie-in-the-park/
LOCATION:Tolt Commons\, 32150 E Commercial St\, Carnation\, WA\, 98014\, United States
END:VEVENT
BEGIN:VEVENT
DTSTART;TZID=America/Los_Angeles:20240826T130000
DTEND;TZID=America/Los_Angeles:20240826T150000
DTSTAMP:20260423T160605
CREATED:20240804T185955Z
LAST-MODIFIED:20240804T185955Z
UID:55954-1724677200-1724684400@livingsnoqualmie.com
SUMMARY:Wildfire Home Risk Assessment Tour
DESCRIPTION:King Conservation District (KCD)\, in collaboration with Eastside Fire and Rescue and the Fall City Fire Department\, offers a free wildfire home assessment tour on August 26th. \nEvent Details: \n\nDate: August 26th from 1 PM to 3 PM\nLocation: Private Residence\, Redmond-Fall City Road Southeast\nRegistration: Register here\n\nAbout the Event: The rise in wildfires has highlighted the urgent need for King County communities to be better equipped to handle wildfire risks. This tour will focus on the concept of Home Ignition Zones\, offering participants an in-depth understanding of mitigating the risk of home ignition during wildfires. \nKCD foresters and local fire departments will provide practical advice on reducing vulnerability by changing the physical conditions of homes and their immediate surroundings.
URL:https://livingsnoqualmie.com/event/wildfire-home-risk-assessment-tour/
LOCATION:Redmond-Fall City Road Southeast\, Fall City\, WA\, United States
END:VEVENT
BEGIN:VEVENT
DTSTART;TZID=America/Los_Angeles:20240831T120000
DTEND;TZID=America/Los_Angeles:20240831T150000
DTSTAMP:20260423T160605
CREATED:20240826T173307Z
LAST-MODIFIED:20240826T173307Z
UID:56369-1725105600-1725116400@livingsnoqualmie.com
SUMMARY:Art Gallery of SnoValley-Acrylic Abstracts and Landscapes with Artist Stefanie Angelina Allison
DESCRIPTION:Art Gallery of SnoValley-Acrylic Abstracts and Landscapes with Artist Stefanie Angelina Allison \n\nREGISTER NOW – only $65 (all supplies included!)\nAcrylic Abstracts and Landscapes\nwith artist Stefanie Angelina Allison\nSaturday\, August 31st from 12-3 pm\nLearn to block in color and create depth and details with mark-making and spray paint. Create an abstracted landscape full of color and illustration.Abstract the background and place a realistic subject of your choosing in the foreground.\n• Class size: 15 students\n• Ages 7 and up\, Beginner friendly.\n• Cost: NOW ONLY $65 (all supplies are included)\n\n\nLocation: Old Snoqualmie Library (38580 SE River St\, Snoqualmie\, WA 98065 next to Snoqualmie City Hall)
URL:https://livingsnoqualmie.com/event/art-gallery-of-snovalley-acrylic-abstracts-and-landscapes-with-artist-stefanie-angelina-allison/
LOCATION:Old Snoqualmie Library\, 38580 SE River St\, Snoqualmie\, WA\, 98065\, United States
END:VEVENT
BEGIN:VEVENT
DTSTART;TZID=America/Los_Angeles:20240831T183000
DTEND;TZID=America/Los_Angeles:20240831T220000
DTSTAMP:20260423T160605
CREATED:20240828T193831Z
LAST-MODIFIED:20240828T193831Z
UID:56424-1725129000-1725141600@livingsnoqualmie.com
SUMMARY:The City of Carnation presents: Free Music & Movie in the Park
DESCRIPTION:The City of Carnation presents Free Music & Movie in the Park \nSaturday\, August 31\, 2024 \nTolt Commons – 31999 E Bird Street \nBring your blanket or low chairs and enjoy a family-friendly concert\, movie\, FREE popcorn\, and fun! \nEnjoy a pre-movie concert with Ozzie Ribas\, a 17-year-old fingerstyle and flamenco guitarist \nBEGINS AT 6:30 PM \nNOW SHOWING  \nSpies in Disguise \nBEGINS AT 8:15 PM \nBrought to you by: \n\nPort of Seattle\nCity of Carnation\nCarnation Chamber of Commerce
URL:https://livingsnoqualmie.com/event/the-city-of-carnation-presents-free-music-movie-in-the-park/
LOCATION:Tolt Commons\, 32150 E Commercial St\, Carnation\, WA\, 98014\, United States
END:VEVENT
END:VCALENDAR