BEGIN:VCALENDAR
VERSION:2.0
PRODID:-//Living Snoqualmie - ECPv6.15.20//NONSGML v1.0//EN
CALSCALE:GREGORIAN
METHOD:PUBLISH
X-ORIGINAL-URL:https://livingsnoqualmie.com
X-WR-CALDESC:Events for Living Snoqualmie
REFRESH-INTERVAL;VALUE=DURATION:PT1H
X-Robots-Tag:noindex
X-PUBLISHED-TTL:PT1H
BEGIN:VTIMEZONE
TZID:America/Los_Angeles
BEGIN:DAYLIGHT
TZOFFSETFROM:-0800
TZOFFSETTO:-0700
TZNAME:PDT
DTSTART:20230312T100000
END:DAYLIGHT
BEGIN:STANDARD
TZOFFSETFROM:-0700
TZOFFSETTO:-0800
TZNAME:PST
DTSTART:20231105T090000
END:STANDARD
BEGIN:DAYLIGHT
TZOFFSETFROM:-0800
TZOFFSETTO:-0700
TZNAME:PDT
DTSTART:20240310T100000
END:DAYLIGHT
BEGIN:STANDARD
TZOFFSETFROM:-0700
TZOFFSETTO:-0800
TZNAME:PST
DTSTART:20241103T090000
END:STANDARD
BEGIN:DAYLIGHT
TZOFFSETFROM:-0800
TZOFFSETTO:-0700
TZNAME:PDT
DTSTART:20250309T100000
END:DAYLIGHT
BEGIN:STANDARD
TZOFFSETFROM:-0700
TZOFFSETTO:-0800
TZNAME:PST
DTSTART:20251102T090000
END:STANDARD
END:VTIMEZONE
BEGIN:VEVENT
DTSTART;TZID=America/Los_Angeles:20240601T090000
DTEND;TZID=America/Los_Angeles:20240601T220000
DTSTAMP:20260423T194712
CREATED:20240407T163531Z
LAST-MODIFIED:20240407T163531Z
UID:54186-1717232400-1717279200@livingsnoqualmie.com
SUMMARY:Duvall Days
DESCRIPTION:This 64th annual festival celebrates the “Small Town / Real Life” community spirit of Duvall\, WA and the lower Snoqualmie Valley. Mark your calendars for May 31st and June 1st\, as the festival will kick off Friday night\, May 31st\, with the Riverview Education Foundation 5K run in McCormick Park. \nSaturday\, June 1st\, will kick off with the Duvall Days Grand Parade.  Duvall’s Main Street will be closed to traffic and becomes a pedestrian mall lined with vendor booths\, live music\, youth performances\, and art demonstrations. The fun spills over into local parks where visitors enjoy kids’ play zones\, contests and games\, food vendors\, a beer garden\, and more. We have an entertaining musical lineup for this year’s event planned for the evening followed by traditional fireworks!
URL:https://livingsnoqualmie.com/event/duvall-days/
LOCATION:Duvall Main Street\, Duvall\, WA
END:VEVENT
BEGIN:VEVENT
DTSTART;TZID=America/Los_Angeles:20240601T190000
DTEND;TZID=America/Los_Angeles:20240601T230000
DTSTAMP:20260423T194712
CREATED:20240525T013243Z
LAST-MODIFIED:20240525T013243Z
UID:54783-1717268400-1717282800@livingsnoqualmie.com
SUMMARY:William Grassie Wine Estates ~Snoqualmie Ridge Tasting Room Live Comedy Night!
DESCRIPTION:William Grassie Wine Estates \nSnoqualmie Ridge Tasting Room \nLive Comedy Night! \nSaturday\, June 1st\,  9 pm \nDetails: Join us for another special night of live comedy at our Snoqualmie tasting room with comedic headliner Susan Rice! Also featuring Thomas Friday and hosted by Alison Rose. \nLink to purchase tickets here: \n9pm Show: https://bit.ly/4bhsk9d
URL:https://livingsnoqualmie.com/event/william-grassie-wine-estates-snoqualmie-ridge-tasting-room-live-comedy-night/
LOCATION:Wm Grassie Wine Estates\, 7802 Center Blvd SE\, Suite A\, Snoqualmie\, WA\, 98065\, United States
END:VEVENT
BEGIN:VEVENT
DTSTART;TZID=America/Los_Angeles:20240606T180000
DTEND;TZID=America/Los_Angeles:20240606T203000
DTSTAMP:20260423T194712
CREATED:20240525T013604Z
LAST-MODIFIED:20240525T013604Z
UID:54786-1717696800-1717705800@livingsnoqualmie.com
SUMMARY:William Grassie Wine Estates ~Snoqualmie Ridge Tasting Room Miniature Pet Portraits Workshop
DESCRIPTION:William Grassie Wine Estates \nSnoqualmie Ridge Tasting Room \nMiniature Pet Portraits Workshop \nThursday\, June 6th at 6pm – 8:30pm \nDetails: Learn how to create an adorable and meaningful keepsake featuring your very own furbaby – miniature style! Keep it on your desk for a boost of serotonin throughout the day! Painted with love in every stroke\, this is also the perfect gift to someone special. No prior artistic experience necessary! \nTickets here: Miniature Pet Portrait Painting Workshop — works from the heART
URL:https://livingsnoqualmie.com/event/william-grassie-wine-estates-snoqualmie-ridge-tasting-room-miniature-pet-portraits-workshop/
LOCATION:Wm Grassie Wine Estates\, 7802 Center Blvd SE\, Suite A\, Snoqualmie\, WA\, 98065\, United States
END:VEVENT
BEGIN:VEVENT
DTSTART;TZID=America/Los_Angeles:20240607T170000
DTEND;TZID=America/Los_Angeles:20240607T200000
DTSTAMP:20260423T194712
CREATED:20240525T013847Z
LAST-MODIFIED:20240525T013847Z
UID:54789-1717779600-1717790400@livingsnoqualmie.com
SUMMARY:William Grassie Wine Estates ~ Snoqualmie Ridge Tasting Room Live Music with Doug Rusk
DESCRIPTION:William Grassie Wine Estates \nSnoqualmie Ridge Tasting Room \nLive Music with Doug Rusk \nFriday\, June 7th at 5pm – 8pm \nDetails: Doug Rusk is a singer-songwriter-guitarist-solo performer who lives in Woodinville. He’s written hundreds of songs and plays spot-on covers spanning the decades! We are excited to bring his talent to our Snoqualmie tasting room for you to enjoy!
URL:https://livingsnoqualmie.com/event/william-grassie-wine-estates-snoqualmie-ridge-tasting-room-live-music-with-doug-rusk/
LOCATION:Wm Grassie Wine Estates\, 7802 Center Blvd SE\, Suite A\, Snoqualmie\, WA\, 98065\, United States
END:VEVENT
BEGIN:VEVENT
DTSTART;VALUE=DATE:20240608
DTEND;VALUE=DATE:20240609
DTSTAMP:20260423T194712
CREATED:20240407T164003Z
LAST-MODIFIED:20240407T164003Z
UID:54189-1717804800-1717891199@livingsnoqualmie.com
SUMMARY:Fall City Day
DESCRIPTION:Fall City Day is a fun family community festival that includes a kiddie parade\, main parade\, fun run\, watermelon eating contest\, Dunk Tanks\, arts and craft booths\, food vendors\, and live music. Evening Party in Bernard Park starts at 6 pm
URL:https://livingsnoqualmie.com/event/fall-city-day/
LOCATION:Fall City
END:VEVENT
BEGIN:VEVENT
DTSTART;TZID=America/Los_Angeles:20240609T110000
DTEND;TZID=America/Los_Angeles:20240609T150000
DTSTAMP:20260423T194712
CREATED:20240407T170812Z
LAST-MODIFIED:20240407T170812Z
UID:54191-1717930800-1717945200@livingsnoqualmie.com
SUMMARY:Pride Picnic at Tolt Commons
DESCRIPTION:Snoqualmie Valley Pride is thrilled to host their second annual Pride Picnic in Carnation on Sunday\, June 9th from 11am-3pm. Join us for a relaxing\, family-friendly\, brunch picnic at Tolt Commons where we will enjoy the summer weather\, a safe and welcoming space with like-minded people\, play lawn games\, make fun crafts\, connect with our community and listen to wonderful live music! Bring a blanket\, a picnic and some camp chairs and enjoy the day with us!
URL:https://livingsnoqualmie.com/event/pride-picnic-at-tolt-commons/
LOCATION:Tolt Commons\, 32150 E Commercial St\, Carnation\, WA\, 98014\, United States
END:VEVENT
BEGIN:VEVENT
DTSTART;TZID=America/Los_Angeles:20240614T180000
DTEND;TZID=America/Los_Angeles:20240614T200000
DTSTAMP:20260423T194712
CREATED:20240525T014643Z
LAST-MODIFIED:20240525T014643Z
UID:54792-1718388000-1718395200@livingsnoqualmie.com
SUMMARY:William Grassie Wine Estates ~ Snoqualmie Ridge Tasting Room Live Music with Katrina Radovich
DESCRIPTION:William Grassie Wine Estates \nSnoqualmie Ridge Tasting Room \nLive Music with Katrina Radovich \nFriday\, June 14th at 6pm – 8pm \nDetails: Come chill out with Katrina as she sings and plays acoustic covers of rock\, jazz\, blues\, classic R&B\, and soft rock songs! All Ages and No Cover.
URL:https://livingsnoqualmie.com/event/william-grassie-wine-estates-snoqualmie-ridge-tasting-room-live-music-with-katrina-radovich/
LOCATION:Wm Grassie Wine Estates\, 7802 Center Blvd SE\, Suite A\, Snoqualmie\, WA\, 98065\, United States
END:VEVENT
BEGIN:VEVENT
DTSTART;TZID=America/Los_Angeles:20240615T110000
DTEND;TZID=America/Los_Angeles:20240615T160000
DTSTAMP:20260423T194712
CREATED:20240407T171320Z
LAST-MODIFIED:20240407T171320Z
UID:54194-1718449200-1718467200@livingsnoqualmie.com
SUMMARY:Art Off The Rails
DESCRIPTION:Art Off the Rails is BACK for it’s second year\, on Saturday June 15\, 2024 from 11AM to 4PM. This event is planned by three awesome organizations\, making it a collaborative festival designed to highlight Snoqualmie Valley Artists and how the Railroad connects our community. NBA&I is honored to be working with the NW Railway Museum and Historic Downtown Snoqualmie to bring this festival to our community.\nThis festival will be held at three unique locations. North Bend Art & Industry is hosting the festival at the William Henry Taylor Railroad Park in North Bend. We will have music\, great food trucks\, a delicious popcorn vendor\, dance circles\, a community art project\, and fabulous ARTISTS & Authors. On top of that\, the Steam Train is running during this time.\nThe NW Railway Museum is hosting the festival at the Railway History Campus and the Historic Downtown Snoqualmie is hosting the festival at Snoqualmie Railroad Community Park. More info will be shared soon about these locations.
URL:https://livingsnoqualmie.com/event/art-off-the-rails/
LOCATION:Railroad Park\, 7971 Railroad Ave\, Snoqualmie\, WA\, 98065\, United States
END:VEVENT
BEGIN:VEVENT
DTSTART;TZID=America/Los_Angeles:20240618T180000
DTEND;TZID=America/Los_Angeles:20240618T203000
DTSTAMP:20260423T194712
CREATED:20240525T014918Z
LAST-MODIFIED:20240525T015037Z
UID:54795-1718733600-1718742600@livingsnoqualmie.com
SUMMARY:William Grassie Wine Estates ~ Snoqualmie Ridge Tasting Room Wax\, Wix & Wine
DESCRIPTION:William Grassie Wine Estates \nSnoqualmie Ridge Tasting Room \nWax\, Wix & Wine \nTuesday\, June 18th from 6pm – 8:30pm \n  \nDetails: This class is for a 2-candle make & take workshop seat for one person. The cost for the workshop is $50 (early bird special of $45 if you register and pay before June 1st). Your first glass of wine is included! You will learn about each component of your candles + create your own scent blend! \n  \nTo register and pay for this class\, click the link below to fill out the form. \nhttps://forms.gle/jkdbom7MSFqQGGF68 \nOnce you fill out this form\, please follow the link to pay via Venmo. Your seat is not secured until you are paid. There are only a maximum on 15 spots available\, so it is very limited.
URL:https://livingsnoqualmie.com/event/william-grassie-wine-estates-snoqualmie-ridge-tasting-room-wax-wix-wine/
LOCATION:Wm Grassie Wine Estates\, 7802 Center Blvd SE\, Suite A\, Snoqualmie\, WA\, 98065\, United States
END:VEVENT
BEGIN:VEVENT
DTSTART;TZID=America/Los_Angeles:20240621T050000
DTEND;TZID=America/Los_Angeles:20240621T200000
DTSTAMP:20260423T194712
CREATED:20240525T015300Z
LAST-MODIFIED:20240525T015300Z
UID:54800-1718946000-1719000000@livingsnoqualmie.com
SUMMARY:William Grassie Wine Estates ~ Snoqualmie Ridge Tasting Room Live Music with Sheyenne Leonard
DESCRIPTION:William Grassie Wine Estates \nSnoqualmie Ridge Tasting Room \nLive Music with Sheyenne Leonard \nFriday\, June 21st from 5pm – 8pm \nDetails: A steady favorite at our Snoqualmie tasting room\, Sheyenne will be bringing her beautiful mix of acoustic indie\, folk\, country and original singer-songwriter music. All Ages & No Cover!
URL:https://livingsnoqualmie.com/event/william-grassie-wine-estates-snoqualmie-ridge-tasting-room-live-music-with-sheyenne-leonard-2/
LOCATION:Wm Grassie Wine Estates\, 7802 Center Blvd SE\, Suite A\, Snoqualmie\, WA\, 98065\, United States
END:VEVENT
BEGIN:VEVENT
DTSTART;TZID=America/Los_Angeles:20240628T110000
DTEND;TZID=America/Los_Angeles:20240628T170000
DTSTAMP:20260423T194712
CREATED:20240525T015835Z
LAST-MODIFIED:20240525T015835Z
UID:54806-1719572400-1719594000@livingsnoqualmie.com
SUMMARY:William Grassie Wine Estates ~ Snoqualmie Ridge Tasting Room Mobile Blood Drive with Bloodworks Northwest
DESCRIPTION:William Grassie Wine Estates \nSnoqualmie Ridge Tasting Room \nMobile Blood Drive with Bloodworks Northwest \nFriday\, June 28th  from 11am – 5pm \nDetails: Our Snoqualmie Ridge tasting room will host a mobile blood drive in partnership with Bloodworks Northwest. Appointments are required\, and you can reserve your time slot by registering using the link below. Save a life\, give blood! \nRegister Here: Bloodworks – Donor Portal (bloodworksnw.org)
URL:https://livingsnoqualmie.com/event/william-grassie-wine-estates-snoqualmie-ridge-tasting-room-mobile-blood-drive-with-bloodworks-northwest/
LOCATION:Wm Grassie Wine Estates\, 7802 Center Blvd SE\, Suite A\, Snoqualmie\, WA\, 98065\, United States
END:VEVENT
BEGIN:VEVENT
DTSTART;TZID=America/Los_Angeles:20240628T170000
DTEND;TZID=America/Los_Angeles:20240628T200000
DTSTAMP:20260423T194712
CREATED:20240525T020119Z
LAST-MODIFIED:20240525T020119Z
UID:54809-1719594000-1719604800@livingsnoqualmie.com
SUMMARY:William Grassie Wine Estates ~ Snoqualmie Ridge Tasting Room Live Music with Serious Goose Band
DESCRIPTION:William Grassie Wine Estates \nSnoqualmie Ridge Tasting Room \nLive Music with Serious Goose Band \nFriday\, June 28th  from 5pm – 8pm \nDetails: Serious Goose plays chill and groovy original music and covers. The band’s list of cover songs includes classic and new artists such as Bill Withers\, Amy Winehouse\, Stevie Wonder\, Norah Jones and Lake Street Dive. They are recognized for strong lead vocals\, lush harmonies and killer keyboard work! \n \n 
URL:https://livingsnoqualmie.com/event/william-grassie-wine-estates-snoqualmie-ridge-tasting-room-live-music-with-serious-goose-band/
LOCATION:Wm Grassie Wine Estates\, 7802 Center Blvd SE\, Suite A\, Snoqualmie\, WA\, 98065\, United States
END:VEVENT
END:VCALENDAR