BEGIN:VCALENDAR
VERSION:2.0
PRODID:-//Living Snoqualmie - ECPv6.15.20//NONSGML v1.0//EN
CALSCALE:GREGORIAN
METHOD:PUBLISH
X-ORIGINAL-URL:https://livingsnoqualmie.com
X-WR-CALDESC:Events for Living Snoqualmie
REFRESH-INTERVAL;VALUE=DURATION:PT1H
X-Robots-Tag:noindex
X-PUBLISHED-TTL:PT1H
BEGIN:VTIMEZONE
TZID:America/Los_Angeles
BEGIN:DAYLIGHT
TZOFFSETFROM:-0800
TZOFFSETTO:-0700
TZNAME:PDT
DTSTART:20230312T100000
END:DAYLIGHT
BEGIN:STANDARD
TZOFFSETFROM:-0700
TZOFFSETTO:-0800
TZNAME:PST
DTSTART:20231105T090000
END:STANDARD
BEGIN:DAYLIGHT
TZOFFSETFROM:-0800
TZOFFSETTO:-0700
TZNAME:PDT
DTSTART:20240310T100000
END:DAYLIGHT
BEGIN:STANDARD
TZOFFSETFROM:-0700
TZOFFSETTO:-0800
TZNAME:PST
DTSTART:20241103T090000
END:STANDARD
BEGIN:DAYLIGHT
TZOFFSETFROM:-0800
TZOFFSETTO:-0700
TZNAME:PDT
DTSTART:20250309T100000
END:DAYLIGHT
BEGIN:STANDARD
TZOFFSETFROM:-0700
TZOFFSETTO:-0800
TZNAME:PST
DTSTART:20251102T090000
END:STANDARD
END:VTIMEZONE
BEGIN:VEVENT
DTSTART;TZID=America/Los_Angeles:20240404T180000
DTEND;TZID=America/Los_Angeles:20240404T203000
DTSTAMP:20260424T010605
CREATED:20240322T013307Z
LAST-MODIFIED:20240322T013307Z
UID:53974-1712253600-1712262600@livingsnoqualmie.com
SUMMARY:William Grassie Wine Estates Snoqualmie Ridge Tasting Room: Beginner’s Painting w/Gouache: Spring Florals
DESCRIPTION:William Grassie Wine Estates \nSnoqualmie Ridge Tasting Room \nBeginner’s Painting w/Gouache: Spring Florals \nThursday\, April 4th 6 pm – 8:30 pm \n  \nDetails: Experience the Fun of Gouache Painting. Learn basic painting and paint-mixing techniques while creating beautiful masterpieces of florals such as sunflowers\, roses\, greenery\, and more! \nRegister Here: Painting with Gouache: Spring Florals — works from the heART
URL:https://livingsnoqualmie.com/event/william-grassie-wine-estates-snoqualmie-ridge-tasting-room-beginners-painting-w-gouache-spring-florals/
LOCATION:Wm Grassie Wine Estates\, 7802 Center Blvd SE\, Suite A\, Snoqualmie\, WA\, 98065\, United States
END:VEVENT
BEGIN:VEVENT
DTSTART;TZID=America/Los_Angeles:20240406T130000
DTEND;TZID=America/Los_Angeles:20240406T133000
DTSTAMP:20260424T010605
CREATED:20240322T013532Z
LAST-MODIFIED:20240322T013532Z
UID:53977-1712408400-1712410200@livingsnoqualmie.com
SUMMARY:William Grassie Wine Estates Snoqualmie Ridge Tasting Room: Sip & Shop Candle Pop-Up with Castlelight Candle Co.
DESCRIPTION:William Grassie Wine Estates \nSnoqualmie Ridge Tasting Room \nSip & Shop Candle Pop-Up with Castlelight Candle Co. \nSaturday\, April 6th at 1 pm \n  \nDetails: Join us and Mia Booth of Castlelight Candle Co for a sip-and-shop pop-up event! Mia will showcase her beautifully homemade candles made right up here on the Ridge! Come on out to support a hyper-local business and enjoy a glass of wine!
URL:https://livingsnoqualmie.com/event/william-grassie-wine-estates-snoqualmie-ridge-tasting-room-sip-shop-candle-pop-up-with-castlelight-candle-co/
LOCATION:Wm Grassie Wine Estates\, 7802 Center Blvd SE\, Suite A\, Snoqualmie\, WA\, 98065\, United States
END:VEVENT
BEGIN:VEVENT
DTSTART;TZID=America/Los_Angeles:20240406T170000
DTEND;TZID=America/Los_Angeles:20240406T200000
DTSTAMP:20260424T010605
CREATED:20240322T014040Z
LAST-MODIFIED:20240322T014040Z
UID:53980-1712422800-1712433600@livingsnoqualmie.com
SUMMARY:William Grassie Wine Estates Snoqualmie Ridge Tasting Room: Live Music with Sheyenne Leonard
DESCRIPTION:William Grassie Wine Estates \nSnoqualmie Ridge Tasting Room \nLive Music with Sheyenne Leonard \nSaturday\, April 6th at 5 pm – 8 pm \nDetails: A steady favorite at our Snoqualmie tasting room\, Sheyenne will be bringing her beautiful mix of acoustic indie\, folk\, country and original singer-songwriter music. All Ages & No Cover!
URL:https://livingsnoqualmie.com/event/william-grassie-wine-estates-snoqualmie-ridge-tasting-room-live-music-with-sheyenne-leonard/
LOCATION:Wm Grassie Wine Estates\, 7802 Center Blvd SE\, Suite A\, Snoqualmie\, WA\, 98065\, United States
END:VEVENT
BEGIN:VEVENT
DTSTART;TZID=America/Los_Angeles:20240417T190000
DTEND;TZID=America/Los_Angeles:20240417T190000
DTSTAMP:20260424T010605
CREATED:20240415T033850Z
LAST-MODIFIED:20240415T033850Z
UID:54313-1713380400-1713380400@livingsnoqualmie.com
SUMMARY:Upper Snoqualmie Valley Elk Management Group Animal Under passage tour
DESCRIPTION:Over the past few months\, Laurel Baum\, senior coordinator with Conservation NW\, led a team of volunteers who cleaned out the giant culvert under I90 near MP27 to encourage safe animal passage from one side to the other. \nLast month\, she presented to the Upper Snoqualmie Valley Elk Management Group and mentioned a walk-through to see the structure. The walk-thru has been arranged for Tuesday\, April 16th\, at 7 pm. Parking is limited; please carpool when possible. GPS Coordinates for Meet-Up Meet at the Bend of Winery Road and the closed-off SE 99th St 47.5113031\, -121.8494920
URL:https://livingsnoqualmie.com/event/upper-snoqualmie-valley-elk-management-group-animal-under-passage-tour/
LOCATION:WA
END:VEVENT
BEGIN:VEVENT
DTSTART;TZID=America/Los_Angeles:20240418T160000
DTEND;TZID=America/Los_Angeles:20240418T200000
DTSTAMP:20260424T010605
CREATED:20240411T234502Z
LAST-MODIFIED:20250419T194200Z
UID:54268-1713456000-1713470400@livingsnoqualmie.com
SUMMARY:Scott Rinckenberger Gallery’s Spring Show ‘Terrestrial Tapestries’
DESCRIPTION:With Mt. Si as a backdrop\, Scott Rinckenberger\, acclaimed photographer and adventurer\, will open a new spring show at his gallery in North Bend\, Washington\, on April 18th from 4-8 pm. \nTo see more of Scott Rinckenberger’s work\, visit scottrinck.com/art \nScott Rinckenberger Gallery \n106 W North Bend Way in North Bend\, WA \nOpen Thursday – Saturday\, 12 pm to 6 pm\, and by appointment via gallery@scottrinck.com
URL:https://livingsnoqualmie.com/event/scott-rinckenberger-gallerys-spring-show-terrestrial-tapestries/
LOCATION:Scott Rickenberger Gallery\, 106 W North Bend Way\, North Bend\, 98045\, United States
ATTACH;FMTTYPE=image/png:https://livingsnoqualmie.com/wp-content/uploads/2024/04/Screenshot-2025-04-19-124100.png
ORGANIZER;CN="Scott Rickenberger Gallery":MAILTO:scott@scottrinck.com
END:VEVENT
BEGIN:VEVENT
DTSTART;TZID=America/Los_Angeles:20240419T170000
DTEND;TZID=America/Los_Angeles:20240419T200000
DTSTAMP:20260424T010605
CREATED:20240322T014358Z
LAST-MODIFIED:20240322T014358Z
UID:53983-1713546000-1713556800@livingsnoqualmie.com
SUMMARY:William Grassie Wine Estates Snoqualmie Ridge Tasting Room: Live Music with Daniel Faller
DESCRIPTION:William Grassie Wine Estates \nSnoqualmie Ridge Tasting Room \nLive Music with Daniel Faller \nFriday\, April 19th 5 pm – 8 pm \nDetails: We welcome Lewiston\, ID-based musician Dan Faller for the first time to our Snoqualmie tasting room! Expect country and folk tunes with a little bit of rock and roll bite mixed in. All Ages & No Cover!
URL:https://livingsnoqualmie.com/event/william-grassie-wine-estates-snoqualmie-ridge-tasting-room-live-music-with-daniel-faller/
LOCATION:Wm Grassie Wine Estates\, 7802 Center Blvd SE\, Suite A\, Snoqualmie\, WA\, 98065\, United States
END:VEVENT
BEGIN:VEVENT
DTSTART;TZID=America/Los_Angeles:20240427T180000
DTEND;TZID=America/Los_Angeles:20240427T203000
DTSTAMP:20260424T010605
CREATED:20240322T014549Z
LAST-MODIFIED:20240322T014700Z
UID:53986-1714240800-1714249800@livingsnoqualmie.com
SUMMARY:William Grassie Wine Estates Snoqualmie Ridge Tasting Room: Live Music with Haley Marie
DESCRIPTION:William Grassie Wine Estates \nSnoqualmie Ridge Tasting Room \nLive Music with Haley Marie \nSaturday\, April 27th\, from 6 pm – 8:30 pm \nDetails: Back again\, Haley Marie has had a love of singing\, guitar\, and performing since she was young. She will be playing a mix of acoustic indie\, pop\, and singer-songwriter style songs from artists like Sara Bareilles\, Norah Jones\, Fleetwood Mac\, and more! All Ages & No Cover.
URL:https://livingsnoqualmie.com/event/william-grassie-wine-estates-snoqualmie-ridge-tasting-room-live-music-with-haley-marie/
LOCATION:Wm Grassie Wine Estates\, 7802 Center Blvd SE\, Suite A\, Snoqualmie\, WA\, 98065\, United States
END:VEVENT
END:VCALENDAR