BEGIN:VCALENDAR
VERSION:2.0
PRODID:-//Living Snoqualmie - ECPv6.2.9//NONSGML v1.0//EN
CALSCALE:GREGORIAN
METHOD:PUBLISH
X-WR-CALNAME:Living Snoqualmie
X-ORIGINAL-URL:https://livingsnoqualmie.com
X-WR-CALDESC:Events for Living Snoqualmie
REFRESH-INTERVAL;VALUE=DURATION:PT1H
X-Robots-Tag:noindex
X-PUBLISHED-TTL:PT1H
BEGIN:VTIMEZONE
TZID:America/Los_Angeles
BEGIN:DAYLIGHT
TZOFFSETFROM:-0800
TZOFFSETTO:-0700
TZNAME:PDT
DTSTART:20230312T100000
END:DAYLIGHT
BEGIN:STANDARD
TZOFFSETFROM:-0700
TZOFFSETTO:-0800
TZNAME:PST
DTSTART:20231105T090000
END:STANDARD
END:VTIMEZONE
BEGIN:VEVENT
DTSTART;TZID=America/Los_Angeles:20230318T120000
DTEND;TZID=America/Los_Angeles:20230318T150000
DTSTAMP:20240207T114003
CREATED:20230303T173103Z
LAST-MODIFIED:20230303T173103Z
UID:49821-1679140800-1679151600@livingsnoqualmie.com
SUMMARY:Free Vaccine Clinic
DESCRIPTION:
URL:https://livingsnoqualmie.com/event/free-vaccine-clinic/
LOCATION:Pet Place Market\, 213 Bendigo Blvd N. Ste 2\, North Bend\, WA\, 98045\, United States
END:VEVENT
BEGIN:VEVENT
DTSTART;TZID=America/Los_Angeles:20230321T190000
DTEND;TZID=America/Los_Angeles:20230321T200000
DTSTAMP:20240207T114003
CREATED:20230320T163546Z
LAST-MODIFIED:20230320T165433Z
UID:49932-1679425200-1679428800@livingsnoqualmie.com
SUMMARY:Upper Snoqualmie Valley Elk Management Group Meeting
DESCRIPTION:Upper Snoqualmie Valley Elk Management Group Meeting \n\nTuesday\, March 21\nMeadowbrook Interpretive Center\nNorth Bend WA 98045\n\n\nBoard meeting @ 6pm\nGeneral Meeting @ 7pm\nThe topic of discussion – lighted warning signs of animal movement project on Hwy 202 between North Bend and Snoqualmie
URL:https://livingsnoqualmie.com/event/upper-snoqualmie-valley-elk-management-group-meeting-2/
LOCATION:Meadowbrook Interpretive Center\, 1711 Boalch Ave NW\, North Bend\, North Bend\, WA\, 98045\, United States
END:VEVENT
BEGIN:VEVENT
DTSTART;TZID=America/Los_Angeles:20230325T180000
DTEND;TZID=America/Los_Angeles:20230325T200000
DTSTAMP:20240207T114003
CREATED:20230318T235515Z
LAST-MODIFIED:20230318T235515Z
UID:49921-1679767200-1679774400@livingsnoqualmie.com
SUMMARY:VAP's CHILI SHOWDOWN & HOMEMADE GOODIES AUCTION
DESCRIPTION:Please join Valley Animal Partners’ lively quasi-annual non-profit FUNdraiser to benefit Snoqualmie Valley pets & their people!\nEnjoy sampling – and judging – 12 delicious chilis concocted by local culinary artisans – YUM!\n\nIndulge your ears with nostalgic tunes from the ’70s\, ’80s & Beyond\, courtesy of their guest DJ.\, while you dine. (No one will judge if you engage in some slick dance moves)!\n\nGet in on the live-action auction\, bidding on a wide array of delicious desserts and other homemade goodies concocted by talented Valley residents!\n\nAll this fun – while simultaneously helping fund veterinary care for low-income households in the Valley?\nIt sounds too good to be true\, but it isn’t!\n\nThey’ll see you on March 25th from 6:00-8:00 pm!
URL:https://livingsnoqualmie.com/event/vaps-chili-showdown-homemade-goodies-auction/
LOCATION:Sno Valley Eagles\, 8200 Railroad Ave\, Snoqualmie\, WA\, 98065\, United States
END:VEVENT
END:VCALENDAR