BEGIN:VCALENDAR
VERSION:2.0
PRODID:-//Living Snoqualmie - ECPv6.2.9//NONSGML v1.0//EN
CALSCALE:GREGORIAN
METHOD:PUBLISH
X-WR-CALNAME:Living Snoqualmie
X-ORIGINAL-URL:https://livingsnoqualmie.com
X-WR-CALDESC:Events for Living Snoqualmie
REFRESH-INTERVAL;VALUE=DURATION:PT1H
X-Robots-Tag:noindex
X-PUBLISHED-TTL:PT1H
BEGIN:VTIMEZONE
TZID:America/Los_Angeles
BEGIN:DAYLIGHT
TZOFFSETFROM:-0800
TZOFFSETTO:-0700
TZNAME:PDT
DTSTART:20220313T100000
END:DAYLIGHT
BEGIN:STANDARD
TZOFFSETFROM:-0700
TZOFFSETTO:-0800
TZNAME:PST
DTSTART:20221106T090000
END:STANDARD
END:VTIMEZONE
BEGIN:VEVENT
DTSTART;TZID=America/Los_Angeles:20221201T170000
DTEND;TZID=America/Los_Angeles:20221201T190000
DTSTAMP:20240207T114234
CREATED:20221121T175147Z
LAST-MODIFIED:20221121T175147Z
UID:49320-1669914000-1669921200@livingsnoqualmie.com
SUMMARY:Vintage Barista’s Snowman Showdown Paint Party
DESCRIPTION:5 pm – 7 pm Thursday\, December 1st\, 202 West North Bend Way\, North Bend. \nPainting Party! So\, gather up your friends and let’s paint together. Includes all supplies and step-by-step instructions. No experience is needed; all are pre-traced. Leave with your finished 11X14\, 16X20 canvas or 18″ wood sled. \nAll Ages Welcome \nHost: Crave4Art\nPhone: (360) 602-1900\nemail: info@crave4art.com \nCANCELLATION POLICY: No refunds. A minimum of 24-hour notice is required to reschedule into another event. \nPre-register now so they can provide enough supplies on-site. \n  \n 
URL:https://livingsnoqualmie.com/event/vintage-baristas-snowman-showdown-paint-party/
LOCATION:Vintage Baristas\, 202 West North Bend Way\, North Bend\, WA\, 98045\, United States
END:VEVENT
BEGIN:VEVENT
DTSTART;TZID=America/Los_Angeles:20221202T173000
DTEND;TZID=America/Los_Angeles:20221202T200000
DTSTAMP:20240207T114235
CREATED:20221121T175637Z
LAST-MODIFIED:20221121T175637Z
UID:49324-1670002200-1670011200@livingsnoqualmie.com
SUMMARY:Holiday Grinch Parade
DESCRIPTION:530 pm- 8 pm Friday\, December 2nd (see parade map for route) \nThis tradition started in 2016 when a local Snoqualmie Valley real estate company\, Frost Home Team\, wanted to put on a private Grinch movie experience for their clients and the community. Doing something around the holidays seemed like the perfect fit. \nSince that first year\, the family-friendly Grinch event has evolved and grown in popularity. In 2020 they were hoping to celebrate their 5th year memorably\, but Covid had other plans and forced them to get creative and pivot to an event respecting the current times. \nThey decided to bring Whoville and the Grinch to the community through a parade! It is a surefire way of spreading some holiday cheer. As the floats roll by\, they will be playing music\, making it snow\, handing out goody bags\, and hopefully bringing smiles to the faces of kids and adults alike… And there will be a special Santa appearance!! The parade was such a hit that they decided to continue to carry on this annual tradition for the 3rd year. \nThere will be two photo opportunities in Forster Woods and Si View neighborhoods\, along with free hot cocoa and apple cider served by the Vintage Baristas. For details about the event\, please visit the Frost Home Team Facebook page—www.Facebook.com/FrostHomeTeam. \n 
URL:https://livingsnoqualmie.com/event/holiday-grinch-parade/
LOCATION:WA
END:VEVENT
BEGIN:VEVENT
DTSTART;TZID=America/Los_Angeles:20221216T140000
DTEND;TZID=America/Los_Angeles:20221216T160000
DTSTAMP:20240207T114235
CREATED:20221209T173701Z
LAST-MODIFIED:20221209T174236Z
UID:49426-1671199200-1671206400@livingsnoqualmie.com
SUMMARY:Start Your Break with a Free Winter Skate
DESCRIPTION:Holiday Skating Event for SnoValley community and families! Includes FREE registration and skate rentals\, giveaways\, an Ugly sweater contest\, holiday music & games\, a Santa appearance and a selfie station. \nPlease bring canned food donations to the Snoqualmie & Preston food banks. \n\nLOCATION \nSno King Ice Arena – Snoqualmie \n\n\nACTIVITY \nPublic Ice Skating \n\n\nSEASON \nCity of Snoqualmie FREE Ice Skating Event \n\n 
URL:https://livingsnoqualmie.com/event/start-your-break-with-a-free-winter-skate/
LOCATION:Sno-King Ice Arena\, 35323 SE Douglas Street\, Snoqualmie\, WA\, 98065\, United States
END:VEVENT
END:VCALENDAR