BEGIN:VCALENDAR
VERSION:2.0
PRODID:-//Living Snoqualmie - ECPv6.2.9//NONSGML v1.0//EN
CALSCALE:GREGORIAN
METHOD:PUBLISH
X-ORIGINAL-URL:https://livingsnoqualmie.com
X-WR-CALDESC:Events for Living Snoqualmie
REFRESH-INTERVAL;VALUE=DURATION:PT1H
X-Robots-Tag:noindex
X-PUBLISHED-TTL:PT1H
BEGIN:VTIMEZONE
TZID:America/Los_Angeles
BEGIN:DAYLIGHT
TZOFFSETFROM:-0800
TZOFFSETTO:-0700
TZNAME:PDT
DTSTART:20220313T100000
END:DAYLIGHT
BEGIN:STANDARD
TZOFFSETFROM:-0700
TZOFFSETTO:-0800
TZNAME:PST
DTSTART:20221106T090000
END:STANDARD
END:VTIMEZONE
BEGIN:VEVENT
DTSTART;TZID=America/Los_Angeles:20220915T110000
DTEND;TZID=America/Los_Angeles:20220915T123000
DTSTAMP:20240207T114453
CREATED:20220912T153720Z
LAST-MODIFIED:20220912T153855Z
UID:48928-1663239600-1663245000@livingsnoqualmie.com
SUMMARY:Reclaiming Stability Benefit Luncheon Snoqualmie Valley Shelter Services
DESCRIPTION:Reclaiming Stability\nThursday\, September 15th \nMeadowbrook Farm \n1711 Boalch Ave NW\, North Bend\, WA 98045 \n11:00 am: Check-in & Networking\n11:30 am: Program Starts
URL:https://livingsnoqualmie.com/event/reclaiming-stability-benefit-luncheon-snoqualmie-valley-shelter-services/
LOCATION:Meadowbrook Farm\, 1711 Boalch Ave NW\, North Bend\, WA\, 98045\, United States
END:VEVENT
BEGIN:VEVENT
DTSTART;TZID=America/Los_Angeles:20220916T090000
DTEND;TZID=America/Los_Angeles:20220918T160000
DTSTAMP:20240207T114453
CREATED:20220914T025256Z
LAST-MODIFIED:20220914T025256Z
UID:48937-1663318800-1663516800@livingsnoqualmie.com
SUMMARY:Snoqualmie Ridge Garage Sale
DESCRIPTION:Friday\, September 16 through\nSunday\, September 18\n9:00 am – 4:00 pm
URL:https://livingsnoqualmie.com/event/snoqualmie-ridge-garage-sale/
LOCATION:Snoqualmie Ridge
END:VEVENT
BEGIN:VEVENT
DTSTART;VALUE=DATE:20220924
DTEND;VALUE=DATE:20220927
DTSTAMP:20240207T114453
CREATED:20220924T010536Z
LAST-MODIFIED:20220924T010536Z
UID:48989-1663977600-1664236799@livingsnoqualmie.com
SUMMARY:Wildcat Youth Basketball Tryouts
DESCRIPTION:
URL:https://livingsnoqualmie.com/event/wildcat-youth-basketball-tryouts/
LOCATION:preston\, 8172 304th Ave SE\, Preston\, WA\, 98050\, United States
END:VEVENT
END:VCALENDAR