BEGIN:VCALENDAR
VERSION:2.0
PRODID:-//Living Snoqualmie - ECPv6.15.17.1//NONSGML v1.0//EN
CALSCALE:GREGORIAN
METHOD:PUBLISH
X-ORIGINAL-URL:https://livingsnoqualmie.com
X-WR-CALDESC:Events for Living Snoqualmie
REFRESH-INTERVAL;VALUE=DURATION:PT1H
X-Robots-Tag:noindex
X-PUBLISHED-TTL:PT1H
BEGIN:VTIMEZONE
TZID:America/Los_Angeles
BEGIN:DAYLIGHT
TZOFFSETFROM:-0800
TZOFFSETTO:-0700
TZNAME:PDT
DTSTART:20210314T100000
END:DAYLIGHT
BEGIN:STANDARD
TZOFFSETFROM:-0700
TZOFFSETTO:-0800
TZNAME:PST
DTSTART:20211107T090000
END:STANDARD
BEGIN:DAYLIGHT
TZOFFSETFROM:-0800
TZOFFSETTO:-0700
TZNAME:PDT
DTSTART:20220313T100000
END:DAYLIGHT
BEGIN:STANDARD
TZOFFSETFROM:-0700
TZOFFSETTO:-0800
TZNAME:PST
DTSTART:20221106T090000
END:STANDARD
BEGIN:DAYLIGHT
TZOFFSETFROM:-0800
TZOFFSETTO:-0700
TZNAME:PDT
DTSTART:20230312T100000
END:DAYLIGHT
BEGIN:STANDARD
TZOFFSETFROM:-0700
TZOFFSETTO:-0800
TZNAME:PST
DTSTART:20231105T090000
END:STANDARD
END:VTIMEZONE
BEGIN:VEVENT
DTSTART;TZID=America/Los_Angeles:20220803T160000
DTEND;TZID=America/Los_Angeles:20220803T170000
DTSTAMP:20260419T140606
CREATED:20220725T160635Z
LAST-MODIFIED:20220725T160635Z
UID:48688-1659542400-1659546000@livingsnoqualmie.com
SUMMARY:Dog Behavior Workshop
DESCRIPTION:
URL:https://livingsnoqualmie.com/event/dog-behavior-workshop-3/
LOCATION:Torguson Park\, 750 E North Bend Way\, North Bend\, WA\, 98045\, United States
ORGANIZER;CN="Lead Dog":MAILTO:alogan7980@gmail.com
END:VEVENT
BEGIN:VEVENT
DTSTART;TZID=America/Los_Angeles:20220817T190000
DTEND;TZID=America/Los_Angeles:20220817T200000
DTSTAMP:20260419T140607
CREATED:20220813T210236Z
LAST-MODIFIED:20220813T210236Z
UID:48772-1660762800-1660766400@livingsnoqualmie.com
SUMMARY:Upper Snoqualmie Valley Elk Management Group Meeting
DESCRIPTION:Upper Snoqualmie Valley Elk Management Group Meeting \nOn Tuesday\, August 16 at 7 pm at the Meadowbrook Interpretive Center. If he or a representative is available\, Paul Footen of DNR will speak with the group on the logging project up SE Mt Si Road.
URL:https://livingsnoqualmie.com/event/upper-snoqualmie-valley-elk-management-group-meeting/
LOCATION:Meadowbrook Interpretive Center\, 1711 Boalch Ave NW\, North Bend\, North Bend\, WA\, 98045\, United States
END:VEVENT
END:VCALENDAR