BEGIN:VCALENDAR
VERSION:2.0
PRODID:-//Living Snoqualmie - ECPv6.2.9//NONSGML v1.0//EN
CALSCALE:GREGORIAN
METHOD:PUBLISH
X-ORIGINAL-URL:https://livingsnoqualmie.com
X-WR-CALDESC:Events for Living Snoqualmie
REFRESH-INTERVAL;VALUE=DURATION:PT1H
X-Robots-Tag:noindex
X-PUBLISHED-TTL:PT1H
BEGIN:VTIMEZONE
TZID:America/Los_Angeles
BEGIN:DAYLIGHT
TZOFFSETFROM:-0800
TZOFFSETTO:-0700
TZNAME:PDT
DTSTART:20220313T100000
END:DAYLIGHT
BEGIN:STANDARD
TZOFFSETFROM:-0700
TZOFFSETTO:-0800
TZNAME:PST
DTSTART:20221106T090000
END:STANDARD
END:VTIMEZONE
BEGIN:VEVENT
DTSTART;TZID=America/Los_Angeles:20220503T183000
DTEND;TZID=America/Los_Angeles:20220503T203000
DTSTAMP:20240207T114752
CREATED:20220420T163559Z
LAST-MODIFIED:20220420T163559Z
UID:48151-1651602600-1651609800@livingsnoqualmie.com
SUMMARY:Boho Bracelet Class
DESCRIPTION:Boho Bracelet Class with Danalynn \nWhere: Volition Brewery 112 W. North Bend Way \nWhen: Tuesday\, May 3rd \nTime: 6:30-8:30 PM \nClass Cost: $35.00 includes materials \nSign at www.northbendartandindustry.org/classes \nLet your creativity loose with this fun\, artistic\, and unique bohemian bracelet-making class. You’ll learn a beading technique\, get color combo ideas\, and learn how to finish off the bracelets. These bracelets are beautiful\, and make wonderful gifts for someone you love… or for yourself! \nAll materials included! \nAND\, you can enjoy delicious beverages from Volition too\, and yummy food from the food truck too!!
URL:https://livingsnoqualmie.com/event/boho-bracelet-class/
LOCATION:Volition Brewery\, 112 W. North Bend Way\, North Bend\, 98045\, United States
END:VEVENT
BEGIN:VEVENT
DTSTART;TZID=America/Los_Angeles:20220514T193000
DTEND;TZID=America/Los_Angeles:20220514T193000
DTSTAMP:20240207T114752
CREATED:20220329T185503Z
LAST-MODIFIED:20220329T185503Z
UID:48005-1652556600-1652556600@livingsnoqualmie.com
SUMMARY:Valley Center Stage presents: ‘Denial’ by Peter Sagal a staged reading
DESCRIPTION:Valley Center Stage Presents a staged reading \n‘Denial’ by Peter Sagal \nAbigail Gersten is a Jewish lawyer\, asked to defend the First Amendment rights of Professor Bernard Cooper\, who publicizes the Holocaust as a Jewish hoax. Abigail is pulled into a moral quagmire\, making her confront the differences between what is legal and what is right. The ensuing conflict concerns issues of history\, memory\, free speech and how the stories we tell about ourselves determine who we are. \nValley Center Stage https://valleycenterstage.org/ \nTickets: https://www.eventbrite.com/o/valley-center-stage-31908272269#events \nWhere/The venue: Sallal Grange\, 1060 Stilson Ave SE\, North Bend WAStilson Ave SE\, North Bend WA \nPerformance: \n\nSaturday May 14th 2022\, at 7:30 p.m.
URL:https://livingsnoqualmie.com/event/valley-center-stage-presents-denial-by-peter-sagal-a-staged-reading/
LOCATION:Valley Center Stage\, 1060 Stilson Ave SE\, North Bend\, WA\, 98045\, United States
END:VEVENT
BEGIN:VEVENT
DTSTART;TZID=America/Los_Angeles:20220520T090000
DTEND;TZID=America/Los_Angeles:20220522T160000
DTSTAMP:20240207T114752
CREATED:20220518T034526Z
LAST-MODIFIED:20220518T034526Z
UID:48337-1653037200-1653235200@livingsnoqualmie.com
SUMMARY:Snoqualmie Ridge Community Garage Sale
DESCRIPTION:Snoqualmie Ridge Spring Community Garage Sale Friday\, Saturday\, Sunday May 20\, 21 and 22 9:00 am – 4:00 pm daily \nSnoqualmie Ridge residents pre-register to be included in the public directory * \nIt’s time to do some spring cleaning! Declutter those closets and get ready to participate in the upcoming Snoqualmie Ridge Spring Community Garage Sale. The ROA will place ads in the Seattle Times and local newspapers announcing the event. \nGarage sale signs will be staked around the Ridge the weekend of the sale. A public directory of participating homes will be posted on the ROA website. (Must pre-register to be included.) \nAll you need to do is register online and open up your garage doors the day(s) of your sale. You may participate in one\, two\, or all three days of the sale. \nIt is recommended that you display a red balloon (or two!) at your property to indicate your participation on the days you are open for customers. \nThe local thrift store Treasures in Heaven will be collecting donations from 9:00 am-5:00 pm on Sunday\, May 22 in the Community Park parking lot.
URL:https://livingsnoqualmie.com/event/snoqualmie-ridge-community-garage-sale/
LOCATION:Snoqualmie Ridge
END:VEVENT
BEGIN:VEVENT
DTSTART;TZID=America/Los_Angeles:20220523T180000
DTEND;TZID=America/Los_Angeles:20220523T180000
DTSTAMP:20240207T114752
CREATED:20220501T231545Z
LAST-MODIFIED:20220501T231545Z
UID:48215-1653328800-1653328800@livingsnoqualmie.com
SUMMARY:Painting for Patients
DESCRIPTION:Mother’s Day is approaching and what better way to celebrate mom than to give the gift of time together! Join us at Sigillo Cellars in historic Snoqualmie for a fun evening that benefits the work of CarePoint Clinic\, our community free clinic. \nTo sign up visit https://www.brownpapertickets.com/event/5424800
URL:https://livingsnoqualmie.com/event/painting-for-patients/
LOCATION:Sigillo cellars\, 8086 Railroad Ave\, Snoqualmie\, WA\, 98065\, United States
END:VEVENT
END:VCALENDAR