BEGIN:VCALENDAR
VERSION:2.0
PRODID:-//Living Snoqualmie - ECPv6.2.9//NONSGML v1.0//EN
CALSCALE:GREGORIAN
METHOD:PUBLISH
X-WR-CALNAME:Living Snoqualmie
X-ORIGINAL-URL:https://livingsnoqualmie.com
X-WR-CALDESC:Events for Living Snoqualmie
REFRESH-INTERVAL;VALUE=DURATION:PT1H
X-Robots-Tag:noindex
X-PUBLISHED-TTL:PT1H
BEGIN:VTIMEZONE
TZID:America/Los_Angeles
BEGIN:DAYLIGHT
TZOFFSETFROM:-0800
TZOFFSETTO:-0700
TZNAME:PDT
DTSTART:20220313T100000
END:DAYLIGHT
BEGIN:STANDARD
TZOFFSETFROM:-0700
TZOFFSETTO:-0800
TZNAME:PST
DTSTART:20221106T090000
END:STANDARD
END:VTIMEZONE
BEGIN:VEVENT
DTSTART;TZID=America/Los_Angeles:20220408T193000
DTEND;TZID=America/Los_Angeles:20220424T193000
DTSTAMP:20240207T114830
CREATED:20220329T185153Z
LAST-MODIFIED:20220329T185153Z
UID:48003-1649446200-1650828600@livingsnoqualmie.com
SUMMARY:Valley Center Stage presents: The Foreigner
DESCRIPTION:The Foreigner \nWitten by Larry Shue \nDirected by Gary \nThis award-winning comedy set in a rural Georgia fishing lodge features an evil plot\, a two-faced minister\, a Southern Belle\, and a pathologically shy man named Charlie who pretends not to speak any English. Together with a cast of hilarious locals\, Charlie must save the day when he inadvertently overhears the sinister plan. It’s a warm-hearted farce with a message that is surprisingly current. \nTHE FOREIGNER is presented by special arrangement with Broadway Licensing\, LLC\, servicing the Dramatists Play Service collection. (www.dramatists.com) \nContent Warning/Trigger Warning: While this show was written as a farce where bumbling good overcomes cunning but fallible evil\, it does include negative stereotypes\, adult language\, racist themes and in one scene actors portray klan villains dressed in klan robes. To request further information\, please email the artisticdirector@valleycenterstage.org. \nValley Center Stage https://valleycenterstage.org/ \nTickets: https://www.eventbrite.com/o/valley-center-stage-31908272269#events \nWhere/The new venue: Sallal Grange\, 1060 Stilson Ave SE\, North Bend WAStilson Ave SE\, North Bend \nShow run: April 8th – April 24th \nPerformances: \n\nFriday\, April 8\, 2022\, at 7:30 p.m.\nSaturday\, April 9\, 2022\, at 7:30 p.m.\nSunday\, April 10\, 2022\, at 2:00 p.m.\nThursday\, April 14\, 2022\, at 7:30 p.m.\nFriday\, April 15\, 2022\, at 7:30 p.m.\nSaturday\, April 16\, 2022\, at 7:30 p.m.\nSunday\, April 17\, 2022\, at 2:00 p.m.\nThursday\, April 21\, 2022\, at 7:30 p.m.\nFriday\, April 22\, 2022\, at 7:30 p.m.\nSaturday\, April 23\, 2022\, at 7:30 p.m.\nSunday\, April 24\, 2022\, at 2:00 p.m.
URL:https://livingsnoqualmie.com/event/valley-center-stage-presents-the-foreigner/
LOCATION:Valley Center Stage\, 1060 Stilson Ave SE\, North Bend\, WA\, 98045\, United States
END:VEVENT
BEGIN:VEVENT
DTSTART;TZID=America/Los_Angeles:20220409T180000
DTEND;TZID=America/Los_Angeles:20220409T200000
DTSTAMP:20240207T114830
CREATED:20220405T052225Z
LAST-MODIFIED:20220405T052225Z
UID:48046-1649527200-1649534400@livingsnoqualmie.com
SUMMARY:Britt Greenland Fine Art: The Real Twin Peaks
DESCRIPTION:“The REAL Twin Peaks” will feature over a dozen new paintings of North Bend scenes including Twede’s Cafe\, North\nBend Theatre\, Snoqualmie Falls\, and a painting on preview that will be an auction item for the April 22 Trail Youth Coffee Home Fundraiser.\n\nOpening Reception 6-8pm.\n\nThis exhibit will be on display until May 11\, then a juried group show “All Things Bright and Beautiful” will be open on May 14. Call to Artists to submit original paintings open until April 20.\n\nJudge of Awards will be local master artist Jim Lamb!\n\nhttps://www.brittgreenlandartist.com/realtwinpeaksshow\nhttps://www.brittgreenlandartist.com/allthingsbrightandbeautiful
URL:https://livingsnoqualmie.com/event/britt-greenland-fine-art-the-real-twin-peaks/
LOCATION:Britt Greenland Fine Art\, 301 W. North Bend Way\, North Bend\, WA\, 98045\, United States
END:VEVENT
BEGIN:VEVENT
DTSTART;TZID=America/Los_Angeles:20220416T150000
DTEND;TZID=America/Los_Angeles:20220416T150000
DTSTAMP:20240207T114830
CREATED:20220406T143211Z
LAST-MODIFIED:20220406T143211Z
UID:48052-1650121200-1650121200@livingsnoqualmie.com
SUMMARY:Zendala Drawing Class
DESCRIPTION:Zendala Drawing with Ellen \nApril 16th\, 2022 \n3-5pm at \nIGNITION \nGet inspired! Learn several intricate repetitive\npatterns to create larger mandala designs on\npaper or rocks\, guided by local artist\, Ellen \nRowan. All materials included. \nClass fee $25 \nSign up here:\nhttps://www.northbendartandindustry.org/classes \nEnjoy delicious beverages and food from\nIgnition while you create\, with 25% off the\nwine of the week and happy hour prices too! \nNorthbendartandindustry@gmail.com
URL:https://livingsnoqualmie.com/event/zendala-drawing-class/
LOCATION:Ignition\, 468 E North Bend Way\, North Bend\, WA\, 98045\, United States
END:VEVENT
END:VCALENDAR