BEGIN:VCALENDAR
VERSION:2.0
PRODID:-//Living Snoqualmie - ECPv6.15.17.1//NONSGML v1.0//EN
CALSCALE:GREGORIAN
METHOD:PUBLISH
X-ORIGINAL-URL:https://livingsnoqualmie.com
X-WR-CALDESC:Events for Living Snoqualmie
REFRESH-INTERVAL;VALUE=DURATION:PT1H
X-Robots-Tag:noindex
X-PUBLISHED-TTL:PT1H
BEGIN:VTIMEZONE
TZID:America/Los_Angeles
BEGIN:DAYLIGHT
TZOFFSETFROM:-0800
TZOFFSETTO:-0700
TZNAME:PDT
DTSTART:20200308T100000
END:DAYLIGHT
BEGIN:STANDARD
TZOFFSETFROM:-0700
TZOFFSETTO:-0800
TZNAME:PST
DTSTART:20201101T090000
END:STANDARD
BEGIN:DAYLIGHT
TZOFFSETFROM:-0800
TZOFFSETTO:-0700
TZNAME:PDT
DTSTART:20210314T100000
END:DAYLIGHT
BEGIN:STANDARD
TZOFFSETFROM:-0700
TZOFFSETTO:-0800
TZNAME:PST
DTSTART:20211107T090000
END:STANDARD
BEGIN:DAYLIGHT
TZOFFSETFROM:-0800
TZOFFSETTO:-0700
TZNAME:PDT
DTSTART:20220313T100000
END:DAYLIGHT
BEGIN:STANDARD
TZOFFSETFROM:-0700
TZOFFSETTO:-0800
TZNAME:PST
DTSTART:20221106T090000
END:STANDARD
END:VTIMEZONE
BEGIN:VEVENT
DTSTART;TZID=America/Los_Angeles:20211203T193000
DTEND;TZID=America/Los_Angeles:20211203T213000
DTSTAMP:20260419T140610
CREATED:20211118T172421Z
LAST-MODIFIED:20211118T172421Z
UID:47217-1638559800-1638567000@livingsnoqualmie.com
SUMMARY:Valley Center Stage-Charles Dickens A Christmas Carol
DESCRIPTION:Go see Dickens’ holiday classic adapted by Brendan & Wynter Elwood at the Valley Center Stage’s new location at the Sallal Grange. \nA Christmas Carol tells a story of second chances\, transformation\, forgiveness\, and compassion. This uplifting play will be shown from December 3rd – 19th\, 2021. Learn more here.
URL:https://livingsnoqualmie.com/event/valley-center-stage-charles-dickens-a-christmas-carol/
LOCATION:Valley Center Stage\, 1060 Stilson Ave SE\, North Bend\, WA\, 98045\, United States
END:VEVENT
BEGIN:VEVENT
DTSTART;VALUE=DATE:20211204
DTEND;VALUE=DATE:20211205
DTSTAMP:20260419T140610
CREATED:20211203T014328Z
LAST-MODIFIED:20211203T014328Z
UID:47309-1638576000-1638662399@livingsnoqualmie.com
SUMMARY:Fall City Holiday Festivities
DESCRIPTION:Holiday Market 10:00 – 3:00 pm December 4th Chief Kanim Middle School Commons 32627 SE Redmond-Fall City Road. \nThe 21st annual Holiday Market will offer many handmade items for sale from local crafters and artists throughout the community.  Come discover a unique vintage item and purchase gifts for all those special people on your holiday shopping list.  Pick up fresh wreaths and live poinsettias for your holiday decorating. \nThe Fall City Historical Society will have great gift ideas including the 2022 Fall City Calendar featuring FARMING\, a few historic photo prints\, three different magnets\, our wine glass featuring a Salish salmon and our collector’s mug ‘Fall City – Circa 1906’\, and of course\, our books:  Preserving the Stories of Fall City and Jack’s History of Fall City. \nA new vendor this year is local author Kaitlynn Miller\, selling her children’s book Every Bunny Needs A Friend. \nIt’s a story about bunnies Jack\, Susie and Ty where kindness overcomes bullying.  This anti-bullying book helps kids learn to be kind to everyone – even the playground bully.  Activities in the back help kids put their kindness into practice. \nThis year’s Bake Sale will be filled with many delicious goodies prepared by the Fall City United Methodist Church Women’s group.  Bring your friends and enjoy a cup of coffee and enter to win one of many unique raffle prizes. \nThe Chief Kanim Middle School Music Program will kick the market off with the sounds of lively and festive music.  Come enjoy Johann Sasynuik playing seasonal holiday music on the piano. \nFriend us on Facebook for updates:  FC HolidayMarket \nEvening Festivities Hub 3:00 – 7:00 pm @ Totem Pole Garden\, Aroma Coffee & Fall City Art Park \n\nSanta Inflatable for photos\nCarolers from Mt. Si High School\nCocoa & coffee from Aroma Coffee^\nRelay for Life: Hot dogs\, Mac ‘n Cheese\, Chili & Desserts^\nPulled Pork provided by Fall City Family Dental^\n5 Hooks Seafood Food Truck\nGive Grays Way Fundraiser & Silent Auction\n\n^Donations requested for food & drink. \nHoliday School Music Program 4:10 – 4:45 pm Fall City Elementary School Covered Play Area 3314 SE 42nd Place\, Fall City 98024 Come enjoy the sounds of the Fall City Elementary School Choir. \n(Bring your own chair\, wear a mask and dress warmly to sit outside.) \nAnnual Tree Lighting Ceremony 5:00 @ Fall City Art Park Presented by Fall City Park District Join us and light up the town!
URL:https://livingsnoqualmie.com/event/fall-city-holiday-festivities/
LOCATION:Fall City
END:VEVENT
BEGIN:VEVENT
DTSTART;TZID=America/Los_Angeles:20211204T090000
DTEND;TZID=America/Los_Angeles:20211204T160000
DTSTAMP:20260419T140610
CREATED:20211126T043317Z
LAST-MODIFIED:20211126T043317Z
UID:47275-1638608400-1638633600@livingsnoqualmie.com
SUMMARY:Annual Si View Holiday Bazaar
DESCRIPTION:Annual Si View Holiday Bazaar \nSaturday December 4\, 9AM-4PM at Si View Community Center \nThe Holiday Bazaar is back! Join Si View for this indoor fair\, featuring talented artisans with locally handmade goods\, perfect for gift giving. \nThey’ve taken safety precautions by spacing out vendor booths to minimize crowding\, and while live entertainment won’t be a part of the program this year\, you can count on cheery holiday tunes throughout the day. \nThey’ll also be raffling off gorgeous gift baskets with items donated by vendors. \nAdmission to this event is free. Statewide mask mandate and King County vaccine verification order are in effect for indoor programs and at Si View facilities. Learn more here.
URL:https://livingsnoqualmie.com/event/annual-si-view-holiday-bazaar/
LOCATION:WA
END:VEVENT
BEGIN:VEVENT
DTSTART;TZID=America/Los_Angeles:20211204T170000
DTEND;TZID=America/Los_Angeles:20211204T190000
DTSTAMP:20260419T140610
CREATED:20211118T173007Z
LAST-MODIFIED:20211118T173007Z
UID:47221-1638637200-1638644400@livingsnoqualmie.com
SUMMARY:Snoqualmie Winter Lights
DESCRIPTION:Mark your calendars for Snoqualmie Winter Lights\, an annual holiday tradition in Historic Downtown Snoqualmie. \nThe event will be on Saturday\, December 4 from 5-7 p.m. Santa will arrive at 6:30 p.m. for the holiday tree lighting countdown in Railroad Park\, 7971 Railroad Ave SE. \nLearn more here.
URL:https://livingsnoqualmie.com/event/snoqualmie-winter-lights/
LOCATION:Downtown Snoqualmie
END:VEVENT
BEGIN:VEVENT
DTSTART;TZID=America/Los_Angeles:20211204T170000
DTEND;TZID=America/Los_Angeles:20211204T200000
DTSTAMP:20260419T140610
CREATED:20211118T172813Z
LAST-MODIFIED:20211118T172813Z
UID:47220-1638637200-1638648000@livingsnoqualmie.com
SUMMARY:Holly Days-North Bend
DESCRIPTION:Join your friends and neighbors to ring in the holiday season on Saturday\, December 4\, 2021\, from 5 to 8PM as Holly Days returns to downtown North Bend. \nThis old-fashioned holiday festival includes a live stage\, firepits with marshmallow roasting and smores fixings\, visits with Santa\, and of course\, the lighting of the community tree with Mayor Rob. \nLearn more about this fun annual event here.
URL:https://livingsnoqualmie.com/event/holly-days-north-bend/
LOCATION:WA
END:VEVENT
BEGIN:VEVENT
DTSTART;TZID=America/Los_Angeles:20211204T170000
DTEND;TZID=America/Los_Angeles:20211204T200000
DTSTAMP:20260419T140610
CREATED:20211126T043727Z
LAST-MODIFIED:20211126T043727Z
UID:47276-1638637200-1638648000@livingsnoqualmie.com
SUMMARY:Selfies with Santa
DESCRIPTION:Simpson Group Real Estate\, a community-minded team of real estate professionals who aspire to provide concierge-level customer service\, has opened its doors in downtown North Bend on the corner of Bendigo Boulevard and North Bend Way. To celebrate the Simpson Group Real Estate office grand opening\, a public ribbon cutting is scheduled for 12 pm on Saturday\, Nov. 27 at 202 W. North Bend Way. \nWith deep roots in the Valley\, the Simpson Group looks forward to hosting a variety of community events throughout the year. “Selfies with Santa” will be complimentary on Saturdays in December (Dec. 4 from 5pm – 8pm and Dec. 11 & 18 from 10am – 3pm). Beginning in January\, Simpson Group Real Estate will host local wineries in its office space.
URL:https://livingsnoqualmie.com/event/selfies-with-santa/
LOCATION:Simpson Real Estate Group\, 202 W. North Bend Way\, North Bend\, WA\, 98045\, United States
END:VEVENT
BEGIN:VEVENT
DTSTART;VALUE=DATE:20211208
DTEND;VALUE=DATE:20211209
DTSTAMP:20260419T140610
CREATED:20211118T173240Z
LAST-MODIFIED:20211118T173240Z
UID:47222-1638921600-1639007999@livingsnoqualmie.com
SUMMARY:Light up North Bend-A Holiday Spirit Contest
DESCRIPTION:The City of North Bend invites residents and businesses to make the City shine bright this holiday season as the 2nd Annual Light up North Bend holiday lighting contest returns. \nLearn more here.
URL:https://livingsnoqualmie.com/event/light-up-north-bend-a-holiday-spirit-contest/
LOCATION:North Bend
END:VEVENT
BEGIN:VEVENT
DTSTART;TZID=America/Los_Angeles:20211209T090000
DTEND;TZID=America/Los_Angeles:20211209T090000
DTSTAMP:20260419T140610
CREATED:20211209T220625Z
LAST-MODIFIED:20211209T220625Z
UID:47343-1639040400-1639040400@livingsnoqualmie.com
SUMMARY:Santa Breakfast at Moose Lodge
DESCRIPTION:Sunday\, Dec. 12\, 9 AM FROM THE SNOQUALMIE VALLEY MOOSE LODGE – A Santa breakfast that is open to all! Free photos with a Santa background and a delicious\, holiday-inspired breakfast. \nDonations will be accepted\, but this breakfast is free to attend.
URL:https://livingsnoqualmie.com/event/santa-breakfast-at-moose-lodge/
LOCATION:SNOQUALMIE VALLEY MOOSE LODGE\, 108 Sydney Ave N\, North Bend\, 98045\, United States
END:VEVENT
BEGIN:VEVENT
DTSTART;VALUE=DATE:20211211
DTEND;VALUE=DATE:20211212
DTSTAMP:20260419T140610
CREATED:20211209T220319Z
LAST-MODIFIED:20211209T220319Z
UID:47341-1639180800-1639267199@livingsnoqualmie.com
SUMMARY:Santa Limited Holiday Train Ride
DESCRIPTION:Saturday\, Dec. 11\, 18\, 19 FROM THE NORTHWEST RAILWAY MUSEUM – Join Santa and his elves for the Santa Limited steam train. This 2-hour holiday excursion begins at the North Bend Depot. \nAfter boarding\, passengers ride to the Railway History Campus\, where Santa greets each child with a small gift inside the unique Chapel Car 5 Messenger of Peace located within the seasonally decorated Train Shed Exhibit Hall. Guests also receive a holiday cookie on this train excursion. Click here for more information.
URL:https://livingsnoqualmie.com/event/santa-limited-holiday-train-ride/
LOCATION:Northwest Railway Museum
END:VEVENT
BEGIN:VEVENT
DTSTART;TZID=America/Los_Angeles:20211211T090000
DTEND;TZID=America/Los_Angeles:20211211T120000
DTSTAMP:20260419T140610
CREATED:20211209T215712Z
LAST-MODIFIED:20211209T215712Z
UID:47337-1639213200-1639224000@livingsnoqualmie.com
SUMMARY:Holiday Craft Camp
DESCRIPTION:Saturday\, Dec. 11\, 9 – 12 PM FROM THE VILLAGE AT IGNITE – Spark some holiday cheer with The Village’s Holiday Craft Camp! \nKids get to come hang out with and craft to their hearts content while you run some last-minute holiday errands! Kids will enjoy several craft stations\, take a hot-cocoa break\, and have tons of holiday fun. Click here for more information.
URL:https://livingsnoqualmie.com/event/holiday-craft-camp/
LOCATION:Ignite Dance and Yoga\, 472 E North Bend Way\, North Bend\, 98045\, United States
END:VEVENT
BEGIN:VEVENT
DTSTART;TZID=America/Los_Angeles:20211211T100000
DTEND;TZID=America/Los_Angeles:20211211T150000
DTSTAMP:20260419T140610
CREATED:20211203T015136Z
LAST-MODIFIED:20211203T015136Z
UID:47311-1639216800-1639234800@livingsnoqualmie.com
SUMMARY:Pet Photos with Santa-Pet Place Market
DESCRIPTION:December 11-13th from 10 AM – 3 PM at Pet Place Market\, 213 Bendigo Blvd N. Ste 2 in North Bend. \nThey will be taking appointments for this event. Please call them at (425) 888-8828 to book your appointment. Walk-ins are welcome but appointments are guaranteed!
URL:https://livingsnoqualmie.com/event/pet-photos-with-santa-pet-place-market/
LOCATION:Pet Place Market\, 213 Bendigo Blvd N. Ste 2\, North Bend\, WA\, 98045\, United States
END:VEVENT
BEGIN:VEVENT
DTSTART;TZID=America/Los_Angeles:20211211T170000
DTEND;TZID=America/Los_Angeles:20211211T210000
DTSTAMP:20260419T140610
CREATED:20211209T215953Z
LAST-MODIFIED:20211209T215953Z
UID:47339-1639242000-1639256400@livingsnoqualmie.com
SUMMARY:Kids Night Out
DESCRIPTION:Saturday\, Dec. 11\, 5 – 9 PM FROM THE VILLAGE AT IGNITE – While the grown-ups enjoy live music at Ignition or just a kid-free evening\, kids will have their own fun “night out” with The Village at IGNITE! \nKids will do a craft project\, get their bodies moving\, eat some pizza\, and settle in for a movie. Experienced staff will ensure that kiddos feel safe and welcome. For more information\, click here.
URL:https://livingsnoqualmie.com/event/kids-night-out/
LOCATION:Ignite Dance and Yoga\, 472 E North Bend Way\, North Bend\, 98045\, United States
END:VEVENT
BEGIN:VEVENT
DTSTART;TZID=America/Los_Angeles:20211218T110000
DTEND;TZID=America/Los_Angeles:20211218T150000
DTSTAMP:20260419T140610
CREATED:20211209T220942Z
LAST-MODIFIED:20211209T220942Z
UID:47345-1639825200-1639839600@livingsnoqualmie.com
SUMMARY:Reindeer Day at Salish Lodge & Spa
DESCRIPTION:SATURDAY\, DECEMBER 18\, 2021 AT 11 AM – 3 PM \nSanta’s reindeer are making a special stop at Salish Lodge & Spa. We’re not sure which reindeer will be here but be sure to stop by for some festive holiday cheer. The Mt. Si High School Choir will also be singing some merry tunes from 1 pm -1:30 pm. \nWhile you are here\, stop inside to view all the fun holiday decor\, shop at The Country Store\, and be sure to check out our new gingerbread house\, which is a replica of Salish Lodge! \nDon’t forget Salish is also one of Santa’s mailbox destinations. Salish Elves want to help get your little ones to Santa at the North Pole. Drop off their letters to the jolly ole fellow in our special mailbox located in the lobby!
URL:https://livingsnoqualmie.com/event/reindeer-day-at-salish-lodge-spa/
LOCATION:Salish Lodge & Spa\, 6501 RAILROAD AVE SE\, Snoqualmie\, WA\, 98065\, United States
END:VEVENT
BEGIN:VEVENT
DTSTART;TZID=America/Los_Angeles:20211218T140000
DTEND;TZID=America/Los_Angeles:20211218T160000
DTSTAMP:20260419T140610
CREATED:20211126T044518Z
LAST-MODIFIED:20211126T044518Z
UID:47278-1639836000-1639843200@livingsnoqualmie.com
SUMMARY:Mounted Caroling on the Ridge
DESCRIPTION:2-4pm-ish on December 18th (pending no giant wind/rainstorm). The riders welcome folks to walk with them\, bring dogs and kids along\, or even bring your own horse to ride too! \nBe warned… they don’t sing\, but do look vaguely festive… \nSpecifics on the route to come later\, but generally from the U-Haul to Azalea/Tanner Jeans park on Douglas and then Muir to Fairway to Ridge and up Center Street where we cross the Parkway again.
URL:https://livingsnoqualmie.com/event/mounted-caroling-on-the-ridge/
LOCATION:WA
END:VEVENT
END:VCALENDAR