BEGIN:VCALENDAR
VERSION:2.0
PRODID:-//Living Snoqualmie - ECPv6.15.17.1//NONSGML v1.0//EN
CALSCALE:GREGORIAN
METHOD:PUBLISH
X-WR-CALNAME:Living Snoqualmie
X-ORIGINAL-URL:https://livingsnoqualmie.com
X-WR-CALDESC:Events for Living Snoqualmie
REFRESH-INTERVAL;VALUE=DURATION:PT1H
X-Robots-Tag:noindex
X-PUBLISHED-TTL:PT1H
BEGIN:VTIMEZONE
TZID:America/Los_Angeles
BEGIN:DAYLIGHT
TZOFFSETFROM:-0800
TZOFFSETTO:-0700
TZNAME:PDT
DTSTART:20200308T100000
END:DAYLIGHT
BEGIN:STANDARD
TZOFFSETFROM:-0700
TZOFFSETTO:-0800
TZNAME:PST
DTSTART:20201101T090000
END:STANDARD
BEGIN:DAYLIGHT
TZOFFSETFROM:-0800
TZOFFSETTO:-0700
TZNAME:PDT
DTSTART:20210314T100000
END:DAYLIGHT
BEGIN:STANDARD
TZOFFSETFROM:-0700
TZOFFSETTO:-0800
TZNAME:PST
DTSTART:20211107T090000
END:STANDARD
BEGIN:DAYLIGHT
TZOFFSETFROM:-0800
TZOFFSETTO:-0700
TZNAME:PDT
DTSTART:20220313T100000
END:DAYLIGHT
BEGIN:STANDARD
TZOFFSETFROM:-0700
TZOFFSETTO:-0800
TZNAME:PST
DTSTART:20221106T090000
END:STANDARD
END:VTIMEZONE
BEGIN:VEVENT
DTSTART;TZID=America/Los_Angeles:20211115T100000
DTEND;TZID=America/Los_Angeles:20211115T170000
DTSTAMP:20260419T154247
CREATED:20211109T231458Z
LAST-MODIFIED:20211109T231458Z
UID:47177-1636970400-1636995600@livingsnoqualmie.com
SUMMARY:Salish Sip-n-Shop Event
DESCRIPTION:Join us for some festive fun at The Country Store\nNovember 15\, 2021 | 10:00am – 5:00pm\nGet a jump on your holiday shopping and try a sample of Mt Si Coffee Roasters coffee\, Salish Spicy Hot Cocoa\, Hot Ruby Cider\, or Salish branded wines while you peruse the variety of all the fine items found at The Country Store. Exclusive to the Sip-n-Shop event\, enjoy special discounts* of $40 off your purchase of $100 or more or $100 off your purchase of $200 or more. \nTell us how you found out about this event (website\, social media\, etc.) and receive a free swag bag! You will also receive a bounce-back coupon** for 30% off your purchase* during your next visit to The Country Store. \nEnjoy samples of Salish Spicy Hot Cocoa or Hot Ruby Cider all day. Mt Si Coffee Roasters will be sampling our coffee blends from 10:00 am-2:00 pm and you can enjoy samples of our Salish branded wines from 1:00 pm – 5:00 pm. \nPlease note we are limiting capacity to 12 people at a time in the store.
URL:https://livingsnoqualmie.com/event/salish-sip-n-shop-event/
LOCATION:WA
END:VEVENT
BEGIN:VEVENT
DTSTART;TZID=America/Los_Angeles:20211127T090000
DTEND;TZID=America/Los_Angeles:20211128T160000
DTSTAMP:20260419T154247
CREATED:20211126T043044Z
LAST-MODIFIED:20211126T043044Z
UID:47272-1638003600-1638115200@livingsnoqualmie.com
SUMMARY:St. Nick's Christmas Market
DESCRIPTION:St. Nick’s Christmas Market \nNovember 27-28th\, 2021 9:00 AM – 4:00 PM North Fork Farm Events 43010 SE 79TH PL Snoqualmie. \nHave a jolly holly holiday season in our market! Admission is completely free\, so bring your entire family! Come support small business Saturday & Sunday at The Farm! Food\, gifts\, crafts and more!
URL:https://livingsnoqualmie.com/event/st-nicks-christmas-market/
LOCATION:North Fork Farm Events\, 43010 SE 79th St\, Snoqualmie\, WA\, United States
END:VEVENT
BEGIN:VEVENT
DTSTART;TZID=America/Los_Angeles:20211128T170000
DTEND;TZID=America/Los_Angeles:20211128T190000
DTSTAMP:20260419T154247
CREATED:20211109T231839Z
LAST-MODIFIED:20211109T231839Z
UID:47178-1638118800-1638126000@livingsnoqualmie.com
SUMMARY:Salish Lodge Annual Tree Lighting Ceremony
DESCRIPTION:HOLIDAY TREE LIGHTING\n\n\nSunday\, November 28\, 2021 \nJoin us for a fun and festive evening filled with activities for all!\nEnjoy the magical tree lighting ceremony as well as hot chocolate\, cider and cookies\, carolers\, kid’s activities\, and more! Santa and his reindeer will be on-site for a photo op and to hear what is on your wish list this year. Do a little holiday shopping at The Country Store\, and 10% of the proceeds will go to Encompass NW! We look forward to sharing this time-honored tradition with you.
URL:https://livingsnoqualmie.com/event/salish-lodge-annual-tree-lighting-ceremony/
LOCATION:WA
END:VEVENT
END:VCALENDAR