BEGIN:VCALENDAR
VERSION:2.0
PRODID:-//Living Snoqualmie - ECPv6.2.9//NONSGML v1.0//EN
CALSCALE:GREGORIAN
METHOD:PUBLISH
X-ORIGINAL-URL:https://livingsnoqualmie.com
X-WR-CALDESC:Events for Living Snoqualmie
REFRESH-INTERVAL;VALUE=DURATION:PT1H
X-Robots-Tag:noindex
X-PUBLISHED-TTL:PT1H
BEGIN:VTIMEZONE
TZID:America/Los_Angeles
BEGIN:DAYLIGHT
TZOFFSETFROM:-0800
TZOFFSETTO:-0700
TZNAME:PDT
DTSTART:20210314T100000
END:DAYLIGHT
BEGIN:STANDARD
TZOFFSETFROM:-0700
TZOFFSETTO:-0800
TZNAME:PST
DTSTART:20211107T090000
END:STANDARD
END:VTIMEZONE
BEGIN:VEVENT
DTSTART;TZID=America/Los_Angeles:20210605T090000
DTEND;TZID=America/Los_Angeles:20210605T150000
DTSTAMP:20240207T115516
CREATED:20210518T021547Z
LAST-MODIFIED:20210518T021547Z
UID:45804-1622883600-1622905200@livingsnoqualmie.com
SUMMARY:Si View Neighborhood Garage Sale
DESCRIPTION:Mark your calendars! Community-wide garage sale in Si View Neighborhood in North Bend will take place Saturday\, June 5th 9am – 3pm! 200+ home neighborhood. Garage Sale happens only once a year\, all residents are invited to participate! Cross streets are SE Cedar Falls Way & Mountain View Blvd SE.
URL:https://livingsnoqualmie.com/event/si-view-neighborhood-garage-sale/
LOCATION:Si View Neighborhood\, SE Cedar Falls Way & Mountain View Blvd\, North Bend\, wa\, 98045
END:VEVENT
BEGIN:VEVENT
DTSTART;TZID=America/Los_Angeles:20210607T170000
DTEND;TZID=America/Los_Angeles:20210607T180000
DTSTAMP:20240207T115516
CREATED:20210607T233310Z
LAST-MODIFIED:20210607T233310Z
UID:45994-1623085200-1623088800@livingsnoqualmie.com
SUMMARY:City of Snoqualmie Public Safety Committee Meeting
DESCRIPTION:Via Zoom: Register in advance for this webinar: https://us02web.zoom.us/j/83645772692?pwd=aGY4eGpJZ3RqdHdONlRCcGg3MU55UT09 Webinar ID: 836 4577 2692 Passcode: 1700040121 Via Phone Dial: 1-253-215-8782 Enter the Meeting ID: 836 4577 2692 and press # Password: 1700040121 and press # If prompted to enter the host key\, press # to wait for the meeting to start. • If prompted to enter a unique ID\, press # to skip. • Press *9 to raise your hand to speak. Raising your hand signals the meeting moderator that you have a comment. • Press *6 to mute and unmute
URL:https://livingsnoqualmie.com/event/city-of-snoqualmie-public-safety-committee-meeting-3/
LOCATION:Virtual
END:VEVENT
BEGIN:VEVENT
DTSTART;TZID=America/Los_Angeles:20210607T173000
DTEND;TZID=America/Los_Angeles:20210607T190000
DTSTAMP:20240207T115516
CREATED:20210607T232736Z
LAST-MODIFIED:20210607T232736Z
UID:45992-1623087000-1623092400@livingsnoqualmie.com
SUMMARY:City of Snoqualmie Community Development Committee Meeting
DESCRIPTION:https://us02web.zoom.us/j/86067287531?pwd=T0cxUjNRRmIwV2JTc2RCb0FrcHY4UT09 After registering\, you will receive a confirmation email containing information about joining the webinar. If you are joining by telephone only\, please: • Dial: 1-253-215-8782 • Enter the Meeting ID: 860 6728 7531 and press # • If you are prompted to enter a password\, enter: 1730040121 and press # • If prompted to enter the host key\, press # to wait for the meeting to start. • If prompted to enter a unique ID\, press # to skip. Telephone meeting participation instructions: • Press *9 to raise your hand to speak. Raising your hand signals the meeting moderator that you have a comment. • Press *6 to mute and unmute.
URL:https://livingsnoqualmie.com/event/city-of-snoqualmie-community-development-committee-meeting-2/
LOCATION:Virtual
END:VEVENT
BEGIN:VEVENT
DTSTART;TZID=America/Los_Angeles:20210607T190000
DTEND;TZID=America/Los_Angeles:20210607T210000
DTSTAMP:20240207T115516
CREATED:20210607T233023Z
LAST-MODIFIED:20210607T233100Z
UID:45993-1623092400-1623099600@livingsnoqualmie.com
SUMMARY:City of Snoqualmie Planning Commission Meeting
DESCRIPTION:Please click the link below to join the webinar: https://us02web.zoom.us/j/86487502701?pwd=QUx6N2FJR05jeUI1V2hPVUJXdjlzQT09 Webinar ID: 864 8750 2701 Passcode: 1900070121 Or iPhone one-tap : US: +12532158782\,\,86487502701#\,\,\,\,\,\,0#\,\,1900070121# or +16699009128\,\,86487502701#\,\,\,\,\,\,0#\,\,1900070121# Or Telephone: Dial(for higher quality\, dial a number based on your current location): US: +1 253 215 8782 or +1 669 900 9128 or +1 346 248 7799 or +1 301 715 8592 or +1 312 626 6799 or +1 646 558 8656 Webinar ID: 864 8750 2701 Passcode: 1900070121
URL:https://livingsnoqualmie.com/event/city-of-snoqualmie-planning-commission-meeting-3/
LOCATION:Virtual
END:VEVENT
BEGIN:VEVENT
DTSTART;TZID=America/Los_Angeles:20210609T170000
DTEND;TZID=America/Los_Angeles:20210609T190000
DTSTAMP:20240207T115516
CREATED:20210604T233154Z
LAST-MODIFIED:20210604T233154Z
UID:45967-1623258000-1623265200@livingsnoqualmie.com
SUMMARY:SVSD  Transportation Recruiting Event
DESCRIPTION:The Snoqualmie Valley School District is hiring School Bus Drivers Now to Train this Summer!  Wednesday\, June 9th | 5-7 pm – Join them by the big yellow bus in the MSHS parking lot and consider becoming a school bus driver! Flexible schedule\, summers off\, and competitive pay. For more information: http://ow.ly/cyfM50F1HJh
URL:https://livingsnoqualmie.com/event/svsd-transportation-recruiting-event/
LOCATION:Mount Si High School\, 8651 Meadowbrook Way SE\,\, Snoqualmie\, WA\, 98065\, United States
END:VEVENT
BEGIN:VEVENT
DTSTART;TZID=America/Los_Angeles:20210610T190000
DTEND;TZID=America/Los_Angeles:20210610T210000
DTSTAMP:20240207T115516
CREATED:20210607T232422Z
LAST-MODIFIED:20210607T232422Z
UID:45991-1623351600-1623358800@livingsnoqualmie.com
SUMMARY:City of North Bend Planning Commission Meeting
DESCRIPTION:Calendar • North Bend • CivicEngage (northbendwa.gov)
URL:https://livingsnoqualmie.com/event/city-of-north-bend-planning-commission-meeting/
LOCATION:Virtual
END:VEVENT
END:VCALENDAR