BEGIN:VCALENDAR
VERSION:2.0
PRODID:-//Living Snoqualmie - ECPv6.2.9//NONSGML v1.0//EN
CALSCALE:GREGORIAN
METHOD:PUBLISH
X-WR-CALNAME:Living Snoqualmie
X-ORIGINAL-URL:https://livingsnoqualmie.com
X-WR-CALDESC:Events for Living Snoqualmie
REFRESH-INTERVAL;VALUE=DURATION:PT1H
X-Robots-Tag:noindex
X-PUBLISHED-TTL:PT1H
BEGIN:VTIMEZONE
TZID:America/Los_Angeles
BEGIN:DAYLIGHT
TZOFFSETFROM:-0800
TZOFFSETTO:-0700
TZNAME:PDT
DTSTART:20210314T100000
END:DAYLIGHT
BEGIN:STANDARD
TZOFFSETFROM:-0700
TZOFFSETTO:-0800
TZNAME:PST
DTSTART:20211107T090000
END:STANDARD
END:VTIMEZONE
BEGIN:VEVENT
DTSTART;TZID=America/Los_Angeles:20210322T180000
DTEND;TZID=America/Los_Angeles:20210322T200000
DTSTAMP:20240207T115712
CREATED:20210319T231739Z
LAST-MODIFIED:20210319T231739Z
UID:45379-1616436000-1616443200@livingsnoqualmie.com
SUMMARY:Snoqualmie City Council meeting
DESCRIPTION:Zoom: https://us02web.zoom.us/j/81306148787?pwd=aDlJMVhPS1ppTmhFSXJVSGhmako1QT09 \nWebinar ID: 813 0614 8787 \nPasscode: 1800110121 \nDial-In: 1-253-215-8782 Webinar ID: 813 0614 8787 Passcode: 1800110121
URL:https://livingsnoqualmie.com/event/snoqualmie-city-council-meeting/
LOCATION:Virtual
END:VEVENT
BEGIN:VEVENT
DTSTART;TZID=America/Los_Angeles:20210323T190000
DTEND;TZID=America/Los_Angeles:20210323T210000
DTSTAMP:20240207T115712
CREATED:20210319T232222Z
LAST-MODIFIED:20210319T232222Z
UID:45382-1616526000-1616533200@livingsnoqualmie.com
SUMMARY:North Bend City Council Workstudy
DESCRIPTION:The public will be able to participate in this meeting using Zoom Meetings. However\, in keeping with past Workstudy practices\, the public will not be allowed to provide public comment. You will be required to have a registered Zoom account and display your full name to be admitted to the online meeting. Zoom Meeting Information: To Sign Up for a Zoom Account: https://zoom.us/join\, Meeting ID: 826 3720 1753\, Password: 008272\, Call In Phone Number: 1-253-215-878
URL:https://livingsnoqualmie.com/event/north-bend-city-council-workstudy/
LOCATION:Virtual
END:VEVENT
BEGIN:VEVENT
DTSTART;TZID=America/Los_Angeles:20210325T170000
DTEND;TZID=America/Los_Angeles:20210325T200000
DTSTAMP:20240207T115712
CREATED:20210320T012605Z
LAST-MODIFIED:20210320T012605Z
UID:45388-1616691600-1616702400@livingsnoqualmie.com
SUMMARY:Snoqualmie Valley School District Board Meeting
DESCRIPTION:The online meeting will begin at 5:00 P.M…\nFor those who would like to provide Public Comment\, please email your comments (500 words or less) in advance to wrightc@svsd410.org\, by 2 P.M. the day of the school board meeting. Your comments will be shared with the Board and added to the Board Minutes as an attachment.  (The Public Comment portion of each meeting is a time for the Board to receive comments; they do not address questions during board meetings.)\nTo observe the online School Board meeting\, please follow the instructions found on our Website under District Headline on the Day of Meeting. We suggest you log in 5 minutes before the start of the meeting\, to test the audio.\nAll attendees will be muted during the meeting and video will only be enabled for the superintendent\, board members and presenters.\nIf you have comments on a specific agenda item for the Board during the meeting\, participants can type their comments via the “Q&A” button. While the School Board does not answer questions during meetings\, this feature will enable them to view your comments regarding the topic being discussed. If appropriate\, the board will read the comments aloud\, with one comment allowed per participant.
URL:https://livingsnoqualmie.com/event/snoqualmie-valley-school-district-board-meeting/
LOCATION:Virtual
END:VEVENT
BEGIN:VEVENT
DTSTART;TZID=America/Los_Angeles:20210325T190000
DTEND;TZID=America/Los_Angeles:20210325T210000
DTSTAMP:20240207T115712
CREATED:20210319T232916Z
LAST-MODIFIED:20210319T232916Z
UID:45383-1616698800-1616706000@livingsnoqualmie.com
SUMMARY:North Bend Planning Commission
DESCRIPTION:The meeting is an online meeting via Microsoft Teams. Click the following link to join the\nthe meeting\, or dial in via telephone via the number below:\nMicrosoft Teams meeting\nJoin on your computer or mobile app\nClick here to join the meeting\nOr call in (audio only)\n+1 323-484-5815\,\,641766809# United States\, Los Angeles\nPhone Conference ID: 641 766 809#
URL:https://livingsnoqualmie.com/event/north-bend-planning-commission/
LOCATION:Virtual
END:VEVENT
BEGIN:VEVENT
DTSTART;TZID=America/Los_Angeles:20210329T180000
DTEND;TZID=America/Los_Angeles:20210329T193000
DTSTAMP:20240207T115712
CREATED:20210319T233341Z
LAST-MODIFIED:20210319T233341Z
UID:45384-1617040800-1617046200@livingsnoqualmie.com
SUMMARY:Habitat for Humanity Community Outreach Meeting
DESCRIPTION:The City of North Bend invites community members to an informational meeting about the new Habitat for Humanity Seattle-King County affordable housing project. The meeting will include information on applicant qualifications\, application requirements\, and the community application preference period for people residing or working in North Bend zip code 98045. That community application preference is anticipated to span the month of April 2021. \nJoin the March 29th\, 6 PM Habitat for Humanity Community Outreach Zoom Meeting: https://us02web.zoom.us/j/84969196933?pwd=NloyUWdzTjI4YklHZ3JCcDluaHU3UT09 \nMeeting ID: 849 6919 6933 Passcode: 972945 Dial by your location: +1 253 215 8782 US (Tacoma) +1 346 248 7799 US (Houston) +1 669 900 6833 US (San Jose) +1 929 205 6099 US (New York) +1 301 715 8592 US (Washington DC) +1 312 626 6799 US (Chicago) Find your local number: https://us02web.zoom.us/u/kUzuKiH4H \n 
URL:https://livingsnoqualmie.com/event/habitat-for-humanity-community-outreach-meeting/
LOCATION:Virtual
END:VEVENT
BEGIN:VEVENT
DTSTART;TZID=America/Los_Angeles:20210329T190000
DTEND;TZID=America/Los_Angeles:20210329T210000
DTSTAMP:20240207T115712
CREATED:20210320T200117Z
LAST-MODIFIED:20210320T200117Z
UID:45394-1617044400-1617051600@livingsnoqualmie.com
SUMMARY:Snoqualmie Valley Pet Loss Support Group
DESCRIPTION:This meeting is geared toward providing a safe\, private environment for those suffering from pet bereavement. Also strongly encouraged to attend are those who may not currently be experiencing a loss\, but may want to attend to support neighbors in the community who are. \nZoom info \nMeeting ID: 835 2293 9267\nNo password\n\nhttps://www.facebook.com/groups/489237575620770/?ref=share 
URL:https://livingsnoqualmie.com/event/snoqualmie-valley-pet-loss-support-group/
LOCATION:Virtual
END:VEVENT
BEGIN:VEVENT
DTSTART;TZID=America/Los_Angeles:20210330T190000
DTEND;TZID=America/Los_Angeles:20210330T190000
DTSTAMP:20240207T115712
CREATED:20210320T160053Z
LAST-MODIFIED:20210320T160053Z
UID:45389-1617130800-1617130800@livingsnoqualmie.com
SUMMARY:Sallal Water Association Annual Members meeting
DESCRIPTION:The annual meeting of Sallal’s membership will be held on March 30\, 2021\, at 7 p.m. Two board\nmembers are up for reelection\, and the members will vote on those positions at this\nmeeting. The full notes and agenda will be mailed to all members at least two weeks before\nthe meeting\, along with the details of how to attend virtually or by phone.
URL:https://livingsnoqualmie.com/event/sallal-water-association-annual-members-meeting/
LOCATION:Virtual
END:VEVENT
END:VCALENDAR