BEGIN:VCALENDAR
VERSION:2.0
PRODID:-//Living Snoqualmie - ECPv6.15.20//NONSGML v1.0//EN
CALSCALE:GREGORIAN
METHOD:PUBLISH
X-ORIGINAL-URL:https://livingsnoqualmie.com
X-WR-CALDESC:Events for Living Snoqualmie
REFRESH-INTERVAL;VALUE=DURATION:PT1H
X-Robots-Tag:noindex
X-PUBLISHED-TTL:PT1H
BEGIN:VTIMEZONE
TZID:America/Los_Angeles
BEGIN:DAYLIGHT
TZOFFSETFROM:-0800
TZOFFSETTO:-0700
TZNAME:PDT
DTSTART:20250309T100000
END:DAYLIGHT
BEGIN:STANDARD
TZOFFSETFROM:-0700
TZOFFSETTO:-0800
TZNAME:PST
DTSTART:20251102T090000
END:STANDARD
BEGIN:DAYLIGHT
TZOFFSETFROM:-0800
TZOFFSETTO:-0700
TZNAME:PDT
DTSTART:20260308T100000
END:DAYLIGHT
BEGIN:STANDARD
TZOFFSETFROM:-0700
TZOFFSETTO:-0800
TZNAME:PST
DTSTART:20261101T090000
END:STANDARD
BEGIN:DAYLIGHT
TZOFFSETFROM:-0800
TZOFFSETTO:-0700
TZNAME:PDT
DTSTART:20270314T100000
END:DAYLIGHT
BEGIN:STANDARD
TZOFFSETFROM:-0700
TZOFFSETTO:-0800
TZNAME:PST
DTSTART:20271107T090000
END:STANDARD
END:VTIMEZONE
BEGIN:VEVENT
DTSTART;VALUE=DATE:20260606
DTEND;VALUE=DATE:20260607
DTSTAMP:20260422T194237
CREATED:20260404T170342Z
LAST-MODIFIED:20260404T170342Z
UID:64342-1780704000-1780790399@livingsnoqualmie.com
SUMMARY:City of Carnation 2026 Summer Sports Camps
DESCRIPTION:CITY OF CARNATION\nSkyhawks Sports \nCITY OF CARNATION AND SKYHAWKS SPORTS PRESENTS: \n2026 SUMMER SPORTS CAMPS! \nAll camps are Monday – Friday at Valley Memorial Park (3810 Stossel Ave\, Carnation\, WA 98014)\nCamps range from $159-$249 \nOffering 2 FREE Soccer clinics at Valley Memorial Park!\nSaturday\, June 6\, 2026\n12:00 PM – 1:00 PM: 4 yr. – 7 yr. age group\n1:00 PM – 2:00 PM: 8 yr. – 12 yr. age group \nRegister Today! \nwww.register.skyhawks.com\n(800) 804-3509 \nSign up by June 1st to receive $25 off registration! Use code Carnation25.\n*Only one discount per camper. \nScholarships available!\nEmail beth.offeman@carnationwa.gov for an application.
URL:https://livingsnoqualmie.com/event/city-of-carnation-2026-summer-sports-camps/
LOCATION:Valley Memorial Park\, 31999 Blanche St\, Carnation\, WA\, 98014\, United States
ATTACH;FMTTYPE=image/png:https://livingsnoqualmie.com/wp-content/uploads/2026/04/unnamed-1.png
END:VEVENT
BEGIN:VEVENT
DTSTART;VALUE=DATE:20260629
DTEND;VALUE=DATE:20260703
DTSTAMP:20260422T194237
CREATED:20260410T161741Z
LAST-MODIFIED:20260410T162109Z
UID:64384-1782691200-1783036799@livingsnoqualmie.com
SUMMARY:Wildcat Booster Club 4-day Summer Tennis Camp
DESCRIPTION:Wildcat Booster Club is holding a 4-day summer Tennis Camp for rising 2nd-9th graders\, June 29 – July 2nd\, at the Mount Si High School Tennis Courts.  Campers will learn from Mount Si Coaches and Players.\n\nThe cost is $125 per camper\, and the profits will be split evenly between the Boys and Girls High School Tennis Boosters. Proceeds from this fundraiser will go toward tennis equipment\, gear\, training\, and college scholarships.\n\n\n\nWHAT:    Wildcats Tennis Camp\nWHERE:  Mount Si High School Tennis Courts\nWHEN:    June 29\, June 30\, July 1\, July 2\n\nAM session: rising 2nd-5th graders\nPM session: rising 6th-9th graders\n\nCOST:    $125 per camper\n\n\nMORE:  \n\nPresented by Wildcat Boosters\nAll skill levels welcome\nCamp T-shirt provided\nRegister here: https://forms.gle/V8J81yirxngqgA9t7
URL:https://livingsnoqualmie.com/event/wildcat-booster-club-4-day-summer-tennis-camp/
LOCATION:Mt Si High School\, 8651 Meadowbrook Way Southeast\, Snoqualmie\, WA\, 98065\, United States
ATTACH;FMTTYPE=image/jpeg:https://livingsnoqualmie.com/wp-content/uploads/2026/04/wildcats_tennis_camp_page_1.jpg
END:VEVENT
BEGIN:VEVENT
DTSTART;VALUE=DATE:20260706
DTEND;VALUE=DATE:20260808
DTSTAMP:20260422T194237
CREATED:20260305T025637Z
LAST-MODIFIED:20260305T025637Z
UID:64038-1783296000-1786147199@livingsnoqualmie.com
SUMMARY:Eastside Catholic School Summer Camp
DESCRIPTION:When: July 6 – August 7\n\nWhere: Eastside Catholic School (232 228th Ave SE Sammamish\, WA 98074)\n\nWhere to register: https://www.eastsidecatholic.org/summer/2026\n\nCost: Camps range from $130 – $525\n\n\nGet ready for a summer of sunshine\, learning and unforgettable fun!\nSpend your summer with us for fun\, affordable and enriching experiences. From creative adventures to skill-building experiences\, campers enjoy a season filled with discovery\, confidence-building\, new friendships and fresh inspiration.\nCampers do not need to attend Eastside Catholic to participate in our summer camps — all are welcome! We’re excited to open our campus to the community and create a warm\, inclusive environment where every student can learn\, play and explore.\n\nWho can attend: Grades K-12\, all are welcome\nContact for questions: Summer Camp Registrar Liz Anderson\, landerson@eastsidecatholic.org
URL:https://livingsnoqualmie.com/event/eastside-catholic-school-summer-camp/
LOCATION:Eastside Catholic School\, 232 228th Ave SE\, Sammamish\, WA\, 98074\, United States
ATTACH;FMTTYPE=image/png:https://livingsnoqualmie.com/wp-content/uploads/2026/03/2026-Summer-Graphic-CALENDARS.png
END:VEVENT
END:VCALENDAR