BEGIN:VCALENDAR
VERSION:2.0
PRODID:-//Living Snoqualmie - ECPv6.15.20//NONSGML v1.0//EN
CALSCALE:GREGORIAN
METHOD:PUBLISH
X-WR-CALNAME:Living Snoqualmie
X-ORIGINAL-URL:https://livingsnoqualmie.com
X-WR-CALDESC:Events for Living Snoqualmie
REFRESH-INTERVAL;VALUE=DURATION:PT1H
X-Robots-Tag:noindex
X-PUBLISHED-TTL:PT1H
BEGIN:VTIMEZONE
TZID:America/Los_Angeles
BEGIN:DAYLIGHT
TZOFFSETFROM:-0800
TZOFFSETTO:-0700
TZNAME:PDT
DTSTART:20250309T100000
END:DAYLIGHT
BEGIN:STANDARD
TZOFFSETFROM:-0700
TZOFFSETTO:-0800
TZNAME:PST
DTSTART:20251102T090000
END:STANDARD
BEGIN:DAYLIGHT
TZOFFSETFROM:-0800
TZOFFSETTO:-0700
TZNAME:PDT
DTSTART:20260308T100000
END:DAYLIGHT
BEGIN:STANDARD
TZOFFSETFROM:-0700
TZOFFSETTO:-0800
TZNAME:PST
DTSTART:20261101T090000
END:STANDARD
BEGIN:DAYLIGHT
TZOFFSETFROM:-0800
TZOFFSETTO:-0700
TZNAME:PDT
DTSTART:20270314T100000
END:DAYLIGHT
BEGIN:STANDARD
TZOFFSETFROM:-0700
TZOFFSETTO:-0800
TZNAME:PST
DTSTART:20271107T090000
END:STANDARD
END:VTIMEZONE
BEGIN:VEVENT
DTSTART;TZID=America/Los_Angeles:20260418T130000
DTEND;TZID=America/Los_Angeles:20260418T160000
DTSTAMP:20260422T033622
CREATED:20260212T203712Z
LAST-MODIFIED:20260212T203712Z
UID:63863-1776517200-1776528000@livingsnoqualmie.com
SUMMARY:Sourdough Workshop with Evan Sponsler\, Baker at Carnation Farms
DESCRIPTION:Saturday\, Apr 18 from 1 pm to 4 pm PDT\n\n\nCome get hands-on experience with our expert baker and leave with all the tricks of the trade!\n\n\n\nLove Carnation Farms sourdough? Have you tried making it at home but couldn’t quite get the hang of it? This is your chance to finally learn how to make and maintain a starter\, mix a loaf of bread by hand\, and bake the perfect loaf at home. You will learn about baker’s ratios\, how to adjust recipes\, and how time and temperature play a role in the outcome of your bake to help you make the perfect loaf\, every time! \nStudents will leave the class with their own sourdough starter\, an unbaked loaf to bake at home\, a baked demi-loaf to enjoy later in the week\, and an instructional pamphlet and recipes to keep them inspired. \nThe class will provide light beverages and snacks\, including cheese\, charcuterie\, and jams to enjoy with some freshly baked bread. This class is perfect for beginners or folks who have made a couple of loaves of bread already but want to get a better understanding of the process. \nAbout the Baker: Evan’s love for food began in childhood in St. Louis\, Missouri\, where he learned to cook from his Filipino mom and to bake with his grandma. He worked in kitchens in between coursework for a Psychology degree\, but ultimately\, he fell in love with the grain. He came to Carnation Farms via the Herbfarm and DERU Market. He strives to ensure his baking practices match our regenerative mission and that you can taste the difference in their loaves.
URL:https://livingsnoqualmie.com/event/sourdough-workshop-with-evan-sponsler-baker-at-carnation-farms/
LOCATION:Carnation Farms\, 8901 NE Carnation Farm Road\, Carnation\, WA\, 98014\, United States
ATTACH;FMTTYPE=image/jpeg:https://livingsnoqualmie.com/wp-content/uploads/2026/02/Screenshot-2026-02-12-123440.jpg
ORGANIZER;CN="Carnation Farms":MAILTO:info@carnationfarms.org
END:VEVENT
END:VCALENDAR