BEGIN:VCALENDAR
VERSION:2.0
PRODID:-//Living Snoqualmie - ECPv6.15.20//NONSGML v1.0//EN
CALSCALE:GREGORIAN
METHOD:PUBLISH
X-WR-CALNAME:Living Snoqualmie
X-ORIGINAL-URL:https://livingsnoqualmie.com
X-WR-CALDESC:Events for Living Snoqualmie
REFRESH-INTERVAL;VALUE=DURATION:PT1H
X-Robots-Tag:noindex
X-PUBLISHED-TTL:PT1H
BEGIN:VTIMEZONE
TZID:America/Los_Angeles
BEGIN:DAYLIGHT
TZOFFSETFROM:-0800
TZOFFSETTO:-0700
TZNAME:PDT
DTSTART:20250309T100000
END:DAYLIGHT
BEGIN:STANDARD
TZOFFSETFROM:-0700
TZOFFSETTO:-0800
TZNAME:PST
DTSTART:20251102T090000
END:STANDARD
BEGIN:DAYLIGHT
TZOFFSETFROM:-0800
TZOFFSETTO:-0700
TZNAME:PDT
DTSTART:20260308T100000
END:DAYLIGHT
BEGIN:STANDARD
TZOFFSETFROM:-0700
TZOFFSETTO:-0800
TZNAME:PST
DTSTART:20261101T090000
END:STANDARD
BEGIN:DAYLIGHT
TZOFFSETFROM:-0800
TZOFFSETTO:-0700
TZNAME:PDT
DTSTART:20270314T100000
END:DAYLIGHT
BEGIN:STANDARD
TZOFFSETFROM:-0700
TZOFFSETTO:-0800
TZNAME:PST
DTSTART:20271107T090000
END:STANDARD
END:VTIMEZONE
BEGIN:VEVENT
DTSTART;TZID=America/Los_Angeles:20260331T183000
DTEND;TZID=America/Los_Angeles:20260331T203000
DTSTAMP:20260422T074017
CREATED:20260227T003411Z
LAST-MODIFIED:20260227T003411Z
UID:63991-1774981800-1774989000@livingsnoqualmie.com
SUMMARY:Snoqualmie Valley YMCA Trivia Night - Annual Fund Drive Event
DESCRIPTION:Snoqualmie Valley YMCA Trivia Night – Annual Fund Drive Event\n\nDate: Tuesday\, March 31st\nTime: 6:30 PM\nLocation: No Boat Brewing Company\n35214 SE Center Street\, Snoqualmie\nContact: Diana Reul\, Branch Executive Director dreul@seattleymca.org\n\nJoin us for a fun night of bar-style trivia\, great drinks\, Bai Tong Food Truck\, and community – all while supporting the Snoqualmie Valley YMCA. WHAT TO EXPECT: Four rounds of trivia. Food and drinks available for purchase. Fun prizes and surprises. Learn how your support helps local Y programs. Teams up to 6 people- come with friends or come solo\, and we’ll help you join a team! Come ready to think\, connect\, and celebrate– All for a great cause!\n\nCost: By donation ($1 off your first beverage with a donation of $10 or more)
URL:https://livingsnoqualmie.com/event/snoqualmie-valley-ymca-trivia-night-annual-fund-drive-event/
LOCATION:No Boat Brewing\, 35214 SE Center Street\, Snoqualmie\, WA\, 98065\, United States
ATTACH;FMTTYPE=image/jpeg:https://livingsnoqualmie.com/wp-content/uploads/2026/02/AFD_Trivia_Night_April_2026-scaled.jpg
END:VEVENT
END:VCALENDAR