BEGIN:VCALENDAR
VERSION:2.0
PRODID:-//Living Snoqualmie - ECPv6.15.20//NONSGML v1.0//EN
CALSCALE:GREGORIAN
METHOD:PUBLISH
X-WR-CALNAME:Living Snoqualmie
X-ORIGINAL-URL:https://livingsnoqualmie.com
X-WR-CALDESC:Events for Living Snoqualmie
REFRESH-INTERVAL;VALUE=DURATION:PT1H
X-Robots-Tag:noindex
X-PUBLISHED-TTL:PT1H
BEGIN:VTIMEZONE
TZID:America/Los_Angeles
BEGIN:DAYLIGHT
TZOFFSETFROM:-0800
TZOFFSETTO:-0700
TZNAME:PDT
DTSTART:20250309T100000
END:DAYLIGHT
BEGIN:STANDARD
TZOFFSETFROM:-0700
TZOFFSETTO:-0800
TZNAME:PST
DTSTART:20251102T090000
END:STANDARD
BEGIN:DAYLIGHT
TZOFFSETFROM:-0800
TZOFFSETTO:-0700
TZNAME:PDT
DTSTART:20260308T100000
END:DAYLIGHT
BEGIN:STANDARD
TZOFFSETFROM:-0700
TZOFFSETTO:-0800
TZNAME:PST
DTSTART:20261101T090000
END:STANDARD
BEGIN:DAYLIGHT
TZOFFSETFROM:-0800
TZOFFSETTO:-0700
TZNAME:PDT
DTSTART:20270314T100000
END:DAYLIGHT
BEGIN:STANDARD
TZOFFSETFROM:-0700
TZOFFSETTO:-0800
TZNAME:PST
DTSTART:20271107T090000
END:STANDARD
END:VTIMEZONE
BEGIN:VEVENT
DTSTART;TZID=America/Los_Angeles:20260327T180000
DTEND;TZID=America/Los_Angeles:20260327T210000
DTSTAMP:20260422T092040
CREATED:20260123T174538Z
LAST-MODIFIED:20260123T174538Z
UID:63696-1774634400-1774645200@livingsnoqualmie.com
SUMMARY:Rocky Pond Wine Dinner at the Salish Lodge & Spa
DESCRIPTION:Friday\, Mar 27 from 6 pm to 9 pm PDT \nCelebrate Washington Wine Month at Salish Lodge & Spa with a chef-inspired\, multi-course menu paired with intentional selections. \nJoin us for an intimate evening of elevated dining\, where each course is thoughtfully crafted to complement the story and craftsmanship behind every pour. Celebrate Washington Wine Month with Rocky Pond Estate Winery and Salish Lodge & Spa through a chef-inspired\, multi-course menu expertly paired with exceptional wines. Set against the stunning backdrop of Salish Lodge and Snoqualmie Falls\, this is an unforgettable evening of local food & wine. \nAbout Rocky Pond Estate Winery: \nFounded in 2013 by David and Michelle Dufenhorst\, Rocky Pond Estate Winery is rooted in the heart of Washington’s Rocky Reach AVA. The estate spans 120 acres of SustainableWA- and Salmon Safe-certified vineyards\, where thoughtful farming and respect for the land guide every decision. Rocky Pond’s portfolio of wine reflects the pioneering spirit of the Dufenhorsts\, blending time-honored winemaking traditions with creative interpretations of Bordeaux and Rhône-style blends. Through meticulous attention to detail in the vineyards\, Rocky Pond’s wines express the unique and diverse character of our estate vineyards’ soils and climate. Guided by the deft hands of Director of Winemaking\, Elizabeth Keyser-Hadley\, Rocky Pond’s wines continue to set new heights for Washington winemaking \nHighlights \n\n3 hours\nages 21+\nIn person\n\nLocation \nSalish Lodge & Spa\, Railroad Avenue\, Snoqualmie\, WA\, USA \n6501 Railroad Avenue \nSnoqualmie\, WA 98065 \n 
URL:https://livingsnoqualmie.com/event/rocky-pond-wine-dinner-at-the-salish-lodge-spa/
LOCATION:Salish Lodge & Spa\, 6501 RAILROAD AVE SE\, Snoqualmie\, WA\, 98065\, United States
ATTACH;FMTTYPE=image/jpeg:https://livingsnoqualmie.com/wp-content/uploads/2026/01/Screenshot-2026-01-23-094452.jpg
END:VEVENT
END:VCALENDAR