BEGIN:VCALENDAR
VERSION:2.0
PRODID:-//Living Snoqualmie - ECPv6.15.20//NONSGML v1.0//EN
CALSCALE:GREGORIAN
METHOD:PUBLISH
X-WR-CALNAME:Living Snoqualmie
X-ORIGINAL-URL:https://livingsnoqualmie.com
X-WR-CALDESC:Events for Living Snoqualmie
REFRESH-INTERVAL;VALUE=DURATION:PT1H
X-Robots-Tag:noindex
X-PUBLISHED-TTL:PT1H
BEGIN:VTIMEZONE
TZID:America/Los_Angeles
BEGIN:DAYLIGHT
TZOFFSETFROM:-0800
TZOFFSETTO:-0700
TZNAME:PDT
DTSTART:20250309T100000
END:DAYLIGHT
BEGIN:STANDARD
TZOFFSETFROM:-0700
TZOFFSETTO:-0800
TZNAME:PST
DTSTART:20251102T090000
END:STANDARD
BEGIN:DAYLIGHT
TZOFFSETFROM:-0800
TZOFFSETTO:-0700
TZNAME:PDT
DTSTART:20260308T100000
END:DAYLIGHT
BEGIN:STANDARD
TZOFFSETFROM:-0700
TZOFFSETTO:-0800
TZNAME:PST
DTSTART:20261101T090000
END:STANDARD
BEGIN:DAYLIGHT
TZOFFSETFROM:-0800
TZOFFSETTO:-0700
TZNAME:PDT
DTSTART:20270314T100000
END:DAYLIGHT
BEGIN:STANDARD
TZOFFSETFROM:-0700
TZOFFSETTO:-0800
TZNAME:PST
DTSTART:20271107T090000
END:STANDARD
END:VTIMEZONE
BEGIN:VEVENT
DTSTART;VALUE=DATE:20260314
DTEND;VALUE=DATE:20260321
DTSTAMP:20260422T091859
CREATED:20260223T174629Z
LAST-MODIFIED:20260223T174629Z
UID:63946-1773446400-1774051199@livingsnoqualmie.com
SUMMARY:Salish Lodge & Spa Locals Appreciation Week
DESCRIPTION:LOCALS APPRECIATION WEEK\nMarch 14–20\nDaily specials\, local events\, and exclusive discounts are available all week long. \nSaturday–Sunday | The Visitor Center Café\nGirl Scouts & Goodies \n\nBuy 3 boxes of cookies from our local Girl Scouts and receive a complimentary scoop of ice cream.\nPlus\, enjoy 15% off all café orders with your Locals Discount.\n\nMarch 14 | 10 AM–4 PM\nMarch 15 | 1–4 PM \nMonday | The Spa\nSnoqualmie Valley Spa Day \n\nComplimentary soaking pool access from 5:30–7:30 PM.\nRSVP required by texting 425-510-5975 (limited availability).\nStop by The Spa anytime on March 16 to book a future treatment and receive $40 off your appointment.\n\nOffer valid on new Monday–Thursday bookings only in 2026. Holidays excluded. \nTuesday | The Terrace Bar\nLocal’s Night\nCelebrate weekly wine and cocktail specials: \n\n50% off wine bottles and $5 off specialty cocktails.\nMention you’re here for Locals Night when you arrive.\n\nMarch 17 | 4–7 PM\nThe discount does not apply to wine bottles priced over $100. Additional restrictions may apply. Valley residents must present a valid ID to receive local discounts. \nWednesday | The Restaurant & Terrace Bar\nDate Night \n\nEnjoy a complimentary appetizer and rose petals on the table with any dinner reservation.\nMention Date Night when you arrive.\nPlus\, enjoy 15% off dinner with your Locals Discount.\n\nMarch 18 \n\nThursday | The Shop\nWomen’s History Month Sip & Shop\nMeet local women-owned vendors\, enjoy bites and wine\, and participate in a scavenger hunt featuring products available in The Shop.\nPlus\, enjoy 15% off retail purchases with your Locals Discount.\n\nMarch 19 | 4–7 PM \nFriday | The Lounge\nLive Music in The Lounge \n\nEnjoy live music from the weekly musician with a complimentary charcuterie board set out as a special treat.\n\nMarch 20 | 4–7 PM \nFAQ \nWho qualifies as a “local”? \n\nResidents of Snoqualmie Valley\, including Snoqualmie\, Carnation\, North Bend\, Fall City\, and Duvall.\n\nYear-round locals promotions:\n15% off food\, spa\, and retail purchases.\nLocals Night in The Terrace Bar on Tuesdays. \nFuture events include: \n\nLive Music in The Lounge every Friday and Saturday\, 4–7 PM\nRocky Pond Wine Dinner\, March 27\nWellness Day\, May 9\nIndustry Night and Sip & Shop\, May 14\n3-Headed Monster Wine Dinner\, May 22\nHalloween Weekend Murder Mystery\n\nSee monthly events at www.salishlodge.com/events\nFollow @salishlodgespa for updates. \nValid ID required. Discount excludes alcohol. Cannot be combined with other discounts or select offers. Additional restrictions may apply. \n 
URL:https://livingsnoqualmie.com/event/salish-lodge-spa-locals-appreciation-week/
LOCATION:Salish Lodge & Spa\, 6501 RAILROAD AVE SE\, Snoqualmie\, WA\, 98065\, United States
ATTACH;FMTTYPE=image/jpeg:https://livingsnoqualmie.com/wp-content/uploads/2026/02/2026_Locals_Week_Promo_Page_1-scaled.jpg
END:VEVENT
BEGIN:VEVENT
DTSTART;TZID=America/Los_Angeles:20260314T100000
DTEND;TZID=America/Los_Angeles:20260314T140000
DTSTAMP:20260422T091859
CREATED:20260224T021808Z
LAST-MODIFIED:20260224T021808Z
UID:63958-1773482400-1773496800@livingsnoqualmie.com
SUMMARY:Rural Transportation Advocacy 101 Workshop
DESCRIPTION:Learn How to Advocate for Better Streets and Transit! \nRural Transportation Advocacy 101 Workshop \nWhen: Saturday\, March 14th\, 10 AM – 2 PM\nWhere: North Bend City Hall \nJoin Transportation Choices Coalition\, Hopelink\, and the Snoqualmie Valley Mobility Coalition for an interactive workshop focused on rural transportation advocacy in the Snoqualmie Valley. \nDesigned for those who live\, work\, or have strong ties to the region\, this event will explore how community members can advocate for safe\, sustainable\, and equitable transportation options. \nHear from local and regional leaders in transportation\, public policy and community advocacy\, and build practical skills like delivering effective public testimony. \nThe event is free and open to all. We welcome requests for accommodations and transportation assistance to the event—contact Heather Clark\, Hopelink’s Program Manager of Coalitions\, at 425-625-6784 or HClark@hopelink.org by February 27. Travel and childcare reimbursement may be available upon request. \nThis event is FREE to attend!
URL:https://livingsnoqualmie.com/event/rural-transportation-advocacy-101-workshop/
LOCATION:North Bend City Hall\, 920 SE Cedar Falls Way\, North Bend\, WA\, 98045\, United States
ATTACH;FMTTYPE=image/png:https://livingsnoqualmie.com/wp-content/uploads/2026/02/Document.png
END:VEVENT
END:VCALENDAR