BEGIN:VCALENDAR
VERSION:2.0
PRODID:-//Living Snoqualmie - ECPv6.15.20//NONSGML v1.0//EN
CALSCALE:GREGORIAN
METHOD:PUBLISH
X-ORIGINAL-URL:https://livingsnoqualmie.com
X-WR-CALDESC:Events for Living Snoqualmie
REFRESH-INTERVAL;VALUE=DURATION:PT1H
X-Robots-Tag:noindex
X-PUBLISHED-TTL:PT1H
BEGIN:VTIMEZONE
TZID:America/Los_Angeles
BEGIN:DAYLIGHT
TZOFFSETFROM:-0800
TZOFFSETTO:-0700
TZNAME:PDT
DTSTART:20240310T100000
END:DAYLIGHT
BEGIN:STANDARD
TZOFFSETFROM:-0700
TZOFFSETTO:-0800
TZNAME:PST
DTSTART:20241103T090000
END:STANDARD
BEGIN:DAYLIGHT
TZOFFSETFROM:-0800
TZOFFSETTO:-0700
TZNAME:PDT
DTSTART:20250309T100000
END:DAYLIGHT
BEGIN:STANDARD
TZOFFSETFROM:-0700
TZOFFSETTO:-0800
TZNAME:PST
DTSTART:20251102T090000
END:STANDARD
BEGIN:DAYLIGHT
TZOFFSETFROM:-0800
TZOFFSETTO:-0700
TZNAME:PDT
DTSTART:20260308T100000
END:DAYLIGHT
BEGIN:STANDARD
TZOFFSETFROM:-0700
TZOFFSETTO:-0800
TZNAME:PST
DTSTART:20261101T090000
END:STANDARD
END:VTIMEZONE
BEGIN:VEVENT
DTSTART;TZID=America/Los_Angeles:20251216T130000
DTEND;TZID=America/Los_Angeles:20251223T170000
DTSTAMP:20260422T154919
CREATED:20251104T001543Z
LAST-MODIFIED:20251104T001543Z
UID:62954-1765890000-1766509200@livingsnoqualmie.com
SUMMARY:Salish Lodge & Spa Holiday Tea
DESCRIPTION:Holiday Tea 2025\n\nFrom Tuesday\, December 16\, 2025\, to Tuesday\, December 23\, 2025 \nJoin us in savoring one of our favorite holiday traditions\, Holiday Tea at Salish Lodge & Spa. Enjoy steaming pots of Salish loose-leaf tea\, sumptuous tea sandwiches\, delicious scones and delicate pastries atop Snoqualmie Falls. \nDecember 16th – 23rd\nOpen Seating: 1 pm – 5 pm\n$79 per person  |  $30 for children 10 and under\nFor reservations\, call 800.272.5474 or book online. \nHoliday Tea Menu
URL:https://livingsnoqualmie.com/event/salish-lodge-spa-holiday-tea/
LOCATION:Salish Lodge & Spa\, 6501 RAILROAD AVE SE\, Snoqualmie\, WA\, 98065\, United States
ATTACH;FMTTYPE=image/jpeg:https://livingsnoqualmie.com/wp-content/uploads/2025/11/29a6a230e93c3ca78d791c3adb93f09c.jpg
END:VEVENT
BEGIN:VEVENT
DTSTART;TZID=America/Los_Angeles:20251220T090000
DTEND;TZID=America/Los_Angeles:20251220T110000
DTSTAMP:20260422T154919
CREATED:20251218T202550Z
LAST-MODIFIED:20251218T202550Z
UID:63379-1766221200-1766228400@livingsnoqualmie.com
SUMMARY:BREAKFAST With Santa
DESCRIPTION:BREAKFASTWith Santa \nBring your little ones for a delightful morning filled with joy and wonder.Join us for pancakes with Santa Claus\, where children can share their holiday wishes\, enjoy a delicious breakfast\, and revel in the magic of the season. \nMeet and greet with Santa Claus \nA jolly good time for all\, spreading holiday cheer \nYummy baked goodies for sale to support the Snoqualmie Kiwanis Giving Tree \nSaturday\, 20 December\, 2025 | 9–11amMoose Lodge – 108 Sydney Ave N\, North Bend
URL:https://livingsnoqualmie.com/event/breakfast-with-santa/
LOCATION:SNOQUALMIE VALLEY MOOSE LODGE\, 108 Sydney Ave N\, North Bend\, 98045\, United States
ATTACH;FMTTYPE=image/jpeg:https://livingsnoqualmie.com/wp-content/uploads/2025/12/599940659_1164944415847651_3574342586419180836_n.jpg
END:VEVENT
END:VCALENDAR