BEGIN:VCALENDAR
VERSION:2.0
PRODID:-//Living Snoqualmie - ECPv6.15.20//NONSGML v1.0//EN
CALSCALE:GREGORIAN
METHOD:PUBLISH
X-WR-CALNAME:Living Snoqualmie
X-ORIGINAL-URL:https://livingsnoqualmie.com
X-WR-CALDESC:Events for Living Snoqualmie
REFRESH-INTERVAL;VALUE=DURATION:PT1H
X-Robots-Tag:noindex
X-PUBLISHED-TTL:PT1H
BEGIN:VTIMEZONE
TZID:America/Los_Angeles
BEGIN:DAYLIGHT
TZOFFSETFROM:-0800
TZOFFSETTO:-0700
TZNAME:PDT
DTSTART:20240310T100000
END:DAYLIGHT
BEGIN:STANDARD
TZOFFSETFROM:-0700
TZOFFSETTO:-0800
TZNAME:PST
DTSTART:20241103T090000
END:STANDARD
BEGIN:DAYLIGHT
TZOFFSETFROM:-0800
TZOFFSETTO:-0700
TZNAME:PDT
DTSTART:20250309T100000
END:DAYLIGHT
BEGIN:STANDARD
TZOFFSETFROM:-0700
TZOFFSETTO:-0800
TZNAME:PST
DTSTART:20251102T090000
END:STANDARD
BEGIN:DAYLIGHT
TZOFFSETFROM:-0800
TZOFFSETTO:-0700
TZNAME:PDT
DTSTART:20260308T100000
END:DAYLIGHT
BEGIN:STANDARD
TZOFFSETFROM:-0700
TZOFFSETTO:-0800
TZNAME:PST
DTSTART:20261101T090000
END:STANDARD
END:VTIMEZONE
BEGIN:VEVENT
DTSTART;TZID=America/Los_Angeles:20251213T090000
DTEND;TZID=America/Los_Angeles:20251213T160000
DTSTAMP:20260422T154922
CREATED:20251203T180409Z
LAST-MODIFIED:20251203T180859Z
UID:63261-1765616400-1765641600@livingsnoqualmie.com
SUMMARY:Carnation Farms Holiday Market
DESCRIPTION:Holiday Market\n\n\nDecember 13 @ 9:00 am – 4:00 pm \n\n\n\nJoin Carnation Farms to celebrate the holiday season! They will be hosting their annual Holiday Market up at the historic Hippodrome on December 13 from 9 am-4 pm. \nEnjoy hot food and drinks from the Culinary Team\, take a history tour around the main grounds with their Archivist\, snap a selfie in the fall-themed photobooth\, and pick up seasonal decor from local Artisan Vendors. You’ll find homemade soaps\, clothes\, art\, sweets\, gifts\, and more to bring in the season! \nPlenty of fun for the whole family! (but please leave your pets at home). \nRSVP Here!\nVendor applications are currently closed.
URL:https://livingsnoqualmie.com/event/carnation-farms-holiday-market/
LOCATION:Carnation Farms\, 8901 NE Carnation Farm Road\, Carnation\, WA\, 98014\, United States
ATTACH;FMTTYPE=image/jpeg:https://livingsnoqualmie.com/wp-content/uploads/2025/12/DSC03162-1-1536x966-1.jpg
ORGANIZER;CN="Carnation Farms":MAILTO:info@carnationfarms.org
END:VEVENT
END:VCALENDAR