BEGIN:VCALENDAR
VERSION:2.0
PRODID:-//Living Snoqualmie - ECPv6.15.20//NONSGML v1.0//EN
CALSCALE:GREGORIAN
METHOD:PUBLISH
X-ORIGINAL-URL:https://livingsnoqualmie.com
X-WR-CALDESC:Events for Living Snoqualmie
REFRESH-INTERVAL;VALUE=DURATION:PT1H
X-Robots-Tag:noindex
X-PUBLISHED-TTL:PT1H
BEGIN:VTIMEZONE
TZID:America/Los_Angeles
BEGIN:DAYLIGHT
TZOFFSETFROM:-0800
TZOFFSETTO:-0700
TZNAME:PDT
DTSTART:20240310T100000
END:DAYLIGHT
BEGIN:STANDARD
TZOFFSETFROM:-0700
TZOFFSETTO:-0800
TZNAME:PST
DTSTART:20241103T090000
END:STANDARD
BEGIN:DAYLIGHT
TZOFFSETFROM:-0800
TZOFFSETTO:-0700
TZNAME:PDT
DTSTART:20250309T100000
END:DAYLIGHT
BEGIN:STANDARD
TZOFFSETFROM:-0700
TZOFFSETTO:-0800
TZNAME:PST
DTSTART:20251102T090000
END:STANDARD
BEGIN:DAYLIGHT
TZOFFSETFROM:-0800
TZOFFSETTO:-0700
TZNAME:PDT
DTSTART:20260308T100000
END:DAYLIGHT
BEGIN:STANDARD
TZOFFSETFROM:-0700
TZOFFSETTO:-0800
TZNAME:PST
DTSTART:20261101T090000
END:STANDARD
END:VTIMEZONE
BEGIN:VEVENT
DTSTART;TZID=America/Los_Angeles:20251208T120000
DTEND;TZID=America/Los_Angeles:20251208T143000
DTSTAMP:20260422T154920
CREATED:20251203T205511Z
LAST-MODIFIED:20251203T205511Z
UID:63265-1765195200-1765204200@livingsnoqualmie.com
SUMMARY:North Bend Art & Industry Jigsaw Block Print Class
DESCRIPTION:NEW CLASS ANNOUNCEMENT: Jigsaw Block Printing with Leslie Moon @leslienanmoon \nLearn the art of printmaking in our Jigsaw Block Print class with artist Leslie Moon. You’ll start with the basics of block printing\, then level up by designing and carving your own jigsaw block that prints in multiple colors. It’s hands-on\, creative\, and a seriously satisfying way to make bold\, striking art. \nMonday\, December 8\n12:00 – 2:30 PM\nNBA&I Center for Creativity \nBeginner to intermediate\, ages 12+ (12–15 with an adult) \nSign up now and bring your artistic ideas to life in print… northbendartandindustry.org/classes
URL:https://livingsnoqualmie.com/event/north-bend-art-industry-jigsaw-block-print-class/
LOCATION:The Snoqualmie Valley Center for Creativity\, 1533 Bendigo Blvd North\, North Bend\, WA\, 98045\, United States
ATTACH;FMTTYPE=image/jpeg:https://livingsnoqualmie.com/wp-content/uploads/2025/12/Screenshot-2025-12-03-124936.jpg
END:VEVENT
BEGIN:VEVENT
DTSTART;TZID=America/Los_Angeles:20251208T160000
DTEND;TZID=America/Los_Angeles:20251208T180000
DTSTAMP:20260422T154920
CREATED:20251201T203908Z
LAST-MODIFIED:20251201T203908Z
UID:63215-1765209600-1765216800@livingsnoqualmie.com
SUMMARY:The Snoqualmie Valley Center for Creativity RIBBON CUTTING Celebration
DESCRIPTION:YOU ARE INVITED TO\nThe Snoqualmie Valley\nCenter for Creativity\nRIBBON CUTTING\nCelebration \nJoin them as they celebrate the location they moved into early this year! \n“The Snoqualmie Valley Center for Creativity”\nis conveniently located between Snoqualmie and North Bend.\nEnjoy light snacks and beverages\, tour our new spot\,\nand see how far we’ve come\, and what our vision for the future holds. \nDECEMBER\nMONDAY 08 AT 4 PM\n2025 \n1533 BENDIGO BLVD NORTH\nNORTH BEND\, WA
URL:https://livingsnoqualmie.com/event/the-snoqualmie-valley-center-for-creativity-ribbon-cutting-celebration/
LOCATION:The Snoqualmie Valley Center for Creativity\, 1533 Bendigo Blvd North\, North Bend\, WA\, 98045\, United States
ATTACH;FMTTYPE=image/jpeg:https://livingsnoqualmie.com/wp-content/uploads/2025/12/Screenshot-2025-12-01-123137.jpg
END:VEVENT
END:VCALENDAR