BEGIN:VCALENDAR
VERSION:2.0
PRODID:-//Living Snoqualmie - ECPv6.15.20//NONSGML v1.0//EN
CALSCALE:GREGORIAN
METHOD:PUBLISH
X-WR-CALNAME:Living Snoqualmie
X-ORIGINAL-URL:https://livingsnoqualmie.com
X-WR-CALDESC:Events for Living Snoqualmie
REFRESH-INTERVAL;VALUE=DURATION:PT1H
X-Robots-Tag:noindex
X-PUBLISHED-TTL:PT1H
BEGIN:VTIMEZONE
TZID:America/Los_Angeles
BEGIN:DAYLIGHT
TZOFFSETFROM:-0800
TZOFFSETTO:-0700
TZNAME:PDT
DTSTART:20240310T100000
END:DAYLIGHT
BEGIN:STANDARD
TZOFFSETFROM:-0700
TZOFFSETTO:-0800
TZNAME:PST
DTSTART:20241103T090000
END:STANDARD
BEGIN:DAYLIGHT
TZOFFSETFROM:-0800
TZOFFSETTO:-0700
TZNAME:PDT
DTSTART:20250309T100000
END:DAYLIGHT
BEGIN:STANDARD
TZOFFSETFROM:-0700
TZOFFSETTO:-0800
TZNAME:PST
DTSTART:20251102T090000
END:STANDARD
BEGIN:DAYLIGHT
TZOFFSETFROM:-0800
TZOFFSETTO:-0700
TZNAME:PDT
DTSTART:20260308T100000
END:DAYLIGHT
BEGIN:STANDARD
TZOFFSETFROM:-0700
TZOFFSETTO:-0800
TZNAME:PST
DTSTART:20261101T090000
END:STANDARD
END:VTIMEZONE
BEGIN:VEVENT
DTSTART;VALUE=DATE:20251129
DTEND;VALUE=DATE:20251208
DTSTAMP:20260422T154821
CREATED:20251110T175931Z
LAST-MODIFIED:20251110T175931Z
UID:63005-1764374400-1765151999@livingsnoqualmie.com
SUMMARY:The Nursery at Mt Si: Wreath making and decorating workshops
DESCRIPTION:The Nursery at Mt Si still has plenty of spots in their wreath-making and decorating workshops\, so if you need something fun to do for this holiday season\, go visit and have some fun making your very own holiday wreath \nIn the wreath-making workshops\, you’ll be building wreaths from scratch. They supply a wide range of greens\, berries\, pinecones\, flowers\, and materials\, so your wreath can be as traditional or unique as you like! \nAvailable wreath workshop dates: \n\nSaturday\, November 29th\, 1:30-3:30\nSaturday\, Dec 6th\, 10:00-12:00\, 1:30-3:30\n\n$85 per person. \nAll materials included. \nIn the wreath decorating workshops\, you’ll be supplied a plain premade 24” wreath that you can decorate with pine cones\, berries\, flowers\, bows\, bulbs and more\, as well as add additional greens. \nWreath Decorating workshop dates: \n\nSunday\, Nov 16th\, 10:00-11:00\, 2:00-3:00\nSunday\, Nov 23rd\, 10:00-11:00\nSunday\, Nov 30th\, 2:00-3:00\nSunday Dec 7th 10:00-11:00\, 2:00-3:00\n\n$65 per person. \nAll materials included. \nYou can sign up by phone at (425) 831-2274 or stop by to sign up in person. The workshop fee will be collected upon sign-up. If you are signing up for a group\, all members of the group have 72 hours to call/stop in to pay for their slot. \n*Cancellation/no-show policy: If you give at least 3 days’ notice prior to your workshop date that you are not able to attend\, they will issue a refund as a gift card. If they are given less than three days’ notice\, no refund will be granted. \nFacebook
URL:https://livingsnoqualmie.com/event/the-nursery-at-mt-si-wreath-making-and-decorating-workshops/
LOCATION:The Nursery at Mt Si\, 42328 SE 108th Street\, North Bend\, WA\, 98045\, United States
ATTACH;FMTTYPE=image/jpeg:https://livingsnoqualmie.com/wp-content/uploads/2025/11/469484578_18312536269164095_8600899749288528825_n.jpg
END:VEVENT
BEGIN:VEVENT
DTSTART;TZID=America/Los_Angeles:20251205T180000
DTEND;TZID=America/Los_Angeles:20251205T210000
DTSTAMP:20260422T154821
CREATED:20251201T173556Z
LAST-MODIFIED:20251201T173556Z
UID:63211-1764957600-1764968400@livingsnoqualmie.com
SUMMARY:Holly Daze Eve: Dashing Through the Pubs!
DESCRIPTION:Holly Daze Eve: Dashing Through the Pubs! A festive holiday pub crawl fundraiser benefiting SVPS – Sno Valley Pet Services!\n\nFriday\, December 5th \n\n6:00–9:00 PM\n\n\nA donation at check-in gets you an Event Bracelet + Raffle Ticket for a chance to win local gift cards! (Only Bracelet holders receive specials at each location!)Enjoy exclusive pub crawl specials at every stop!\n\nRaffle • Holiday Drinks • Music • Community • ALL for a great cause!\nCHECK-IN (6–7:30 PM): Hartwood Cafe where you’ll get 20% off of No Boat Brews & $25 Bottomless Mimosas-Then DASH your way through these holiday stops: \n\nTwin Peaks Pub – Holiday Karaoke @ 8pm + Spiked Egg Nog & Cranberry Mules $6\, Pint of Winter Ale $5\nSure Shot Pub – “Jingle Jello” Shots $2 • $4 Tall Boys • $6.50 Holiday Sangria\nVolition Brewing – 10% off Volition Beers\nPearl and Stone Wine Co. – $7 glasses of Boulder Loop\nRio Bravo – $5 House Margarita\nMastrogiannis Distillery & Winery – 10% off bottle purchases + 10% of all sales donated (closes at 8pm)\n\nDress in your MOST festive holiday look — ugly sweaters\, sparkles\, Santa hats… go wild!  Come sip\, stroll\, support local — and help Sno Valley Pet Services continue caring for the pets (and people!) who need them most.\n\nRSVP\, share\, and bring your merry crew!\n\nLet’s make spirits bright — and raise some funds!  https://snovalleypetservices.org
URL:https://livingsnoqualmie.com/event/holly-daze-eve-dashing-through-the-pubs/
LOCATION:Downtown North Bend
ATTACH;FMTTYPE=image/jpeg:https://livingsnoqualmie.com/wp-content/uploads/2025/12/577028070_1269350338563328_1395606013575797179_n-1.jpg
ORGANIZER;CN="North Bend Downtown Foudation":MAILTO:info@northbenddowntown.org
END:VEVENT
BEGIN:VEVENT
DTSTART;TZID=America/Los_Angeles:20251205T180000
DTEND;TZID=America/Los_Angeles:20251205T220000
DTSTAMP:20260422T154821
CREATED:20251110T172406Z
LAST-MODIFIED:20251110T172406Z
UID:63002-1764957600-1764972000@livingsnoqualmie.com
SUMMARY:Cheers for Children’s Holiday Gala
DESCRIPTION:YOU’RE INVITED \nCheers for Children’s Holiday Gala \nFriday\, December 5\, 20256–10 pm \nBlakely Hall2550 NE Park Dr Issaquah\, WA \nDJ | Dancing | Silent Auction | Dick’s Drive-In Food Truck \nCocktail Attire \nPurchase your tickets: https://bit.ly/4n3ch4c \nHosted by Project Grace
URL:https://livingsnoqualmie.com/event/cheers-for-childrens-holiday-gala/
LOCATION:Blakely Hall\, 2550 NE Park Drive\, Issaquah\, WA\, 98029\, United States
ATTACH;FMTTYPE=image/jpeg:https://livingsnoqualmie.com/wp-content/uploads/2025/11/Cheers-for-Childrens-2025.jpeg
END:VEVENT
END:VCALENDAR