BEGIN:VCALENDAR
VERSION:2.0
PRODID:-//Living Snoqualmie - ECPv6.15.20//NONSGML v1.0//EN
CALSCALE:GREGORIAN
METHOD:PUBLISH
X-WR-CALNAME:Living Snoqualmie
X-ORIGINAL-URL:https://livingsnoqualmie.com
X-WR-CALDESC:Events for Living Snoqualmie
REFRESH-INTERVAL;VALUE=DURATION:PT1H
X-Robots-Tag:noindex
X-PUBLISHED-TTL:PT1H
BEGIN:VTIMEZONE
TZID:America/Los_Angeles
BEGIN:DAYLIGHT
TZOFFSETFROM:-0800
TZOFFSETTO:-0700
TZNAME:PDT
DTSTART:20240310T100000
END:DAYLIGHT
BEGIN:STANDARD
TZOFFSETFROM:-0700
TZOFFSETTO:-0800
TZNAME:PST
DTSTART:20241103T090000
END:STANDARD
BEGIN:DAYLIGHT
TZOFFSETFROM:-0800
TZOFFSETTO:-0700
TZNAME:PDT
DTSTART:20250309T100000
END:DAYLIGHT
BEGIN:STANDARD
TZOFFSETFROM:-0700
TZOFFSETTO:-0800
TZNAME:PST
DTSTART:20251102T090000
END:STANDARD
BEGIN:DAYLIGHT
TZOFFSETFROM:-0800
TZOFFSETTO:-0700
TZNAME:PDT
DTSTART:20260308T100000
END:DAYLIGHT
BEGIN:STANDARD
TZOFFSETFROM:-0700
TZOFFSETTO:-0800
TZNAME:PST
DTSTART:20261101T090000
END:STANDARD
END:VTIMEZONE
BEGIN:VEVENT
DTSTART;TZID=America/Los_Angeles:20251120T170000
DTEND;TZID=America/Los_Angeles:20251120T170000
DTSTAMP:20260422T173601
CREATED:20251117T222911Z
LAST-MODIFIED:20251117T222911Z
UID:63085-1763658000-1763658000@livingsnoqualmie.com
SUMMARY:Snoqualmie Valley Food Bank Donation Drive at No Boat Brewing on November 20
DESCRIPTION:The Snoqualmie Valley Food Bank is experiencing an urgent increase in need and is asking the community for support. To help meet that need\, No Boat Brewing will host a donation drive and community gathering on Thursday\, November 20\, with activities running throughout the evening. \nThe Food Bank has requested several specific items\, including diapers\, formula\, Ensure protein shakes\, and non-perishable essentials. Cash donations will also be welcomed. For anyone who would like to help before the event\, No Boat can accept donations beginning immediately. \nDuring the event\, No Boat will release a new West Coast IPA brewed in collaboration with Lumberbeard Brewing. For every pint sold\, one dollar will be donated to the Snoqualmie Valley Food Bank. \nThis is a difficult season for local food banks\, and organizers hope the community will come out in strong support to help neighbors who are struggling.
URL:https://livingsnoqualmie.com/event/snoqualmie-valley-food-bank-donation-drive-at-no-boat-brewing-on-november-20/
LOCATION:No Boat Brewing\, 35214 SE Center Street\, Snoqualmie\, WA\, 98065\, United States
ATTACH;FMTTYPE=image/png:https://livingsnoqualmie.com/wp-content/uploads/2025/11/Thursday-20-November-2025.png
END:VEVENT
END:VCALENDAR