BEGIN:VCALENDAR
VERSION:2.0
PRODID:-//Living Snoqualmie - ECPv6.15.20//NONSGML v1.0//EN
CALSCALE:GREGORIAN
METHOD:PUBLISH
X-ORIGINAL-URL:https://livingsnoqualmie.com
X-WR-CALDESC:Events for Living Snoqualmie
REFRESH-INTERVAL;VALUE=DURATION:PT1H
X-Robots-Tag:noindex
X-PUBLISHED-TTL:PT1H
BEGIN:VTIMEZONE
TZID:America/Los_Angeles
BEGIN:DAYLIGHT
TZOFFSETFROM:-0800
TZOFFSETTO:-0700
TZNAME:PDT
DTSTART:20240310T100000
END:DAYLIGHT
BEGIN:STANDARD
TZOFFSETFROM:-0700
TZOFFSETTO:-0800
TZNAME:PST
DTSTART:20241103T090000
END:STANDARD
BEGIN:DAYLIGHT
TZOFFSETFROM:-0800
TZOFFSETTO:-0700
TZNAME:PDT
DTSTART:20250309T100000
END:DAYLIGHT
BEGIN:STANDARD
TZOFFSETFROM:-0700
TZOFFSETTO:-0800
TZNAME:PST
DTSTART:20251102T090000
END:STANDARD
BEGIN:DAYLIGHT
TZOFFSETFROM:-0800
TZOFFSETTO:-0700
TZNAME:PDT
DTSTART:20260308T100000
END:DAYLIGHT
BEGIN:STANDARD
TZOFFSETFROM:-0700
TZOFFSETTO:-0800
TZNAME:PST
DTSTART:20261101T090000
END:STANDARD
END:VTIMEZONE
BEGIN:VEVENT
DTSTART;TZID=America/Los_Angeles:20251115T150000
DTEND;TZID=America/Los_Angeles:20251115T170000
DTSTAMP:20260422T173613
CREATED:20250914T010433Z
LAST-MODIFIED:20250914T010433Z
UID:62416-1763218800-1763226000@livingsnoqualmie.com
SUMMARY:Share our Table: Friendsgiving with Salish Lodge & Spa and Sparkman Cellars
DESCRIPTION:Come join the Salish Lodge & Spa for a cozy Friendsgiving celebration with delicious food from Salish and wine from Sparkman Cellars at our shared table! \nSaturday\, November 15 · 3 – 5pm \n6501 Railroad Avenue\, Snoqualmie\, WA 98065 \nWelcome to Share Our Table: Friendsgiving with Salish & Sparkman Cellars! Join the Salish Lodge & Spa for a delightful evening of hors d’oeuvres and wine. Let’s celebrate Friendsgiving together with a special menu crafted by our chefs paired with exquisite wines from Sparkman Cellars. \nCome share good food\, good wine\, and good company at this in-person event. Reserve your spot now for a memorable Friendsgiving experience! \nCheck out the Menu! \nFor Ticketed Guests: A 15% room discount will be available for Friday\, November 14th\, and Saturday\, November 15th\, for ticketed guests.
URL:https://livingsnoqualmie.com/event/share-our-table-friendsgiving-with-salish-lodge-spa-and-sparkman-cellars/
LOCATION:Salish Lodge & Spa\, 6501 RAILROAD AVE SE\, Snoqualmie\, WA\, 98065\, United States
ATTACH;FMTTYPE=image/jpeg:https://livingsnoqualmie.com/wp-content/uploads/2025/09/https___cdn.evbuc_.com_images_1093260403_1975143947343_1_original.jpg
END:VEVENT
BEGIN:VEVENT
DTSTART;TZID=America/Los_Angeles:20251115T180000
DTEND;TZID=America/Los_Angeles:20251115T210000
DTSTAMP:20260422T173613
CREATED:20251008T222415Z
LAST-MODIFIED:20251008T222415Z
UID:62651-1763229600-1763240400@livingsnoqualmie.com
SUMMARY:Carnation Farms barn Dance
DESCRIPTION:Barn Dance\n\n\nNovember 15 @ 6:00 pm – 9:00 pm \n\n\n\nKick up your heels and join us at Carnation Farms for another fun-filled night of dancing and community! \nLearn some new moves in our historic Hippodrome with Amanda Johnson\, owner of Snoqualmie Valley Line Dancing and a country dance instructor with over ten years of experience. Whether you’re a seasoned pro or a total beginner\, all skill levels are welcome! \nDoors open at 5:30 PM\nLine dance lesson starts at 6:00 PM\nOpen floor and guided dance until 9:00 PM \nWe’ll have delicious food coming hot off the BBQ from our in-house Culinary Team and drinks will be available for purchase from our friends at Alveare Winery and Big Block Brewing. Don’t miss this chance to dance the night away and connect with friends in this beautiful community!
URL:https://livingsnoqualmie.com/event/carnation-farms-barn-dance-3/
LOCATION:Carnation Farms\, 8901 NE Carnation Farm Road\, Carnation\, WA\, 98014\, United States
ATTACH;FMTTYPE=image/jpeg:https://livingsnoqualmie.com/wp-content/uploads/2025/10/Screenshot-2025-10-08-152145.jpg
ORGANIZER;CN="Carnation Farms":MAILTO:info@carnationfarms.org
END:VEVENT
END:VCALENDAR