BEGIN:VCALENDAR
VERSION:2.0
PRODID:-//Living Snoqualmie - ECPv6.15.20//NONSGML v1.0//EN
CALSCALE:GREGORIAN
METHOD:PUBLISH
X-ORIGINAL-URL:https://livingsnoqualmie.com
X-WR-CALDESC:Events for Living Snoqualmie
REFRESH-INTERVAL;VALUE=DURATION:PT1H
X-Robots-Tag:noindex
X-PUBLISHED-TTL:PT1H
BEGIN:VTIMEZONE
TZID:America/Los_Angeles
BEGIN:DAYLIGHT
TZOFFSETFROM:-0800
TZOFFSETTO:-0700
TZNAME:PDT
DTSTART:20240310T100000
END:DAYLIGHT
BEGIN:STANDARD
TZOFFSETFROM:-0700
TZOFFSETTO:-0800
TZNAME:PST
DTSTART:20241103T090000
END:STANDARD
BEGIN:DAYLIGHT
TZOFFSETFROM:-0800
TZOFFSETTO:-0700
TZNAME:PDT
DTSTART:20250309T100000
END:DAYLIGHT
BEGIN:STANDARD
TZOFFSETFROM:-0700
TZOFFSETTO:-0800
TZNAME:PST
DTSTART:20251102T090000
END:STANDARD
BEGIN:DAYLIGHT
TZOFFSETFROM:-0800
TZOFFSETTO:-0700
TZNAME:PDT
DTSTART:20260308T100000
END:DAYLIGHT
BEGIN:STANDARD
TZOFFSETFROM:-0700
TZOFFSETTO:-0800
TZNAME:PST
DTSTART:20261101T090000
END:STANDARD
END:VTIMEZONE
BEGIN:VEVENT
DTSTART;VALUE=DATE:20251001
DTEND;VALUE=DATE:20251101
DTSTAMP:20260422T191406
CREATED:20250929T164425Z
LAST-MODIFIED:20250929T164425Z
UID:62533-1759276800-1761955199@livingsnoqualmie.com
SUMMARY:Hosts Artwork by Diane Sarr at Sigillo Cellars
DESCRIPTION:Sigillo Cellars8086 Railroad Ave.Snoqualmie\, WA 98026 \nHosts Artwork by Diane Sarr“A Stitch in Time”Throughout October \nCellar Hours:Saturday 12–10pmSunday 12–6pmClosed MondayTues.\, Wed.\, Fri. 3–8pmFriday 3–10pm
URL:https://livingsnoqualmie.com/event/hosts-artwork-by-diane-sarr-at-sigillo-cellars/
LOCATION:Sigillo cellars\, 8086 Railroad Ave\, Snoqualmie\, WA\, 98065\, United States
ATTACH;FMTTYPE=image/jpeg:https://livingsnoqualmie.com/wp-content/uploads/2025/09/Advertising-Option-2.jpg
END:VEVENT
BEGIN:VEVENT
DTSTART;TZID=America/Los_Angeles:20251024T170000
DTEND;TZID=America/Los_Angeles:20251024T190000
DTSTAMP:20260422T191406
CREATED:20250913T220433Z
LAST-MODIFIED:20250913T221014Z
UID:62412-1761325200-1761332400@livingsnoqualmie.com
SUMMARY:Sip & Savor: A Spirit-Free Evening at Salish Lodge & Spa
DESCRIPTION:Join the beautiful Salish Lodge & Spa on Friday\, October 24th\, from 5-7 PM for a refreshing evening of non-alcoholic indulgence. \nEnjoy a curated tasting event featuring local vendors of spirit-free libations\, a delicious selection of appetizers\, and live music in an intimate\, scenic setting. \nWhether you’re sober curious or just looking for a unique night out\, this is a night you won’t want to miss!
URL:https://livingsnoqualmie.com/event/sip-savor-a-spirit-free-evening-at-salish-lodge-spa/
LOCATION:Salish Lodge & Spa\, 6501 RAILROAD AVE SE\, Snoqualmie\, WA\, 98065\, United States
ATTACH;FMTTYPE=image/jpeg:https://livingsnoqualmie.com/wp-content/uploads/2025/09/Screenshot-2025-09-13-125812.jpg
END:VEVENT
BEGIN:VEVENT
DTSTART;TZID=America/Los_Angeles:20251024T180000
DTEND;TZID=America/Los_Angeles:20251024T200000
DTSTAMP:20260422T191406
CREATED:20251008T210649Z
LAST-MODIFIED:20251008T210649Z
UID:62644-1761328800-1761336000@livingsnoqualmie.com
SUMMARY:Carnation Farms Letters to the Dead: connecting to our beloved lost
DESCRIPTION:Letters to the Dead: connecting to our beloved lost\n\n\nOctober 24 @ 6:00 pm – 8:00 pm \n\n\n\nAs we enter the season of Halloween – believed by ancient Celts to be the time the veil between our world and “the other side” thins – join poet and mindfulness teacher Anna Sullivan for a spacious exploration into death and loss. This two-hour workshop combines intentional community and handwritten letters to support deep connection: to ourselves\, each other\, and our beloved lost. \nWriting letters to those who have died is a powerful tool\, a way to meaningfully express gratitude\, grief\, or even outstanding grievances/questions. This event\, inspired by Postal Service for the Dead\, is for anyone looking to connect to lost loved ones (through death or some other kind of way) at any stage of life. \nMaterials will be provided\, with additional information emailed prior to the event. Participants aged 18+ please.
URL:https://livingsnoqualmie.com/event/carnation-farms-letters-to-the-dead-connecting-to-our-beloved-lost/
LOCATION:Carnation Farms\, 8901 NE Carnation Farm Road\, Carnation\, WA\, 98014\, United States
ATTACH;FMTTYPE=image/jpeg:https://livingsnoqualmie.com/wp-content/uploads/2025/10/unnamed-9-scaled-1.jpg
END:VEVENT
END:VCALENDAR