BEGIN:VCALENDAR
VERSION:2.0
PRODID:-//Living Snoqualmie - ECPv6.15.20//NONSGML v1.0//EN
CALSCALE:GREGORIAN
METHOD:PUBLISH
X-WR-CALNAME:Living Snoqualmie
X-ORIGINAL-URL:https://livingsnoqualmie.com
X-WR-CALDESC:Events for Living Snoqualmie
REFRESH-INTERVAL;VALUE=DURATION:PT1H
X-Robots-Tag:noindex
X-PUBLISHED-TTL:PT1H
BEGIN:VTIMEZONE
TZID:America/Los_Angeles
BEGIN:DAYLIGHT
TZOFFSETFROM:-0800
TZOFFSETTO:-0700
TZNAME:PDT
DTSTART:20240310T100000
END:DAYLIGHT
BEGIN:STANDARD
TZOFFSETFROM:-0700
TZOFFSETTO:-0800
TZNAME:PST
DTSTART:20241103T090000
END:STANDARD
BEGIN:DAYLIGHT
TZOFFSETFROM:-0800
TZOFFSETTO:-0700
TZNAME:PDT
DTSTART:20250309T100000
END:DAYLIGHT
BEGIN:STANDARD
TZOFFSETFROM:-0700
TZOFFSETTO:-0800
TZNAME:PST
DTSTART:20251102T090000
END:STANDARD
BEGIN:DAYLIGHT
TZOFFSETFROM:-0800
TZOFFSETTO:-0700
TZNAME:PDT
DTSTART:20260308T100000
END:DAYLIGHT
BEGIN:STANDARD
TZOFFSETFROM:-0700
TZOFFSETTO:-0800
TZNAME:PST
DTSTART:20261101T090000
END:STANDARD
END:VTIMEZONE
BEGIN:VEVENT
DTSTART;TZID=America/Los_Angeles:20250927T150000
DTEND;TZID=America/Los_Angeles:20250927T210000
DTSTAMP:20260422T204710
CREATED:20250913T192143Z
LAST-MODIFIED:20250913T192143Z
UID:62406-1758985200-1759006800@livingsnoqualmie.com
SUMMARY:Jefferson’s Bourbon Experience at Salish Lodge & Spa
DESCRIPTION:Jefferson’s Bourbon Experience at Salish Lodge & Spa \nSaturday\, September 27\, 2025\, 3:00 to 9:00 p.m.\n6501 Railroad Avenue\, Snoqualmie\, WA 98065 \nJoin Jefferson’s Bourbon founder\, Trey Zoeller\, for an immersive afternoon and evening at Salish Lodge & Spa. The program begins at 3:00 p.m. with a hands-on mixology class\, followed by a gourmet paired dinner at 6:00 p.m. featuring Jefferson’s selections. \nDetails: Ages 21 plus\, in person\, free venue parking\, approximately six hours. Vegetarian and vegan dinner options available on request. Ticket holders receive 15 percent off room rates at the Lodge on Friday and Saturday nights. Refunds are available up to seven days before the event. Space is limited; please purchase tickets in advance.
URL:https://livingsnoqualmie.com/event/jeffersons-bourbon-experience-at-salish-lodge-spa/
LOCATION:Salish Lodge & Spa\, 6501 RAILROAD AVE SE\, Snoqualmie\, WA\, 98065\, United States
ATTACH;FMTTYPE=image/jpeg:https://livingsnoqualmie.com/wp-content/uploads/2025/09/https___cdn.evbuc_.com_images_1082778603_1975143947343_1_original.jpg
END:VEVENT
END:VCALENDAR