BEGIN:VCALENDAR
VERSION:2.0
PRODID:-//Living Snoqualmie - ECPv6.15.20//NONSGML v1.0//EN
CALSCALE:GREGORIAN
METHOD:PUBLISH
X-WR-CALNAME:Living Snoqualmie
X-ORIGINAL-URL:https://livingsnoqualmie.com
X-WR-CALDESC:Events for Living Snoqualmie
REFRESH-INTERVAL;VALUE=DURATION:PT1H
X-Robots-Tag:noindex
X-PUBLISHED-TTL:PT1H
BEGIN:VTIMEZONE
TZID:America/Los_Angeles
BEGIN:DAYLIGHT
TZOFFSETFROM:-0800
TZOFFSETTO:-0700
TZNAME:PDT
DTSTART:20240310T100000
END:DAYLIGHT
BEGIN:STANDARD
TZOFFSETFROM:-0700
TZOFFSETTO:-0800
TZNAME:PST
DTSTART:20241103T090000
END:STANDARD
BEGIN:DAYLIGHT
TZOFFSETFROM:-0800
TZOFFSETTO:-0700
TZNAME:PDT
DTSTART:20250309T100000
END:DAYLIGHT
BEGIN:STANDARD
TZOFFSETFROM:-0700
TZOFFSETTO:-0800
TZNAME:PST
DTSTART:20251102T090000
END:STANDARD
BEGIN:DAYLIGHT
TZOFFSETFROM:-0800
TZOFFSETTO:-0700
TZNAME:PDT
DTSTART:20260308T100000
END:DAYLIGHT
BEGIN:STANDARD
TZOFFSETFROM:-0700
TZOFFSETTO:-0800
TZNAME:PST
DTSTART:20261101T090000
END:STANDARD
END:VTIMEZONE
BEGIN:VEVENT
DTSTART;VALUE=DATE:20250915
DTEND;VALUE=DATE:20250927
DTSTAMP:20260422T204710
CREATED:20250918T013951Z
LAST-MODIFIED:20250918T013951Z
UID:62440-1757894400-1758931199@livingsnoqualmie.com
SUMMARY:Forster Woods HOA vs. Si View HOA FOOD DRIVE COMPETITION
DESCRIPTION:Si View vs. Forster Woods Food Drive CompetitionSeptember 15 – 26\, 2025 \nTwo neighborhoods are going head-to-head to support the Snoqualmie Valley Food Bank. Forster Woods and Si View residents will compete to see who can collect the most food\, with bragging rights on the line. \nWhat to Donate: \n\n\nCanned proteins (tuna\, chicken\, salmon) \n\n\nHearty canned meals and soups (chili\, ravioli\, etc.) \n\n\nBoxed mac and cheese \n\n\nPeanut butter & nut butters \n\n\nEnsure protein shakes \n\n\nGluten-free and meat substitute alternatives \n\n\nBaby formula(No cash\, please) \n\n\nDrop-Off Locations: \n\n\n520 SE 6th Street\, North Bend \n\n\n345 SE 12th Place\, North Bend \n\n\nThe Barton’s\, 1310 11th Ct SW\, North Bend \n\n\nCommunity Celebration:Friday\, September 26 at 7 PMVolition Brewing Co.\, North Bend(More details to come) \nMore Information:www.snoqualmievalleyfoodbank.org/donate
URL:https://livingsnoqualmie.com/event/forster-woods-hoa-vs-si-view-hoa-food-drive-competition/
LOCATION:Si View Neighborhood\, PO BOX 2193\, North Bend\, WA\, 98045\, United States
ATTACH;FMTTYPE=image/jpeg:https://livingsnoqualmie.com/wp-content/uploads/2025/09/fe99a69c-8cea-4455-85f8-19d5358cdcef.jpg
END:VEVENT
END:VCALENDAR