BEGIN:VCALENDAR
VERSION:2.0
PRODID:-//Living Snoqualmie - ECPv6.15.20//NONSGML v1.0//EN
CALSCALE:GREGORIAN
METHOD:PUBLISH
X-ORIGINAL-URL:https://livingsnoqualmie.com
X-WR-CALDESC:Events for Living Snoqualmie
REFRESH-INTERVAL;VALUE=DURATION:PT1H
X-Robots-Tag:noindex
X-PUBLISHED-TTL:PT1H
BEGIN:VTIMEZONE
TZID:America/Los_Angeles
BEGIN:DAYLIGHT
TZOFFSETFROM:-0800
TZOFFSETTO:-0700
TZNAME:PDT
DTSTART:20240310T100000
END:DAYLIGHT
BEGIN:STANDARD
TZOFFSETFROM:-0700
TZOFFSETTO:-0800
TZNAME:PST
DTSTART:20241103T090000
END:STANDARD
BEGIN:DAYLIGHT
TZOFFSETFROM:-0800
TZOFFSETTO:-0700
TZNAME:PDT
DTSTART:20250309T100000
END:DAYLIGHT
BEGIN:STANDARD
TZOFFSETFROM:-0700
TZOFFSETTO:-0800
TZNAME:PST
DTSTART:20251102T090000
END:STANDARD
BEGIN:DAYLIGHT
TZOFFSETFROM:-0800
TZOFFSETTO:-0700
TZNAME:PDT
DTSTART:20260308T100000
END:DAYLIGHT
BEGIN:STANDARD
TZOFFSETFROM:-0700
TZOFFSETTO:-0800
TZNAME:PST
DTSTART:20261101T090000
END:STANDARD
END:VTIMEZONE
BEGIN:VEVENT
DTSTART;TZID=America/Los_Angeles:20250913T160000
DTEND;TZID=America/Los_Angeles:20250913T190000
DTSTAMP:20260422T204738
CREATED:20250815T203435Z
LAST-MODIFIED:20250815T203435Z
UID:62146-1757779200-1757790000@livingsnoqualmie.com
SUMMARY:AROMA COFFEE CO. 5th ANNIVERSARY Block Party!
DESCRIPTION:AROMA COFFEE CO. 5th ANNIVERSARY-Block Party!\nSATURDAY | SEPT. 13 | 4-7 PM AT AROMA COFFEE CO. \nSUMMER MARKET Artisans + Farmers \nFOOD TRUCKS 5 Hooks Seafood Two Bumz Shaved Ice & More \nLIVE MUSIC Trailer Park Casanova \nWINE & BEER Crunchy Red Fruit & Volition Brewing Co. \nFREE COFFEE TASTING featuring Aroma’s new private label collection! \nKIDS TOY-MAKING WORKSHOP by School of Toy \nRAFFLE PRIZE PACKAGE Exclusive prizes from Nelson Treehouse\, Aroma & Camber Coffee \nwww.aromacoffeeco.com \nAROMA COFFEE CO. | NELSON TREEHOUSE | CAMBER COFFEE | FALL CITY ARTS | FALL CITY COMMUNITY ASSOCIATION \n 
URL:https://livingsnoqualmie.com/event/aroma-coffee-co-5th-anniversary-block-party/
LOCATION:Aroma Coffee\, 33429 SE Redmond-Fall City Road\, Fall City\, WA\, 98024\, United States
ATTACH;FMTTYPE=image/jpeg:https://livingsnoqualmie.com/wp-content/uploads/2025/08/AromaBlockParty_2025-scaled.jpg
END:VEVENT
BEGIN:VEVENT
DTSTART;TZID=America/Los_Angeles:20250913T180000
DTEND;TZID=America/Los_Angeles:20250913T210000
DTSTAMP:20260422T204738
CREATED:20250815T195949Z
LAST-MODIFIED:20250815T200208Z
UID:62138-1757786400-1757797200@livingsnoqualmie.com
SUMMARY:Pacific Northwest Performing Arts: 100 FOR $100 RAISE THE CURTAIN GRAND OPENING
DESCRIPTION:Pacific Northwest Performing Arts: \n100 FOR $100 RAISE THE CURTAIN GRAND OPENING \nJoin Big Star Booster Club for a joyful evening as we raise the curtain on our brand-new performing arts space! Let’s dress up & celebrate the beginning of an exciting new chapter with food\, fun\, and community! \nEvent highlights: • Heavy appetizers & festive drinks • Live entertainment by our talented teachers & students • Raffle prizes & Silent Auction you won’t want to miss • Behind-the-scenes tours of our beautiful new space • Unique shopping experiences from local vendors \nEvery dollar raised will go directly to our Scholarship Fund — opening the doors to music\, theater\, and dance for students. Your generosity helps ensure that all young artists\, regardless of financial circumstances\, have access to the arts. \nWe can’t wait to celebrate this milestone with you. Let’s raise the curtain on a new chapter! Buy TICKETS with the QR Code HERE! \nSeptember 13th\, 6:00-9:00 PM \n35332 SE Center St. Snoqualmie Ridge \n 
URL:https://livingsnoqualmie.com/event/pacific-northwest-performing-arts-100-for-100-raise-the-curtain-grand-opening/
LOCATION:Pacific Northwest Peforming Arts\, 35332 SE Center St.\, Snoqualmie\, WA\, 98024\, United States
ATTACH;FMTTYPE=image/jpeg:https://livingsnoqualmie.com/wp-content/uploads/2025/08/IMG_7736-1.jpeg
ORGANIZER;CN="Pacific Northwest Performing Arts":MAILTO:info@pnwperformingarts.com
END:VEVENT
END:VCALENDAR