BEGIN:VCALENDAR
VERSION:2.0
PRODID:-//Living Snoqualmie - ECPv6.15.20//NONSGML v1.0//EN
CALSCALE:GREGORIAN
METHOD:PUBLISH
X-ORIGINAL-URL:https://livingsnoqualmie.com
X-WR-CALDESC:Events for Living Snoqualmie
REFRESH-INTERVAL;VALUE=DURATION:PT1H
X-Robots-Tag:noindex
X-PUBLISHED-TTL:PT1H
BEGIN:VTIMEZONE
TZID:America/Los_Angeles
BEGIN:DAYLIGHT
TZOFFSETFROM:-0800
TZOFFSETTO:-0700
TZNAME:PDT
DTSTART:20240310T100000
END:DAYLIGHT
BEGIN:STANDARD
TZOFFSETFROM:-0700
TZOFFSETTO:-0800
TZNAME:PST
DTSTART:20241103T090000
END:STANDARD
BEGIN:DAYLIGHT
TZOFFSETFROM:-0800
TZOFFSETTO:-0700
TZNAME:PDT
DTSTART:20250309T100000
END:DAYLIGHT
BEGIN:STANDARD
TZOFFSETFROM:-0700
TZOFFSETTO:-0800
TZNAME:PST
DTSTART:20251102T090000
END:STANDARD
BEGIN:DAYLIGHT
TZOFFSETFROM:-0800
TZOFFSETTO:-0700
TZNAME:PDT
DTSTART:20260308T100000
END:DAYLIGHT
BEGIN:STANDARD
TZOFFSETFROM:-0700
TZOFFSETTO:-0800
TZNAME:PST
DTSTART:20261101T090000
END:STANDARD
END:VTIMEZONE
BEGIN:VEVENT
DTSTART;TZID=America/Los_Angeles:20250829T120000
DTEND;TZID=America/Los_Angeles:20250829T130000
DTSTAMP:20260422T220915
CREATED:20250827T181747Z
LAST-MODIFIED:20250827T181747Z
UID:62257-1756468800-1756472400@livingsnoqualmie.com
SUMMARY:Carnation Cool Down
DESCRIPTION:Cool-down this Friday with a firetruck sprinkler and some shaved ice! \nWho: City of Carnation\, Eastside Fire & Rescue\, Two Bumz Shaved Ice \nWhat: ESFR will bring their firetruck to spray the Tolt Commons for about 15 minutes. A shave ice truck will be available for a refreshing treat afterward. \nWhere: Tolt Commons \nWhen: Friday\, August 29\, 2025\, at 12 pm \nWhy: Because it is hot… real hot!
URL:https://livingsnoqualmie.com/event/carnation-cool-down/
LOCATION:Tolt Commons\, 32150 E Commercial St\, Carnation\, WA\, 98014\, United States
ATTACH;FMTTYPE=image/png:https://livingsnoqualmie.com/wp-content/uploads/2025/08/unnamed-1-1.png
END:VEVENT
END:VCALENDAR