BEGIN:VCALENDAR
VERSION:2.0
PRODID:-//Living Snoqualmie - ECPv6.15.20//NONSGML v1.0//EN
CALSCALE:GREGORIAN
METHOD:PUBLISH
X-ORIGINAL-URL:https://livingsnoqualmie.com
X-WR-CALDESC:Events for Living Snoqualmie
REFRESH-INTERVAL;VALUE=DURATION:PT1H
X-Robots-Tag:noindex
X-PUBLISHED-TTL:PT1H
BEGIN:VTIMEZONE
TZID:America/Los_Angeles
BEGIN:DAYLIGHT
TZOFFSETFROM:-0800
TZOFFSETTO:-0700
TZNAME:PDT
DTSTART:20240310T100000
END:DAYLIGHT
BEGIN:STANDARD
TZOFFSETFROM:-0700
TZOFFSETTO:-0800
TZNAME:PST
DTSTART:20241103T090000
END:STANDARD
BEGIN:DAYLIGHT
TZOFFSETFROM:-0800
TZOFFSETTO:-0700
TZNAME:PDT
DTSTART:20250309T100000
END:DAYLIGHT
BEGIN:STANDARD
TZOFFSETFROM:-0700
TZOFFSETTO:-0800
TZNAME:PST
DTSTART:20251102T090000
END:STANDARD
BEGIN:DAYLIGHT
TZOFFSETFROM:-0800
TZOFFSETTO:-0700
TZNAME:PDT
DTSTART:20260308T100000
END:DAYLIGHT
BEGIN:STANDARD
TZOFFSETFROM:-0700
TZOFFSETTO:-0800
TZNAME:PST
DTSTART:20261101T090000
END:STANDARD
END:VTIMEZONE
BEGIN:VEVENT
DTSTART;TZID=America/Los_Angeles:20250805T170000
DTEND;TZID=America/Los_Angeles:20250805T190000
DTSTAMP:20260422T220913
CREATED:20250529T012225Z
LAST-MODIFIED:20250529T012225Z
UID:61001-1754413200-1754420400@livingsnoqualmie.com
SUMMARY:City of Carnation National Night Out!
DESCRIPTION:City of Carnation\nNational Night Out!\nDate: Tuesday\, August 5\, 2025\nTime: 5:00 PM – 7:00 PM\nLocation: Tolt Commons (31999 E Bird Street) \nJoin us for a FREE fun-filled evening celebrating safety through community and our first responders! \nHot Dogs | Face Paint | Live Music | Bounce House | Obstacle Course | Scavenger Hunt | Fire Truck | School Bus | Police Cars | Games and Giveaways | Non-Profit Booths \nParticipating Agencies:\nKing County Sheriff’s Office | Empower Youth Network | Riverview School District | Carnation Duvall Citizen Corps | HopeLink | Eastside Fire & Rescue | Sno-Valley Pride | King County Office of Emergency Management | Sno-Valley Senior Center | Morgan Henley Presents | Carnation Chamber of Commerce | A Supportive Community for All | King County Flood Control District | Snoqualmie Valley Preservation Alliance | Carnation Farmer’s Market | Encompass \nThank you to our sponsor!\nPSE Puget Sound Energy
URL:https://livingsnoqualmie.com/event/city-of-carnation-national-night-out/
LOCATION:Tolt Commons\, 32150 E Commercial St\, Carnation\, WA\, 98014\, United States
ATTACH;FMTTYPE=image/png:https://livingsnoqualmie.com/wp-content/uploads/2025/05/unnamed-6.png
END:VEVENT
END:VCALENDAR