BEGIN:VCALENDAR
VERSION:2.0
PRODID:-//Living Snoqualmie - ECPv6.15.20//NONSGML v1.0//EN
CALSCALE:GREGORIAN
METHOD:PUBLISH
X-ORIGINAL-URL:https://livingsnoqualmie.com
X-WR-CALDESC:Events for Living Snoqualmie
REFRESH-INTERVAL;VALUE=DURATION:PT1H
X-Robots-Tag:noindex
X-PUBLISHED-TTL:PT1H
BEGIN:VTIMEZONE
TZID:America/Los_Angeles
BEGIN:DAYLIGHT
TZOFFSETFROM:-0800
TZOFFSETTO:-0700
TZNAME:PDT
DTSTART:20240310T100000
END:DAYLIGHT
BEGIN:STANDARD
TZOFFSETFROM:-0700
TZOFFSETTO:-0800
TZNAME:PST
DTSTART:20241103T090000
END:STANDARD
BEGIN:DAYLIGHT
TZOFFSETFROM:-0800
TZOFFSETTO:-0700
TZNAME:PDT
DTSTART:20250309T100000
END:DAYLIGHT
BEGIN:STANDARD
TZOFFSETFROM:-0700
TZOFFSETTO:-0800
TZNAME:PST
DTSTART:20251102T090000
END:STANDARD
BEGIN:DAYLIGHT
TZOFFSETFROM:-0800
TZOFFSETTO:-0700
TZNAME:PDT
DTSTART:20260308T100000
END:DAYLIGHT
BEGIN:STANDARD
TZOFFSETFROM:-0700
TZOFFSETTO:-0800
TZNAME:PST
DTSTART:20261101T090000
END:STANDARD
END:VTIMEZONE
BEGIN:VEVENT
DTSTART;TZID=America/Los_Angeles:20250628T090000
DTEND;TZID=America/Los_Angeles:20250628T100000
DTSTAMP:20260423T010505
CREATED:20250627T235059Z
LAST-MODIFIED:20250627T235059Z
UID:61504-1751101200-1751104800@livingsnoqualmie.com
SUMMARY:City of Carnation Coffee with Council
DESCRIPTION:EVERY FOURTH SATURDAY OF THE MONTHSTARTS AT 9:00 AM \nSandy’s Espresso4650 Tolt Avenue Carnation\, WA 98014 \nHappening this Saturday! \nJoin Mayor Hawkins and City Manager Ender for coffee to discuss the happenings in Carnation. \nThis is your chance to talk to your representative in person!
URL:https://livingsnoqualmie.com/event/city-of-carnation-coffee-with-council-2/
LOCATION:Sandy’s Espresso\, 4650 Tolt Avenue\, Carnation\, WA\, 98014\, United States
ATTACH;FMTTYPE=image/png:https://livingsnoqualmie.com/wp-content/uploads/2025/06/unnamed-3.png
END:VEVENT
END:VCALENDAR