BEGIN:VCALENDAR
VERSION:2.0
PRODID:-//Living Snoqualmie - ECPv6.15.20//NONSGML v1.0//EN
CALSCALE:GREGORIAN
METHOD:PUBLISH
X-ORIGINAL-URL:https://livingsnoqualmie.com
X-WR-CALDESC:Events for Living Snoqualmie
REFRESH-INTERVAL;VALUE=DURATION:PT1H
X-Robots-Tag:noindex
X-PUBLISHED-TTL:PT1H
BEGIN:VTIMEZONE
TZID:America/Los_Angeles
BEGIN:DAYLIGHT
TZOFFSETFROM:-0800
TZOFFSETTO:-0700
TZNAME:PDT
DTSTART:20240310T100000
END:DAYLIGHT
BEGIN:STANDARD
TZOFFSETFROM:-0700
TZOFFSETTO:-0800
TZNAME:PST
DTSTART:20241103T090000
END:STANDARD
BEGIN:DAYLIGHT
TZOFFSETFROM:-0800
TZOFFSETTO:-0700
TZNAME:PDT
DTSTART:20250309T100000
END:DAYLIGHT
BEGIN:STANDARD
TZOFFSETFROM:-0700
TZOFFSETTO:-0800
TZNAME:PST
DTSTART:20251102T090000
END:STANDARD
BEGIN:DAYLIGHT
TZOFFSETFROM:-0800
TZOFFSETTO:-0700
TZNAME:PDT
DTSTART:20260308T100000
END:DAYLIGHT
BEGIN:STANDARD
TZOFFSETFROM:-0700
TZOFFSETTO:-0800
TZNAME:PST
DTSTART:20261101T090000
END:STANDARD
END:VTIMEZONE
BEGIN:VEVENT
DTSTART;TZID=America/Los_Angeles:20250626T100000
DTEND;TZID=America/Los_Angeles:20250626T120000
DTSTAMP:20260423T010503
CREATED:20250514T170444Z
LAST-MODIFIED:20250514T170444Z
UID:60783-1750932000-1750939200@livingsnoqualmie.com
SUMMARY:The City of Snoqualmie and Encompass present: BIG TRUCK DAY
DESCRIPTION:BIG TRUCK DAY \nGeared for Ages 1–10Centennial ParkHome of the Big All-Inclusive Playground \nThursday\, June 2610 AM–12 PMHold the Horn (Sensory Free Time)10 AM–11:30 AM \nBig Trucks.Big Equipment.Big Fun.See. Touch. Sit.
URL:https://livingsnoqualmie.com/event/the-city-of-snoqualmie-and-encompass-present-big-truck-day/
LOCATION:Centennial Fields\, 39903 SE Park Street\, Snoqualmie\, WA\, 98065\, United States
ATTACH;FMTTYPE=image/jpeg:https://livingsnoqualmie.com/wp-content/uploads/2025/05/497929773_1166881975468546_5648801157039351614_n.jpg
END:VEVENT
BEGIN:VEVENT
DTSTART;TZID=America/Los_Angeles:20250626T170000
DTEND;TZID=America/Los_Angeles:20250626T200000
DTSTAMP:20260423T010503
CREATED:20250618T223602Z
LAST-MODIFIED:20250618T223602Z
UID:61362-1750957200-1750968000@livingsnoqualmie.com
SUMMARY:Snoqualmie Arts Commission - Sip & Stitch Social
DESCRIPTION:Sip & Stitch Social \nThursday\, June 26\, 5 pm-8 pm\, Art Major Studios\, 8030 Railroad Ave.  \nGet your stitch on! Back by popular demand\, crocheters and knitters of all skill levels are invited to bring yarn\, sticks and projects. This free pop-up textile event provides a welcoming space for experienced and novice crafters to connect\, share techniques\, and learn from one another. \nThe Snoqualmie Arts Commission supports textile artists and partners with Art Major Studios to create accessible spaces for community engagement and social connection through the arts. This collaboration highlights a shared commitment to creativity. Attendees are encouraged to bring their current yarn projects\, hooks\, and needles. Light refreshments will be served. \nRegister for the free event at www. artmajorstudio.com/snoqualmie-washington/ \n 
URL:https://livingsnoqualmie.com/event/snoqualmie-arts-commission-sip-stitch-social/
LOCATION:Art Majors Studio\, 8030 Railroad Ave.\, Snoqualmie\, WA\, 98065\, United States
ATTACH;FMTTYPE=image/jpeg:https://livingsnoqualmie.com/wp-content/uploads/2025/06/Document-1.jpg
END:VEVENT
END:VCALENDAR