BEGIN:VCALENDAR
VERSION:2.0
PRODID:-//Living Snoqualmie - ECPv6.15.20//NONSGML v1.0//EN
CALSCALE:GREGORIAN
METHOD:PUBLISH
X-ORIGINAL-URL:https://livingsnoqualmie.com
X-WR-CALDESC:Events for Living Snoqualmie
REFRESH-INTERVAL;VALUE=DURATION:PT1H
X-Robots-Tag:noindex
X-PUBLISHED-TTL:PT1H
BEGIN:VTIMEZONE
TZID:America/Los_Angeles
BEGIN:DAYLIGHT
TZOFFSETFROM:-0800
TZOFFSETTO:-0700
TZNAME:PDT
DTSTART:20240310T100000
END:DAYLIGHT
BEGIN:STANDARD
TZOFFSETFROM:-0700
TZOFFSETTO:-0800
TZNAME:PST
DTSTART:20241103T090000
END:STANDARD
BEGIN:DAYLIGHT
TZOFFSETFROM:-0800
TZOFFSETTO:-0700
TZNAME:PDT
DTSTART:20250309T100000
END:DAYLIGHT
BEGIN:STANDARD
TZOFFSETFROM:-0700
TZOFFSETTO:-0800
TZNAME:PST
DTSTART:20251102T090000
END:STANDARD
BEGIN:DAYLIGHT
TZOFFSETFROM:-0800
TZOFFSETTO:-0700
TZNAME:PDT
DTSTART:20260308T100000
END:DAYLIGHT
BEGIN:STANDARD
TZOFFSETFROM:-0700
TZOFFSETTO:-0800
TZNAME:PST
DTSTART:20261101T090000
END:STANDARD
END:VTIMEZONE
BEGIN:VEVENT
DTSTART;TZID=America/Los_Angeles:20250625T113000
DTEND;TZID=America/Los_Angeles:20250625T143000
DTSTAMP:20260423T010504
CREATED:20250611T174807Z
LAST-MODIFIED:20250611T174807Z
UID:61234-1750851000-1750861800@livingsnoqualmie.com
SUMMARY:Outdoor Adventure Jamboree returns to Meadowbrook Farm Fields
DESCRIPTION:Outdoor Adventure Jamboree returns to Meadowbrook Farm Fields on June 25 \nThe Outdoor Adventure Jamboree is returning to North Bend on Wednesday\, June 25\, from 11:30 to 2:30 p.m. \nThe Jamboree will include a wide array of free\, kid-centered activity stations hosted by Si View Metro Parks and other local recreation providers throughout the Snoqualmie Valley. Vendors include the City of North Bend\, Hopelink\, the Meadowbrook Farm Preservation Association\, Soccer Stars\, the City of Snoqualmie\, The Line MTB\, Wilderness Awareness School and more. \nWhile this community event is free for kids to attend\, registration is required. Learn more about the event and register by visiting the Si View Metropolitan Park District Family Fun webpage. In addition\, shaved ice will be available for purchase. \nMeadowbrook Farm Fields are located at 1711 Boalch Avenue N. Learn more about Si View Metro Parks by visiting www.siviewpark.org.
URL:https://livingsnoqualmie.com/event/outdoor-adventure-jamboree-returns-to-meadowbrook-farm-fields/
LOCATION:Meadowbrook Farm\, 1711 Boalch Ave NW\, North Bend\, WA\, 98045\, United States
ATTACH;FMTTYPE=image/png:https://livingsnoqualmie.com/wp-content/uploads/2025/06/unnamed.png
END:VEVENT
BEGIN:VEVENT
DTSTART;TZID=America/Los_Angeles:20250625T183000
DTEND;TZID=America/Los_Angeles:20250625T210000
DTSTAMP:20260423T010504
CREATED:20250613T215519Z
LAST-MODIFIED:20250613T215519Z
UID:61307-1750876200-1750885200@livingsnoqualmie.com
SUMMARY:Eastside Fire & Rescue/City of North Bend Wildfire Movie Night
DESCRIPTION:Eastside Fire and Rescue and the City of North Bend are hosting Wildfire Movie Night on June 25 \nOn Wednesday\, June 25\, Eastside Fire and Rescue and the City of North Bend will host “Living with Fire\,” a documentary about wildfires and changing conditions in Western Washington. Please join the community for the 45-minute documentary\, showing at the North Bend Theatre\, located at 125 Bendigo Boulevard N. \nImmediately following the movie\, participants will be invited to ask questions and learn more by participating in a discussion panel featuring wildfire experts and responders from the Washington State Department of Natural Resources\, Eastside Fire and Rescue\, Valley Regional Fire Authority\, Kittitas County Emergency Management\, and more. \nThe North Bend Theatre is located at 125 Bendigo Boulevard N. Doors will open at 6:30 p.m. The movie will begin at 7 p.m.\, and the discussion panel will start at 7:45 p.m.
URL:https://livingsnoqualmie.com/event/eastside-fire-rescue-city-of-north-bend-wildfire-movie-night/
LOCATION:North Bend Theatre\, 125 Bendigo Blvd N\, North Bend\, WA\, 98045\, United States
ATTACH;FMTTYPE=image/jpeg:https://livingsnoqualmie.com/wp-content/uploads/2025/06/unnamed-4.jpg
END:VEVENT
END:VCALENDAR