BEGIN:VCALENDAR
VERSION:2.0
PRODID:-//Living Snoqualmie - ECPv6.15.20//NONSGML v1.0//EN
CALSCALE:GREGORIAN
METHOD:PUBLISH
X-ORIGINAL-URL:https://livingsnoqualmie.com
X-WR-CALDESC:Events for Living Snoqualmie
REFRESH-INTERVAL;VALUE=DURATION:PT1H
X-Robots-Tag:noindex
X-PUBLISHED-TTL:PT1H
BEGIN:VTIMEZONE
TZID:America/Los_Angeles
BEGIN:DAYLIGHT
TZOFFSETFROM:-0800
TZOFFSETTO:-0700
TZNAME:PDT
DTSTART:20240310T100000
END:DAYLIGHT
BEGIN:STANDARD
TZOFFSETFROM:-0700
TZOFFSETTO:-0800
TZNAME:PST
DTSTART:20241103T090000
END:STANDARD
BEGIN:DAYLIGHT
TZOFFSETFROM:-0800
TZOFFSETTO:-0700
TZNAME:PDT
DTSTART:20250309T100000
END:DAYLIGHT
BEGIN:STANDARD
TZOFFSETFROM:-0700
TZOFFSETTO:-0800
TZNAME:PST
DTSTART:20251102T090000
END:STANDARD
BEGIN:DAYLIGHT
TZOFFSETFROM:-0800
TZOFFSETTO:-0700
TZNAME:PDT
DTSTART:20260308T100000
END:DAYLIGHT
BEGIN:STANDARD
TZOFFSETFROM:-0700
TZOFFSETTO:-0800
TZNAME:PST
DTSTART:20261101T090000
END:STANDARD
END:VTIMEZONE
BEGIN:VEVENT
DTSTART;TZID=America/Los_Angeles:20250621T100000
DTEND;TZID=America/Los_Angeles:20250621T120000
DTSTAMP:20260423T011358
CREATED:20250610T190443Z
LAST-MODIFIED:20250610T190443Z
UID:61227-1750500000-1750507200@livingsnoqualmie.com
SUMMARY:Carnation Farms- Bring All the Birds to the Yard
DESCRIPTION:Bring All the Birds to the Yard\n\n\nJune 21 @ 10:00 am – 12:00 pm\n\nFree – $20.00 Sliding Scale\nDiscover the wonders of wildlife all around you by learning about local bird behavior and beauty in this two-part\, cross-farm series.\n\n\nDesigned for all ages and experience levels\, this two-part workshop invites you to explore two different landscapes as we learn why birds are attracted to specific features on farmlands. You’ll build confidence in identifying birds and understanding their behaviors—no binoculars required! Along the way\, you’ll gain simple tools to make your outdoor spaces more inviting to birds\, creating a deeper connection to nature right at home. Whether you’re brand new to birding or simply curious\, you’ll leave feeling more aware and empowered to welcome birds into your world. \nWhy Does the Bird Look Like That? \nWe’ll discuss mysteries behind things like: \n\nWhy is a duck… well\, shaped like a duck?\nWhy do birds wear such bold colors or perfect camouflage?\nHow do you actually use a field guide without feeling overwhelmed?\n\n\nYou’ll experience: \n\nSimple ID Tools: Use hands-on materials and printed visuals to identify birds with ease. Explore how different farm landscapes attract birds and how to recreate those features at home.\nExpert Guidance: Learn observation skills from experienced instructors. No binoculars needed!\nNature & Community Connection for All Ages: Discover how supporting birds helps local biodiversity thrive and brings people of all generations together.\n\n[All photo credit to  Oxbow Farm]
URL:https://livingsnoqualmie.com/event/carnation-farms-bring-all-the-birds-to-the-yard/
LOCATION:Carnation Farms\, 8901 NE Carnation Farm Road\, Carnation\, WA\, 98014\, United States
ATTACH;FMTTYPE=image/jpeg:https://livingsnoqualmie.com/wp-content/uploads/2025/06/Oxbow-Bird-Workshop.jpg
ORGANIZER;CN="Carnation Farms":MAILTO:info@carnationfarms.org
END:VEVENT
BEGIN:VEVENT
DTSTART;TZID=America/Los_Angeles:20250621T100000
DTEND;TZID=America/Los_Angeles:20250621T160000
DTSTAMP:20260423T011358
CREATED:20250608T192722Z
LAST-MODIFIED:20250608T192722Z
UID:61211-1750500000-1750521600@livingsnoqualmie.com
SUMMARY:NORTH BEND ART & INDUSTRY- Art Off the Rails
DESCRIPTION:NORTH BEND ART & INDUSTRY \n“Art Off the Rails” Festival Hits Snoqualmie Valley on June 21st!\nMark your calendars! North Bend Art & Industry (NBA&I) teamed up with the NW Train\nMuseum and Snoqualmie Art Commission to bring you Art Off the Rails –June 21st! Ride the\nRails\, Bike\, Walk\, or Drive to Celebrate Art! \nThis isn’t just an event\, it’s an adventure! Explore 50+ artists at William Henry Taylor Park at\nthe North Bend Depot\, enjoy live music\, and dig into delicious food truck eats. You can get\nhands-on with a community art project at all three train stops. Want more? Stroll to discover\nthe amazing art studios in North Bend and Snoqualmie! \nJoin them for a day of art\, music\, food\, and community. Don’t miss Art Off the Rails – where\ncreativity knows no bounds!
URL:https://livingsnoqualmie.com/event/north-bend-art-industry-art-off-the-rails/
LOCATION:William Henry Taylor Park\, 205 E. McClellan St.\, North Bend\, WA\, 98045\, United States
ATTACH;FMTTYPE=image/png:https://livingsnoqualmie.com/wp-content/uploads/2025/06/AOTR-2025-1-scaled.png
END:VEVENT
BEGIN:VEVENT
DTSTART;TZID=America/Los_Angeles:20250621T103000
DTEND;TZID=America/Los_Angeles:20250621T170000
DTSTAMP:20260423T011358
CREATED:20250604T165729Z
LAST-MODIFIED:20250604T165729Z
UID:61132-1750501800-1750525200@livingsnoqualmie.com
SUMMARY:Carnation Block Party
DESCRIPTION:Carnation Block Party\nJune 21\, 2025 | 10:30 AM |Tolt Commons \nThe Carnation Block Party – Solstice Celebration will be taking place @ the Tolt Commons in downtown Carnation on June 21st! Brought to you by the Lee Arts Foundation & Morgan Henley Presents! \nLive music\, arts/crafts activities\, vendors\, ribbon cutting for the Tolt Triangle Park\, yoga\, beer & wine garden (21+) & more! It’s a free event to attend & all ages. \nAs part of the Carnation Block Party festivities\, the City of Carnation is going to do a ribbon cutting for the Tolt Triangle Park at 11:30 AM. \nThanks to King Conservation District funding\, the City will be giving away blueberry\, huckleberry and rose bushes to the first 100 people!
URL:https://livingsnoqualmie.com/event/carnation-block-party/
LOCATION:Tolt Commons\, 32150 E Commercial St\, Carnation\, WA\, 98014\, United States
ATTACH;FMTTYPE=image/jpeg:https://livingsnoqualmie.com/wp-content/uploads/2025/06/500033791_1241721704325557_4602185615138471752_n.jpg
END:VEVENT
BEGIN:VEVENT
DTSTART;TZID=America/Los_Angeles:20250621T113000
DTEND;TZID=America/Los_Angeles:20250621T123000
DTSTAMP:20260423T011358
CREATED:20250617T201728Z
LAST-MODIFIED:20250617T201728Z
UID:61346-1750505400-1750509000@livingsnoqualmie.com
SUMMARY:City of Carnation- TOLT TRIANGLE PARK RIBBON CUTTING
DESCRIPTION:City of CarnationTOLT TRIANGLE PARK RIBBON CUTTINGJUNE 21 | 11:30 AM \nJoin the City of Carnation for the grand opening of the city’s newest park area! The space offers a green roof pergola\, tractor seats created by the Lee Arts Foundation\, native plantings\, and more! \nThanks to the King Conservation District\, the City will provide free blueberry\, evergreen huckleberry\, and rose bushes to the first 130 people. After the ribbon cutting by the Carnation Chamber of Commerce\, enjoy the Carnation Block Party – Solstice Celebration at Tolt Commons!
URL:https://livingsnoqualmie.com/event/city-of-carnation-tolt-triangle-park-ribbon-cutting/
LOCATION:Tolt Triangle\, 4621 Tolt Avenue\, Carnation\, 98014\, United States
ATTACH;FMTTYPE=image/jpeg:https://livingsnoqualmie.com/wp-content/uploads/2025/06/unnamed-1-1.jpg
END:VEVENT
END:VCALENDAR