BEGIN:VCALENDAR
VERSION:2.0
PRODID:-//Living Snoqualmie - ECPv6.15.20//NONSGML v1.0//EN
CALSCALE:GREGORIAN
METHOD:PUBLISH
X-WR-CALNAME:Living Snoqualmie
X-ORIGINAL-URL:https://livingsnoqualmie.com
X-WR-CALDESC:Events for Living Snoqualmie
REFRESH-INTERVAL;VALUE=DURATION:PT1H
X-Robots-Tag:noindex
X-PUBLISHED-TTL:PT1H
BEGIN:VTIMEZONE
TZID:America/Los_Angeles
BEGIN:DAYLIGHT
TZOFFSETFROM:-0800
TZOFFSETTO:-0700
TZNAME:PDT
DTSTART:20240310T100000
END:DAYLIGHT
BEGIN:STANDARD
TZOFFSETFROM:-0700
TZOFFSETTO:-0800
TZNAME:PST
DTSTART:20241103T090000
END:STANDARD
BEGIN:DAYLIGHT
TZOFFSETFROM:-0800
TZOFFSETTO:-0700
TZNAME:PDT
DTSTART:20250309T100000
END:DAYLIGHT
BEGIN:STANDARD
TZOFFSETFROM:-0700
TZOFFSETTO:-0800
TZNAME:PST
DTSTART:20251102T090000
END:STANDARD
BEGIN:DAYLIGHT
TZOFFSETFROM:-0800
TZOFFSETTO:-0700
TZNAME:PDT
DTSTART:20260308T100000
END:DAYLIGHT
BEGIN:STANDARD
TZOFFSETFROM:-0700
TZOFFSETTO:-0800
TZNAME:PST
DTSTART:20261101T090000
END:STANDARD
END:VTIMEZONE
BEGIN:VEVENT
DTSTART;TZID=America/Los_Angeles:20250517T090000
DTEND;TZID=America/Los_Angeles:20250517T120000
DTSTAMP:20260423T024044
CREATED:20250414T164537Z
LAST-MODIFIED:20250414T164537Z
UID:60218-1747472400-1747483200@livingsnoqualmie.com
SUMMARY:Carnation Farms Wedding Flower Design
DESCRIPTION:Wedding Flower Design\n\n\nMay 17 @ 9:00 am – 12:00 pm\n\nEvent Category: Classes & Workshops\n\n\nSave the Date: Tickets Available Soon! \nWhether you’re planning a large wedding or an elopement\, join us at Carnation Farms to learn the building blocks of floral design most often used for wedding ceremonies and celebrations. With hands on teaching\, you will create and take home a:\n-Bridal Bouquet\n-Boutonnière\n-Corsage \nThis workshop is designed for any adult planning or helping plan a wedding with interest in designing the flowers. Whether you want to DIY\, or are already a designer that wants to add skills\, you will also learn:\n-Planning & calculating floral amounts you need to order for the size of the wedding.\n-Calculate the quantities of vases\, mechanical items\, candles\, ribbons and other accessories\n-Time you need to budget for the preparation ahead of time\n-Time you need to budget for the day of the event\n-How to select fresh\, seasonal materials that will last \nIncluded in the class will be:\n-All necessary flowers and greenery.\n-Mechanical materials to build each design.\n-Clippers\, scissors\, ribbon\, etc. for finishing each design.\n-A simple vase to take your work home with you.\n-Hands-on instruction and written materials to take home with you; as well as a link to online information.\n-Some surprise seasonal textural elements to elevate your designs above the ordinary! \nAs part of this class\, we will also be using local & seasonal flowers\, and foam free design. This is part of our business commitment to healthy\, sustainable farmland; supporting local farmers and small businesses; keeping microplastics out of our water systems. We also truly believe that this approach creates beautiful\, natural floral designs that raise the aesthetic of any event to the next level!
URL:https://livingsnoqualmie.com/event/carnation-farms-wedding-flower-design/
LOCATION:Carnation Farms\, 8901 NE Carnation Farm Road\, Carnation\, WA\, 98014\, United States
ORGANIZER;CN="Carnation Farms":MAILTO:info@carnationfarms.org
END:VEVENT
BEGIN:VEVENT
DTSTART;TZID=America/Los_Angeles:20250517T090000
DTEND;TZID=America/Los_Angeles:20250517T120000
DTSTAMP:20260423T024044
CREATED:20250419T192728Z
LAST-MODIFIED:20250419T192728Z
UID:60308-1747472400-1747483200@livingsnoqualmie.com
SUMMARY:City of Carnation- Nick Loutsis Park Cleanup Day
DESCRIPTION:Join the City of Carnation for Nick Loutsis Park Cleanup Day \nDate: Saturday\, May 17\, 2025Time: 9:00 AM – 12:00 PMLocation: Nick Loutsis Park(32401 E Entwistle St\, Carnation\, WA 98014) \nEquipment you can bring: Yard/landscaping tools\, wheelbarrows\, gloves
URL:https://livingsnoqualmie.com/event/city-of-carnation-nick-loutsis-park-cleanup-day/
LOCATION:Nick Loutsis Park\, 32401 Entwistle St.\, Carnation\, WA\, 98014\, United States
ATTACH;FMTTYPE=image/png:https://livingsnoqualmie.com/wp-content/uploads/2025/04/unnamed-2-2.png
END:VEVENT
BEGIN:VEVENT
DTSTART;TZID=America/Los_Angeles:20250517T090000
DTEND;TZID=America/Los_Angeles:20250517T120000
DTSTAMP:20260423T024044
CREATED:20250510T164736Z
LAST-MODIFIED:20250510T164806Z
UID:60731-1747472400-1747483200@livingsnoqualmie.com
SUMMARY:Mountains to Sound Greenway Trust Restoration in Fall City
DESCRIPTION:Join us for restoration in Fall City! We will be mulching around plants\, creating fencing to protect trees\, and removing some blackberry.\nOpen to all ages. An adult must accompany participants under 13 years old.\n\n\nWhat to BringFor safety\, volunteers are required to wear: \n\nLong pants made of sturdy material\nSturdy\, close-toed shoes\nGloves (provided)\n\nIn addition\, we recommend that participants bring: \n\nWarm layers\, especially during the fall\, winter\, and spring\nRain gear\nSnacks for breaks\nLong-sleeved shirt\nAt least one full water bottle\nSmall daypack for food\, extra layers\, etc…\n\nDriving DirectionsPlease carpool to the location if possible; there is limited parking space. Zurfleuh Boat Launch is closest place for public to park without access through gate. You will need a Discover Pass to park here. If you do not have one\, one can be provided by Greenway staff the day of. The gate will be opened by Greenway staff members and they will let you know further directions if needed. Google link: https://goo.gl/maps/sFxhbdFmAtpG7P7w7
URL:https://livingsnoqualmie.com/event/mountains-to-sound-greenway-trust-restoration-in-fall-city/
LOCATION:Snoqualmie River RV Park
END:VEVENT
BEGIN:VEVENT
DTSTART;TZID=America/Los_Angeles:20250517T090000
DTEND;TZID=America/Los_Angeles:20250517T140000
DTSTAMP:20260423T024044
CREATED:20250514T204920Z
LAST-MODIFIED:20250514T204920Z
UID:60787-1747472400-1747490400@livingsnoqualmie.com
SUMMARY:Friends of the Fall City Library Plant & Book Sale
DESCRIPTION:Friends of the Fall City LibraryPlant & Book SaleSaturday\, May 17\, 9 am–2 pmFall City Library Parking Lot \nSupport your library!Purchase beautiful plants for your yard.Purchase used books\,DVDs and CDs at bargain prices.Proceeds assist inlibrary programming. \nFall City Library • 33415 SE 42nd Place • Fall City\, WA 98024 • 425.222.5951 kcls.org
URL:https://livingsnoqualmie.com/event/friends-of-the-fall-city-library-plant-book-sale/
LOCATION:Fall City Library\, 33415 SE 42nd Place\, Fall City\, WA\, 98024\, United States
ATTACH;FMTTYPE=image/jpeg:https://livingsnoqualmie.com/wp-content/uploads/2025/05/498241272_10237502527887754_8401805593735633957_n.jpg
END:VEVENT
BEGIN:VEVENT
DTSTART;TZID=America/Los_Angeles:20250517T120000
DTEND;TZID=America/Los_Angeles:20250517T160000
DTSTAMP:20260423T024044
CREATED:20250509T184714Z
LAST-MODIFIED:20250509T184714Z
UID:60713-1747483200-1747497600@livingsnoqualmie.com
SUMMARY:Seattle Mountain Rescue SMR Social 2025
DESCRIPTION:Seattle Mountain Rescue\nSMR Social 2025 \nClimb on! for National SAR Week & raise funds for SMR \nAll adventures lead to\nVolition Brewing Co\nNorth Bend\, WA \n11th Essential Pale Ale! \n17 May\nSaturday – Noon to 4 PM\nVolition Brewery | North Bend\, WA \nLaunch of the 11th Essential Pale Ale & SMR fundraiser & rafflewww.seattlemountainrescue.org & www.volitionbrewing.com \n 
URL:https://livingsnoqualmie.com/event/seattle-mountain-rescue-smr-social-2025/
LOCATION:Volition Brewery\, 112 W. North Bend Way\, North Bend\, 98045\, United States
ATTACH;FMTTYPE=image/jpeg:https://livingsnoqualmie.com/wp-content/uploads/2025/05/IMG_1999-1.jpg
ORGANIZER;CN="Seattle Mountain Rescue":MAILTO:info@seattlemountainrescue.org
END:VEVENT
END:VCALENDAR