BEGIN:VCALENDAR
VERSION:2.0
PRODID:-//Living Snoqualmie - ECPv6.15.20//NONSGML v1.0//EN
CALSCALE:GREGORIAN
METHOD:PUBLISH
X-ORIGINAL-URL:https://livingsnoqualmie.com
X-WR-CALDESC:Events for Living Snoqualmie
REFRESH-INTERVAL;VALUE=DURATION:PT1H
X-Robots-Tag:noindex
X-PUBLISHED-TTL:PT1H
BEGIN:VTIMEZONE
TZID:America/Los_Angeles
BEGIN:DAYLIGHT
TZOFFSETFROM:-0800
TZOFFSETTO:-0700
TZNAME:PDT
DTSTART:20240310T100000
END:DAYLIGHT
BEGIN:STANDARD
TZOFFSETFROM:-0700
TZOFFSETTO:-0800
TZNAME:PST
DTSTART:20241103T090000
END:STANDARD
BEGIN:DAYLIGHT
TZOFFSETFROM:-0800
TZOFFSETTO:-0700
TZNAME:PDT
DTSTART:20250309T100000
END:DAYLIGHT
BEGIN:STANDARD
TZOFFSETFROM:-0700
TZOFFSETTO:-0800
TZNAME:PST
DTSTART:20251102T090000
END:STANDARD
BEGIN:DAYLIGHT
TZOFFSETFROM:-0800
TZOFFSETTO:-0700
TZNAME:PDT
DTSTART:20260308T100000
END:DAYLIGHT
BEGIN:STANDARD
TZOFFSETFROM:-0700
TZOFFSETTO:-0800
TZNAME:PST
DTSTART:20261101T090000
END:STANDARD
END:VTIMEZONE
BEGIN:VEVENT
DTSTART;TZID=America/Los_Angeles:20250501T100000
DTEND;TZID=America/Los_Angeles:20250503T180000
DTSTAMP:20260423T024054
CREATED:20250415T220248Z
LAST-MODIFIED:20250415T220248Z
UID:60252-1746093600-1746295200@livingsnoqualmie.com
SUMMARY:North Bend Friends of the Library Book Sale
DESCRIPTION:The North Bend Friends of the Library book sale begins at 10 AM on Thursday\, May 1st. \nAll proceeds from the book sale benefit programs for the North Bend Library. \nHardcover and paperback books\, children’s books\, home school materials\, CDs\, DVDs\, and audio books are offered for sale. \nChildren’s book prices range from 25 cents to $2. Hardcover books are $2. Paperback books are $1. Other special books are also available. \nThe book sale runs from Thursday\, May 1st\, through Saturday\, May 3rd. \nThursday and Friday book sale hours are 10 AM to 6 PM. \nBook sale hours on Saturday are 11 AM to 6 PM. \nCash\, local checks with identification\, and Venmo are preferred payments. \nThe North Bend Library is located at 115 E Fourth St. \nFor more information\, please contact the North Bend Library at 425-888-0554. \nThe Friends of the North Bend Library book sales support the following events: Aging Well Learning Community\, Chess Club\, Children’s Book Swaps\, Family Game Nights\, Sno-Valley Youth Council\, Valley Reads\, Summer Reading Programs\, Puzzle Swaps\, and more. \n  \n \n  \n  \n  \n  \n 
URL:https://livingsnoqualmie.com/event/north-bend-friends-of-the-library-book-sale/
LOCATION:North Bend Library\, 115 E 4th St\, North Bend\, WA\, 98045\, United States
END:VEVENT
BEGIN:VEVENT
DTSTART;TZID=America/Los_Angeles:20250503T060000
DTEND;TZID=America/Los_Angeles:20250503T100000
DTSTAMP:20260423T024054
CREATED:20250426T163844Z
LAST-MODIFIED:20250426T163844Z
UID:60442-1746252000-1746266400@livingsnoqualmie.com
SUMMARY:Mt. Si Fish & Game Club's Annual Kids Trout Derby
DESCRIPTION:Kids Trout Derby – Saturday\, May 3 \nThe Snoqualmie Police Department is hosting the Mt. Si Fish & Game Club’s Annual Kids Trout Derby on Saturday\, May 3\, from sunrise to 10 AM. \nThis free\, fun-filled event is open to all children 14 and under. It’s a great opportunity for kids to enjoy the outdoors\, try their luck at catching some trout\, and maybe even win prizes! \n📍 Location: The ponds behind the Snoqualmie Police Department\, 34825 SE Douglas Street▪ Participants must bring their own fishing poles and supplies. \nBring the kids out for a morning of fishing\, fun\, and fresh air!
URL:https://livingsnoqualmie.com/event/mt-si-fish-game-clubs-annual-kids-trout-derby/
LOCATION:Pond\, 34825 SE Douglas Street\, Snoqualmie\, WA\, 98065\, United States
ATTACH;FMTTYPE=image/jpeg:https://livingsnoqualmie.com/wp-content/uploads/2025/04/492531059_1066238695532565_2327660497337544361_n.jpg
END:VEVENT
BEGIN:VEVENT
DTSTART;TZID=America/Los_Angeles:20250503T100000
DTEND;TZID=America/Los_Angeles:20250503T160000
DTSTAMP:20260423T024054
CREATED:20250414T162109Z
LAST-MODIFIED:20250414T162109Z
UID:60212-1746266400-1746288000@livingsnoqualmie.com
SUMMARY:Carnation Farms Spring Market and Plant Sale
DESCRIPTION:Spring Market and Plant Sale\n\n\nMay 3 @ 10:00 am – 4:00 pm\n\n\n\nJoin us at Carnation Farms to celebrate Spring! We will be hosting our annual Spring Market and Plant Sale down in our Lower Farm area on May 3rd from 10am-4pm. \nEnjoy hot food from the outdoor pizza oven\, farmer-led tours around the crops\, and begin your spring garden with some plant-starts from our greenhouses. Check out our sheep in the field and snap a picture of your little ones sitting on a historic tractor. \nPlenty of fun for the whole family! (but please leave your pets at home). \nNeed a gift for Mother’s Day? Over 20 local artisan vendors will be available with their hand-made products for purchase. Homemade soaps\, clothes\, art\, sweets\, gifts\, and more! \nVendor applications are closed at this time.
URL:https://livingsnoqualmie.com/event/carnation-farms-spring-market-and-plant-sale/
LOCATION:Carnation Farms\, 8901 NE Carnation Farm Road\, Carnation\, WA\, 98014\, United States
ORGANIZER;CN="Carnation Farms":MAILTO:info@carnationfarms.org
END:VEVENT
END:VCALENDAR