BEGIN:VCALENDAR
VERSION:2.0
PRODID:-//Living Snoqualmie - ECPv6.15.20//NONSGML v1.0//EN
CALSCALE:GREGORIAN
METHOD:PUBLISH
X-ORIGINAL-URL:https://livingsnoqualmie.com
X-WR-CALDESC:Events for Living Snoqualmie
REFRESH-INTERVAL;VALUE=DURATION:PT1H
X-Robots-Tag:noindex
X-PUBLISHED-TTL:PT1H
BEGIN:VTIMEZONE
TZID:America/Los_Angeles
BEGIN:DAYLIGHT
TZOFFSETFROM:-0800
TZOFFSETTO:-0700
TZNAME:PDT
DTSTART:20240310T100000
END:DAYLIGHT
BEGIN:STANDARD
TZOFFSETFROM:-0700
TZOFFSETTO:-0800
TZNAME:PST
DTSTART:20241103T090000
END:STANDARD
BEGIN:DAYLIGHT
TZOFFSETFROM:-0800
TZOFFSETTO:-0700
TZNAME:PDT
DTSTART:20250309T100000
END:DAYLIGHT
BEGIN:STANDARD
TZOFFSETFROM:-0700
TZOFFSETTO:-0800
TZNAME:PST
DTSTART:20251102T090000
END:STANDARD
BEGIN:DAYLIGHT
TZOFFSETFROM:-0800
TZOFFSETTO:-0700
TZNAME:PDT
DTSTART:20260308T100000
END:DAYLIGHT
BEGIN:STANDARD
TZOFFSETFROM:-0700
TZOFFSETTO:-0800
TZNAME:PST
DTSTART:20261101T090000
END:STANDARD
END:VTIMEZONE
BEGIN:VEVENT
DTSTART;TZID=America/Los_Angeles:20250420T081500
DTEND;TZID=America/Los_Angeles:20250420T110000
DTSTAMP:20260423T043447
CREATED:20250403T204705Z
LAST-MODIFIED:20250403T204705Z
UID:60012-1745136900-1745146800@livingsnoqualmie.com
SUMMARY:Easter at Church on the ridge
DESCRIPTION:Easter at Church on the ridge \nCelebrate Easter on April 20! \nYou’ll experience a welcoming atmosphere and a powerful message of hope. The kids will have a blast with activities designed specifically for them.  \n\nThree Gathering Times @ 8:15\, 9:30\, and 11:00 am\nLive Band\nFamily Photo Booth\nFree Coffee\nFun Kids Experience\n\nWe can’t wait to meet you this Easter!
URL:https://livingsnoqualmie.com/event/easter-at-church-on-the-ridge/
LOCATION:Church on the Ridge\, 35221 SE Douglas St\,\, Snoqualmie\, WA\, 98065\, United States
ORGANIZER;CN="Church on the Ridge":MAILTO:info@churchontheridge.org
END:VEVENT
END:VCALENDAR