BEGIN:VCALENDAR
VERSION:2.0
PRODID:-//Living Snoqualmie - ECPv6.15.20//NONSGML v1.0//EN
CALSCALE:GREGORIAN
METHOD:PUBLISH
X-WR-CALNAME:Living Snoqualmie
X-ORIGINAL-URL:https://livingsnoqualmie.com
X-WR-CALDESC:Events for Living Snoqualmie
REFRESH-INTERVAL;VALUE=DURATION:PT1H
X-Robots-Tag:noindex
X-PUBLISHED-TTL:PT1H
BEGIN:VTIMEZONE
TZID:America/Los_Angeles
BEGIN:DAYLIGHT
TZOFFSETFROM:-0800
TZOFFSETTO:-0700
TZNAME:PDT
DTSTART:20240310T100000
END:DAYLIGHT
BEGIN:STANDARD
TZOFFSETFROM:-0700
TZOFFSETTO:-0800
TZNAME:PST
DTSTART:20241103T090000
END:STANDARD
BEGIN:DAYLIGHT
TZOFFSETFROM:-0800
TZOFFSETTO:-0700
TZNAME:PDT
DTSTART:20250309T100000
END:DAYLIGHT
BEGIN:STANDARD
TZOFFSETFROM:-0700
TZOFFSETTO:-0800
TZNAME:PST
DTSTART:20251102T090000
END:STANDARD
BEGIN:DAYLIGHT
TZOFFSETFROM:-0800
TZOFFSETTO:-0700
TZNAME:PDT
DTSTART:20260308T100000
END:DAYLIGHT
BEGIN:STANDARD
TZOFFSETFROM:-0700
TZOFFSETTO:-0800
TZNAME:PST
DTSTART:20261101T090000
END:STANDARD
END:VTIMEZONE
BEGIN:VEVENT
DTSTART;TZID=America/Los_Angeles:20250419T090000
DTEND;TZID=America/Los_Angeles:20250419T120000
DTSTAMP:20260423T024044
CREATED:20250403T210150Z
LAST-MODIFIED:20250403T210150Z
UID:60019-1745053200-1745064000@livingsnoqualmie.com
SUMMARY:Si View Easter Egg Huntnd Pancake Breakfast
DESCRIPTION:Si View Easter \nEaster Egg Hunt – Saturday\, April 19: 9 AM\nLocation: Si View Park \nSponsored by Moose Lodge\n \nAll elementary school-age children and younger are welcome to participate in this popular egg hunt. The event starts at 9 AM sharp with a pancake breakfast following the Easter Egg Hunt at the Snoqualmie Valley Moose Lodge at 108 Sydney Ave N. in North Bend. Participants are divided into five age groups to ensure fun for everyone! \nFree! \n 
URL:https://livingsnoqualmie.com/event/si-view-easter-egg-huntnd-pancake-breakfast/
LOCATION:Si View Park\, 400 SE Orchard Drive\, North Bend\, 98045\, United States
ORGANIZER;CN="Si View Metro Parks":MAILTO:info@siviewpark.org
END:VEVENT
BEGIN:VEVENT
DTSTART;TZID=America/Los_Angeles:20250419T100000
DTEND;TZID=America/Los_Angeles:20250419T100000
DTSTAMP:20260423T024044
CREATED:20250403T212624Z
LAST-MODIFIED:20250403T221521Z
UID:60030-1745056800-1745056800@livingsnoqualmie.com
SUMMARY:City of Snoqualmie Bunny Hop Egg Hunt
DESCRIPTION:Bunny Hop Egg Hunt\, Saturday\, April 19\, 10 am for Ages 1-12 \nThis popular egg hunt traditionally happens the Saturday before Easter each year\, complete with Mr. Bunny riding into the park on a Snoqualmie fire engine. Thousands of eggs are placed on the field in age groups. Parents are welcome to help the little ones. Be warned: The hunt usually doesn’t take long due to the event’s popularity and the large number of children residing in Snoqualmie. Arrive early; the hunt starts at 10 a.m. SHARP. \n \n  \n 
URL:https://livingsnoqualmie.com/event/city-of-snoqualmie-bunny-hop-egg-hunt/
LOCATION:Centennial Fields\, 39903 SE Park Street\, Snoqualmie\, WA\, 98065\, United States
END:VEVENT
BEGIN:VEVENT
DTSTART;TZID=America/Los_Angeles:20250419T100000
DTEND;TZID=America/Los_Angeles:20250419T130000
DTSTAMP:20260423T024044
CREATED:20250403T203401Z
LAST-MODIFIED:20250403T203401Z
UID:60006-1745056800-1745067600@livingsnoqualmie.com
SUMMARY:Juliane Henry's Equestrian Easter Event
DESCRIPTION:Easter Event\nSaturday\, April 19th\nDoors open at 10 am\nThe egg hunt starts at 10:30 am \nJuliane Henry’s Equestrian\n42320 SE Reinig Road\nSnoqualmie\, 98065 \nEaster Egg-hunt\nOver 2000 eggs\n🐣 Golden Easter egg (win a riding lesson or summer camp spot) \nPetting zoo with bunnies\, goats\, pigs\, chicks & ducks \nPony rides\n$10 pony ride
URL:https://livingsnoqualmie.com/event/juliane-henrys-equestrian-easter-event/
LOCATION:Juliane Henry’s Equestrian\, 42320 SE Reinig Road\, Snoqualmie\, WA\, 98065\, United States
ORGANIZER;CN="Juliane Henry's Equestrian":MAILTO:juliane.henry@hotmail.com
END:VEVENT
BEGIN:VEVENT
DTSTART;TZID=America/Los_Angeles:20250419T103000
DTEND;TZID=America/Los_Angeles:20250419T113000
DTSTAMP:20260423T024044
CREATED:20250403T221020Z
LAST-MODIFIED:20250403T221020Z
UID:60033-1745058600-1745062200@livingsnoqualmie.com
SUMMARY:City of Snoqualmie Downtown is Hopping
DESCRIPTION:Downtown is Hopping  \nApril 19\, 10:30 – 11:30 am- This annual event occurs over Easter weekend in the historic downtown shopping district.  Head downtown with the kids and look for participating businesses to receive a special treat and possibly enjoy fun activities.
URL:https://livingsnoqualmie.com/event/city-of-snoqualmie-downtown-is-hopping/
LOCATION:Downtown Snoqualmie
END:VEVENT
BEGIN:VEVENT
DTSTART;TZID=America/Los_Angeles:20250419T103000
DTEND;TZID=America/Los_Angeles:20250419T120000
DTSTAMP:20260423T024044
CREATED:20250119T181922Z
LAST-MODIFIED:20250119T181922Z
UID:58982-1745058600-1745064000@livingsnoqualmie.com
SUMMARY:Bow Wow Easter Egg Hunt
DESCRIPTION:Bow Wow Easter Egg Hunt \n\n\n\n\n\nEvent by SVPS – Sno Valley Pet Services\n\n\n\n\n\n\n\n\n\n\n\nThree Forks Off-Leash Dog Park\n\n\n\n\n\n\n\n\n\n\n\n\n\n\nJoin them for some Easter fun!\nWe’ll have eggs filled with dog treats\, pet pics with the Easter bunny\, chance drawings and more!\nProceeds benefit Sno Valley Pet Services\, a 501c3 charitable organization.
URL:https://livingsnoqualmie.com/event/bow-wow-easter-egg-hunt/
LOCATION:Three Forks Dog Park\, 39903 SE Park Street\, Snoqualmie\, WA\, 98065\, United States
END:VEVENT
BEGIN:VEVENT
DTSTART;TZID=America/Los_Angeles:20250419T130000
DTEND;TZID=America/Los_Angeles:20250419T160000
DTSTAMP:20260423T024044
CREATED:20250403T223140Z
LAST-MODIFIED:20250403T223140Z
UID:60040-1745067600-1745078400@livingsnoqualmie.com
SUMMARY: 2025 Duvall Easter Egg Hun
DESCRIPTION:Hop on down for the annual town Easter Egg Hunt in Duvall! For the first time\, it will be held at Dougherty Farmstead. There will be food\, activities\, and tons of fun. Join your community the day before Easter\, Saturday\, April 19th\, from 1 to 4 p.m. All are welcome—newcomers and old-timers alike! Egg hunts begin at 2 p.m. (there are three age groups).  \nThis is a free event. Thank you to the Duvall Historical Society and the City of Duvall\, which have provided many incredible community sponsors. It’s going to be historic! Visit duvalleaster.com for more information. \nThis is THE town egg hunt\, and it is moving from McCormick Park. On your way\, stop by the Earth & Arbor Day Festival at Depot Park! \n \nQuestions\, please contact Lauren Zetting w/ Duvall Historical Society at laurenzetting@gmail.com.
URL:https://livingsnoqualmie.com/event/2025-duvall-easter-egg-hun/
LOCATION:Dougherty Farmstead\, 26524 NE Cherry Valley Road\, Duvall\, WA\, 98019\, United States
END:VEVENT
END:VCALENDAR