BEGIN:VCALENDAR
VERSION:2.0
PRODID:-//Living Snoqualmie - ECPv6.15.20//NONSGML v1.0//EN
CALSCALE:GREGORIAN
METHOD:PUBLISH
X-WR-CALNAME:Living Snoqualmie
X-ORIGINAL-URL:https://livingsnoqualmie.com
X-WR-CALDESC:Events for Living Snoqualmie
REFRESH-INTERVAL;VALUE=DURATION:PT1H
X-Robots-Tag:noindex
X-PUBLISHED-TTL:PT1H
BEGIN:VTIMEZONE
TZID:America/Los_Angeles
BEGIN:DAYLIGHT
TZOFFSETFROM:-0800
TZOFFSETTO:-0700
TZNAME:PDT
DTSTART:20240310T100000
END:DAYLIGHT
BEGIN:STANDARD
TZOFFSETFROM:-0700
TZOFFSETTO:-0800
TZNAME:PST
DTSTART:20241103T090000
END:STANDARD
BEGIN:DAYLIGHT
TZOFFSETFROM:-0800
TZOFFSETTO:-0700
TZNAME:PDT
DTSTART:20250309T100000
END:DAYLIGHT
BEGIN:STANDARD
TZOFFSETFROM:-0700
TZOFFSETTO:-0800
TZNAME:PST
DTSTART:20251102T090000
END:STANDARD
BEGIN:DAYLIGHT
TZOFFSETFROM:-0800
TZOFFSETTO:-0700
TZNAME:PDT
DTSTART:20260308T100000
END:DAYLIGHT
BEGIN:STANDARD
TZOFFSETFROM:-0700
TZOFFSETTO:-0800
TZNAME:PST
DTSTART:20261101T090000
END:STANDARD
END:VTIMEZONE
BEGIN:VEVENT
DTSTART;TZID=America/Los_Angeles:20250411T130000
DTEND;TZID=America/Los_Angeles:20250411T160000
DTSTAMP:20260423T024043
CREATED:20250407T161703Z
LAST-MODIFIED:20250407T161703Z
UID:60104-1744376400-1744387200@livingsnoqualmie.com
SUMMARY:North Bend Go Club Mt Si Senior Center
DESCRIPTION:North Bend Go Club\nMt Si Senior Center \nBill Chiles\, the president of the Seattle Go Center\, is retiring to North Bend to be near his daughter and grandchild. He is working with the Mt. Si Senior Center to get a regular Go group. He has been running an all-ages Go meetup at the Senior Center every Friday from 1 to 4. \nAll ages and experience levels welcome (parents must attend with children)\nFree \nhttps://www.seattlego.org/ \nThis 4\,000-year-old strategy board game continues to fascinate players around the world.  Japanese professional Go player\, Iwamoto Kaoru Sensei\, created the Seattle Go Center (SGC) in 1995\, purchasing a property in the University District.
URL:https://livingsnoqualmie.com/event/north-bend-go-club-mt-si-senior-center/
LOCATION:Mt Si Senior Center\, 411 Main Ave S\, North Bend\, WA\, 98045\, United States
END:VEVENT
END:VCALENDAR