BEGIN:VCALENDAR
VERSION:2.0
PRODID:-//Living Snoqualmie - ECPv6.15.20//NONSGML v1.0//EN
CALSCALE:GREGORIAN
METHOD:PUBLISH
X-ORIGINAL-URL:https://livingsnoqualmie.com
X-WR-CALDESC:Events for Living Snoqualmie
REFRESH-INTERVAL;VALUE=DURATION:PT1H
X-Robots-Tag:noindex
X-PUBLISHED-TTL:PT1H
BEGIN:VTIMEZONE
TZID:America/Los_Angeles
BEGIN:DAYLIGHT
TZOFFSETFROM:-0800
TZOFFSETTO:-0700
TZNAME:PDT
DTSTART:20240310T100000
END:DAYLIGHT
BEGIN:STANDARD
TZOFFSETFROM:-0700
TZOFFSETTO:-0800
TZNAME:PST
DTSTART:20241103T090000
END:STANDARD
BEGIN:DAYLIGHT
TZOFFSETFROM:-0800
TZOFFSETTO:-0700
TZNAME:PDT
DTSTART:20250309T100000
END:DAYLIGHT
BEGIN:STANDARD
TZOFFSETFROM:-0700
TZOFFSETTO:-0800
TZNAME:PST
DTSTART:20251102T090000
END:STANDARD
BEGIN:DAYLIGHT
TZOFFSETFROM:-0800
TZOFFSETTO:-0700
TZNAME:PDT
DTSTART:20260308T100000
END:DAYLIGHT
BEGIN:STANDARD
TZOFFSETFROM:-0700
TZOFFSETTO:-0800
TZNAME:PST
DTSTART:20261101T090000
END:STANDARD
END:VTIMEZONE
BEGIN:VEVENT
DTSTART;TZID=America/Los_Angeles:20250405T130000
DTEND;TZID=America/Los_Angeles:20250405T160000
DTSTAMP:20260423T024101
CREATED:20250326T161326Z
LAST-MODIFIED:20250326T161326Z
UID:59882-1743858000-1743868800@livingsnoqualmie.com
SUMMARY:Mt. Si Artist Guild Small Works Show Reception & Gallery Open House
DESCRIPTION:  \nArt Gallery of SnoValley \nJoin us for the Mt. Si Artist Guild\nSmall Works Show Reception\n& Gallery Open House\nwith our esteemed juror\,\nNed Mueller\, AIS and OPA Master\nApril 5\, 2025\, 1–4 pm \nThe Awards Ceremony will be from 1–2 pm\nThe Gallery Open House will be from 2–4 pm\nThe exhibition runs from April 1 to 30\, 2025\n8130 Railroad Ave Snoqualmie\, WA 98065
URL:https://livingsnoqualmie.com/event/mt-si-artist-guild-small-works-show-reception-gallery-open-house/
LOCATION:Art Gallery Sno Valley\, 8130 Railroad Ave SE\, Snoqualmie\, WA\, 98065\, United States
END:VEVENT
END:VCALENDAR