BEGIN:VCALENDAR
VERSION:2.0
PRODID:-//Living Snoqualmie - ECPv6.15.20//NONSGML v1.0//EN
CALSCALE:GREGORIAN
METHOD:PUBLISH
X-ORIGINAL-URL:https://livingsnoqualmie.com
X-WR-CALDESC:Events for Living Snoqualmie
REFRESH-INTERVAL;VALUE=DURATION:PT1H
X-Robots-Tag:noindex
X-PUBLISHED-TTL:PT1H
BEGIN:VTIMEZONE
TZID:America/Los_Angeles
BEGIN:DAYLIGHT
TZOFFSETFROM:-0800
TZOFFSETTO:-0700
TZNAME:PDT
DTSTART:20240310T100000
END:DAYLIGHT
BEGIN:STANDARD
TZOFFSETFROM:-0700
TZOFFSETTO:-0800
TZNAME:PST
DTSTART:20241103T090000
END:STANDARD
BEGIN:DAYLIGHT
TZOFFSETFROM:-0800
TZOFFSETTO:-0700
TZNAME:PDT
DTSTART:20250309T100000
END:DAYLIGHT
BEGIN:STANDARD
TZOFFSETFROM:-0700
TZOFFSETTO:-0800
TZNAME:PST
DTSTART:20251102T090000
END:STANDARD
BEGIN:DAYLIGHT
TZOFFSETFROM:-0800
TZOFFSETTO:-0700
TZNAME:PDT
DTSTART:20260308T100000
END:DAYLIGHT
BEGIN:STANDARD
TZOFFSETFROM:-0700
TZOFFSETTO:-0800
TZNAME:PST
DTSTART:20261101T090000
END:STANDARD
END:VTIMEZONE
BEGIN:VEVENT
DTSTART;TZID=America/Los_Angeles:20250329T100000
DTEND;TZID=America/Los_Angeles:20250329T120000
DTSTAMP:20260423T043443
CREATED:20250208T220032Z
LAST-MODIFIED:20250208T220032Z
UID:59246-1743242400-1743249600@livingsnoqualmie.com
SUMMARY:Carnation Farms-Hands-On Habitat: An Ecological Restoration Work Party
DESCRIPTION:Hands-On Habitat: an Ecological Restoration Work Party\n\n\nMarch 29 @ 10:00 am – 12:00 pm\n\n\n\nJoin us for a hands-on Ecological Restoration Work Party\, with Stewardship Partners\, where you’ll learn about riparian restoration\, elk co-habitation\, salmon ecosystems\, and erosion control—while making a real impact on the land! \nWe’ll start at our Outdoor Classroom with a brief introduction to local restoration efforts on Farm\, and across the Snoqualmie Valley\, before embarking on a guided walk\, exploring the connections between waterways\, wildlife\, and plant life. Then\, roll up your sleeves for an hour of hands-on restoration work\, cutting back invasive species and reinforcing previously planted native flora. We’ll wrap up with a walk back to the Classroom for a debrief\, reflections\, and take-home resources to continue your learning.  Each group will get to pot your own native plant to take home! \nWhether you’re passionate about conservation or just looking to get outside and give back\, this is a great opportunity to engage with the land\, meet like-minded community members\, and be part of the restoration movement. \nAll ages and experience levels welcome—let’s restore and learn together!
URL:https://livingsnoqualmie.com/event/carnation-farms-hands-on-habitat-an-ecological-restoration-work-party/
LOCATION:Carnation Farms\, 8901 NE Carnation Farm Road\, Carnation\, WA\, 98014\, United States
ORGANIZER;CN="Carnation Farms":MAILTO:info@carnationfarms.org
END:VEVENT
END:VCALENDAR