BEGIN:VCALENDAR
VERSION:2.0
PRODID:-//Living Snoqualmie - ECPv6.15.20//NONSGML v1.0//EN
CALSCALE:GREGORIAN
METHOD:PUBLISH
X-ORIGINAL-URL:https://livingsnoqualmie.com
X-WR-CALDESC:Events for Living Snoqualmie
REFRESH-INTERVAL;VALUE=DURATION:PT1H
X-Robots-Tag:noindex
X-PUBLISHED-TTL:PT1H
BEGIN:VTIMEZONE
TZID:America/Los_Angeles
BEGIN:DAYLIGHT
TZOFFSETFROM:-0800
TZOFFSETTO:-0700
TZNAME:PDT
DTSTART:20240310T100000
END:DAYLIGHT
BEGIN:STANDARD
TZOFFSETFROM:-0700
TZOFFSETTO:-0800
TZNAME:PST
DTSTART:20241103T090000
END:STANDARD
BEGIN:DAYLIGHT
TZOFFSETFROM:-0800
TZOFFSETTO:-0700
TZNAME:PDT
DTSTART:20250309T100000
END:DAYLIGHT
BEGIN:STANDARD
TZOFFSETFROM:-0700
TZOFFSETTO:-0800
TZNAME:PST
DTSTART:20251102T090000
END:STANDARD
BEGIN:DAYLIGHT
TZOFFSETFROM:-0800
TZOFFSETTO:-0700
TZNAME:PDT
DTSTART:20260308T100000
END:DAYLIGHT
BEGIN:STANDARD
TZOFFSETFROM:-0700
TZOFFSETTO:-0800
TZNAME:PST
DTSTART:20261101T090000
END:STANDARD
END:VTIMEZONE
BEGIN:VEVENT
DTSTART;TZID=America/Los_Angeles:20250315T180000
DTEND;TZID=America/Los_Angeles:20250315T200000
DTSTAMP:20260423T043503
CREATED:20250208T195706Z
LAST-MODIFIED:20250208T195706Z
UID:59237-1742061600-1742068800@livingsnoqualmie.com
SUMMARY:Carnation Farms-Barn Dance
DESCRIPTION:Carnation Farms-Barn Dance \n\nMarch 15 @ 6:00 pm – 8:00 pm\n\n\n\nKick up your heels and join us at Carnation Farms for a fun-filled night of dancing and community! \nLearn some new moves in our historic Hippodrome with Amanda Johnson\, owner of Snoqualmie Valley Line Dancing and a country dance instructor with over ten years of experience. Whether you’re a seasoned pro or a total beginner\, all skill levels are welcome! \nDoors open at 5:30 PM\nLine dance lesson starts at 6:00 PM\nOpen floor and guided dance until 8:00 PM \nDelicious food and drinks will be available for purchase from our friends at Alveare Winery\, NoWhere Craft Beverages\, and Big Block Brewery. Don’t miss this chance to dance the night away and connect with friends in this beautiful community!
URL:https://livingsnoqualmie.com/event/carnation-farms-barn-dance/
LOCATION:Carnation Farms\, 8901 NE Carnation Farm Road\, Carnation\, WA\, 98014\, United States
ORGANIZER;CN="Carnation Farms":MAILTO:info@carnationfarms.org
END:VEVENT
BEGIN:VEVENT
DTSTART;TZID=America/Los_Angeles:20250315T180000
DTEND;TZID=America/Los_Angeles:20250315T220000
DTSTAMP:20260423T043503
CREATED:20250301T212457Z
LAST-MODIFIED:20250301T212457Z
UID:59520-1742061600-1742076000@livingsnoqualmie.com
SUMMARY:BURST INTO SPRING WITH LAF
DESCRIPTION:🌸🎨 BURST INTO SPRING WITH LAF!  Join the Lee Arts Foundation for an unforgettable evening supporting the arts in Snoqualmie Valley! Enjoy live music\, a catered dinner\, exciting auctions\, and great company while giving back to the Lee Arts Foundation! Mark your calendars! \n📅 Date: Saturday\, March 15\, 2025📍 Location: Miller’s⏰ Time: 6-10 PM \nLet’s celebrate another year of art\, music\, and culture together!
URL:https://livingsnoqualmie.com/event/burst-into-spring-with-laf/
LOCATION:Miller’s Carnation\, 4597 Tolt Ave\, Carnation\, WA\, 98104\, United States
END:VEVENT
END:VCALENDAR