BEGIN:VCALENDAR
VERSION:2.0
PRODID:-//Living Snoqualmie - ECPv6.15.20//NONSGML v1.0//EN
CALSCALE:GREGORIAN
METHOD:PUBLISH
X-WR-CALNAME:Living Snoqualmie
X-ORIGINAL-URL:https://livingsnoqualmie.com
X-WR-CALDESC:Events for Living Snoqualmie
REFRESH-INTERVAL;VALUE=DURATION:PT1H
X-Robots-Tag:noindex
X-PUBLISHED-TTL:PT1H
BEGIN:VTIMEZONE
TZID:America/Los_Angeles
BEGIN:DAYLIGHT
TZOFFSETFROM:-0800
TZOFFSETTO:-0700
TZNAME:PDT
DTSTART:20240310T100000
END:DAYLIGHT
BEGIN:STANDARD
TZOFFSETFROM:-0700
TZOFFSETTO:-0800
TZNAME:PST
DTSTART:20241103T090000
END:STANDARD
BEGIN:DAYLIGHT
TZOFFSETFROM:-0800
TZOFFSETTO:-0700
TZNAME:PDT
DTSTART:20250309T100000
END:DAYLIGHT
BEGIN:STANDARD
TZOFFSETFROM:-0700
TZOFFSETTO:-0800
TZNAME:PST
DTSTART:20251102T090000
END:STANDARD
BEGIN:DAYLIGHT
TZOFFSETFROM:-0800
TZOFFSETTO:-0700
TZNAME:PDT
DTSTART:20260308T100000
END:DAYLIGHT
BEGIN:STANDARD
TZOFFSETFROM:-0700
TZOFFSETTO:-0800
TZNAME:PST
DTSTART:20261101T090000
END:STANDARD
END:VTIMEZONE
BEGIN:VEVENT
DTSTART;TZID=America/Los_Angeles:20250218T120000
DTEND;TZID=America/Los_Angeles:20250218T180000
DTSTAMP:20260423T063300
CREATED:20250111T180446Z
LAST-MODIFIED:20250111T180446Z
UID:58855-1739880000-1739901600@livingsnoqualmie.com
SUMMARY:City of Carnation-Mobile Blood Drive
DESCRIPTION:DATE: Tuesday\, February 18\, 2025 \nTIME: 12:00 PM – 6:00 PM \nLOCATION: Bloodmobile across the street from City Hall (4621 Tolt Avenue) \nClick the link to reserve your spot! \nBloodworks – Donor Portal \nAppointments are required for the best possible donation experience. Same-day appointments available at most locations. Photo ID required. \nFor safety\, we kindly request no visitors under 16 at our donation sites. Eat a hearty meal and drink plenty of fluids prior to donation.
URL:https://livingsnoqualmie.com/event/city-of-carnation-mobile-blood-drive/
LOCATION:Carnation City Hall\, 4621 Tolt Avenue\, Carnation\, WA\, 98014\, United States
ORGANIZER;CN="Bloodworks Northwest":MAILTO:schedule@bloodworksnw.org
END:VEVENT
END:VCALENDAR